{"text_format":"1","workbook":"xlsx","n_sheets":28,"sheets":["①派遣申請補助シート","②コミュ申請補助シート","申【様式１】（共通）","申報【様式２】（共通）","報【様式8】（共通）","申【様式３・４】（派遣）","【様式５・６】（コミュ）計算シート","報【様式９・１０】（派遣）","申【様式５・６】（コミュ）","報【様式１１・１２】 （コミュ）","申報【様式７】講師（派遣）","申報【様式７】①（共通）","申報【様式７】②（共通）","申報【様式７】③（共通）","申報【様式７】④（共通）","申報【様式７】⑤（共通）","申報【様式７】⑥（共通）","申報【様式７】⑦（共通）","申報【様式７】⑧（共通）","申報【様式７】⑨（共通）","申報【様式７】⑩（共通）","申報【様式７】⑪（共通）","申報【様式７】⑫（共通）","申報【様式７】⑬（共通）","申報【様式７】⑭（共通）","申報【様式７】⑮（共通）","【様式１１・１２】（コミュ）計算シート","選択肢"],"not_rendered":{"charts":0,"images":8,"macros":1,"external_links":0,"defined_names":61,"comments":1,"pivot_tables":0},"unopened":[],"bounds":{"document_bytes":16777216,"sheet_cells":100000,"rows_first":2000,"rows_last":500,"rows_between":2000,"halvings":0,"cell_chars":16384,"cell_head_chars":4096},"cells_cut":0,"cells_raw":0,"read":"whole","date_system":"1900"}

{"sheet":"①派遣申請補助シート","index":0,"n_rows":3,"n_cols":310,"rows_kept":3,"cut":false,"hidden":true,"merged":[]}
["NO.","都道府県・政令指定都市名","学校コード","実施校名","実施校名ふりがな","全校児童生徒","〒","実施校所在地","最寄り駅又はバス停","学校長名","担当者名","実施校TEL","メール","申請区分","実施分野","団体または講師名","04.備考欄　　申請に当たり特記事項がある場合は記入してください。特にない場合は空欄で構いません","本事業担当者名","団体名","メールアドレス","TEL","①講師に○","①氏名（本名）","①ふりがな","①芸名・活動名","①生年月日","①専門分野","①活動年数","②講師に○","②氏名（本名）","②ふりがな","②芸名・活動名","②生年月日","②専門分野","②活動年数","③講師に○","③氏名（本名）","③ふりがな","③芸名・活動名","③生年月日","③専門分野","③活動年数","④講師に○","④氏名（本名）","④ふりがな","④芸名・活動名","④生年月日","④専門分野","④活動年数","⑤講師に○","⑤氏名（本名）","⑤ふりがな","⑤芸名・活動名","⑤生年月日","⑤専門分野","⑤活動年数","⑥講師に○","⑥氏名（本名）","⑥ふりがな","⑥芸名・活動名","⑥生年月日","⑥専門分野","⑥活動年数","⑦講師に○","⑦氏名（本名）","⑦ふりがな","⑦芸名・活動名","⑦生年月日","⑦専門分野","⑦活動年数","⑧講師に○","⑧氏名（本名）","⑧ふりがな","⑧芸名・活動名","⑧生年月日","⑧専門分野","⑧活動年数","⑨講師に○","⑨氏名（本名）","⑨ふりがな","⑨芸名・活動名","⑨生年月日","⑨専門分野","⑨活動年数","⑩講師に○","⑩氏名（本名）","⑩ふりがな","⑩芸名・活動名","⑩生年月日","⑩専門分野","⑩活動年数","⑪講師に○","⑪氏名（本名）","⑪ふりがな","⑪芸名・活動名","⑪生年月日","⑪専門分野","⑪活動年数","⑫講師に○","⑫氏名（本名）","⑫ふりがな","⑫芸名・活動名","⑫生年月日","⑫専門分野","⑫活動年数","⑬講師に○","⑬氏名（本名）","⑬ふりがな","⑬芸名・活動名","⑬生年月日","⑬専門分野","⑬活動年数","⑭講師に○","⑭氏名（本名）","⑭ふりがな","⑭芸名・活動名","⑭生年月日","⑭専門分野","⑭活動年数","⑮講師に○","⑮氏名（本名）","⑮ふりがな","⑮芸名・活動名","⑮生年月日","⑮専門分野","⑮活動年数","実施会場","他校との合同開催の状況","大項目","中項目","分野その他","実施回数","講師氏名※本名","学校との関係","その他（","確認したら選択→","2.　前年度と同一分野・講師で実施する理由として最も当てはまる項目を選択してください","3.　具体的な理由を記してください。（100文字以上250文字以内）","第１回実施日時","第１回実施時間","第１回実施合計","第１回連続する実施","第１回連続都道府県・政令指定都市名","第１回連続学校名","第１回教科の位置付け","第１回位置づけ内訳","第１回著作権","第１回著作権許諾","第１回参加児童生徒","第１回参加児童生徒単位","第１回参加児童生徒単位内訳","第１回補助者①","第１回補助者①演奏","第１回補助者①実技指導","第１回補助者①単純労務","第１回補助者①謝金合計","第１回補助者②","第１回補助者②演奏","第１回補助者②実技指導","第１回補助者②単純労務","第１回補助者②謝金合計","第１回補助者③","第１回補助者③演奏","第１回補助者③実技指導","第１回補助者③単純労務","第１回補助者③謝金合計","第１回補助者④","第１回補助者④演奏","第１回補助者④実技指導","第１回補助者④単純労務","第１回補助者④謝金合計","第１回補助者⑤","第１回補助者⑤演奏","第１回補助者⑤実技指導","第１回補助者⑤単純労務","第１回補助者⑤謝金合計","第１回補助者⑥","第１回補助者⑥演奏","第１回補助者⑥実技指導","第１回補助者⑥単純労務","第１回補助者⑥謝金合計","第１回補助者⑦","第１回補助者⑦演奏","第１回補助者⑦実技指導","第１回補助者⑦単純労務","第１回補助者⑦謝金合計","第１回補助者⑧","第１回補助者⑧演奏","第１回補助者⑧実技指導","第１回補助者⑧単純労務","第１回補助者⑧謝金合計","第１回補助者人数計","第１回補助者謝金計","第１回事業内容","第２回実施日時","第２回実施時間","第２回実施合計","第２回連続する実施","第２回連続都道府県・政令指定都市名","第２回連続学校名","第２回教科の位置付け","第２回位置づけ内訳","第２回著作権","第２回著作権許諾","第２回参加児童生徒","第２回参加児童生徒単位","第２回参加児童生徒単位内訳","第２回補助者①","第２回補助者①演奏","第２回補助者①実技指導","第2回補助者①単純労務","第2回補助者①謝金合計","第2回補助者②","第2回補助者②演奏","第2回補助者②実技指導","第2回補助者②単純労務","第2回補助者②謝金合計","第2回補助者③","第2回補助者③演奏","第2回補助者③実技指導","第2回補助者③単純労務","第2回補助者③謝金合計","第2回補助者④","第2回補助者④演奏","第2回補助者④実技指導","第2回補助者④単純労務","第2回補助者④謝金合計","第2回補助者⑤","第2回補助者⑤演奏","第2回補助者⑤実技指導","第2回補助者⑤単純労務","第2回補助者⑤謝金合計","第2回補助者⑥","第2回補助者⑥演奏","第2回補助者⑥実技指導","第2回補助者⑥単純労務","第2回補助者⑥謝金合計","第2回補助者⑦","第2回補助者⑦演奏","第2回補助者⑦実技指導","第2回補助者⑦単純労務","第2回補助者⑦謝金合計","第2回補助者⑧","第2回補助者⑧演奏","第2回補助者⑧実技指導","第2回補助者⑧単純労務","第2回補助者⑧謝金合計","第2回補助者人数計","第2回補助者謝金計","第2回事業内容","第3回実施日時","第3回実施時間","第3回実施合計","第3回連続する実施","第3回連続都道府県・政令指定都市名","第3回連続学校名","第3回教科の位置付け","第3回位置づけ内訳","第3回著作権","第3回著作権許諾","第3回参加児童生徒","第3回参加児童生徒単位","第3回参加児童生徒単位内訳","第3回補助者①","第3回補助者①演奏","第3回補助者①実技指導","第3回補助者①単純労務","第3回補助者①謝金合計","第3回補助者②","第3回補助者②演奏","第3回補助者②実技指導","第3回補助者②単純労務","第3回補助者②謝金合計","第3回補助者③","第3回補助者③演奏","第3回補助者③実技指導","第3回補助者③単純労務","第3回補助者③謝金合計","第3回補助者④","第3回補助者④演奏","第3回補助者④実技指導","第3回補助者④単純労務","第3回補助者④謝金合計","第3回補助者⑤","第3回補助者⑤演奏","第3回補助者⑤実技指導","第3回補助者⑤単純労務","第3回補助者⑤謝金合計","第3回補助者⑥","第3回補助者⑥演奏","第3回補助者⑥実技指導","第3回補助者⑥単純労務","第3回補助者⑥謝金合計","第3回補助者⑦","第3回補助者⑦演奏","第3回補助者⑦実技指導","第3回補助者⑦単純労務","第3回補助者⑦謝金合計","第3回補助者⑧","第3回補助者⑧演奏","第3回補助者⑧実技指導","第3回補助者⑧単純労務","第3回補助者⑧謝金合計","第3回補助者人数計","第3回補助者謝金計","第3回事業内容","謝金（a）","旅費（ｂ）","講演等諸雑費合計（ｃ）","総合計（ａ＋ｂ＋ｃ）"]
[null,"申【様式１】（共通）!E4","申【様式１】（共通）!W7","申【様式１】（共通）!E8","申【様式１】（共通）!E7","申【様式１】（共通）!W8","申【様式１】（共通）!F9&\"-\"&申【様式１】（共通）!J9","申【様式１】（共通）!P9&申【様式１】（共通）!E10","申【様式１】（共通）!M12","申【様式１】（共通）!W9","申【様式１】（共通）!W10","申【様式１】（共通）!W11","申【様式１】（共通）!W12","申【様式１】（共通）!E14","申【様式１】（共通）!E16","申【様式１】（共通）!E17","申【様式１】（共通）!A19","申報【様式２】（共通）!I9","申報【様式２】（共通）!I10","申報【様式２】（共通）!N11","申報【様式２】（共通）!AC11","申報【様式２】（共通）!B15","申報【様式２】（共通）!D15","申報【様式２】（共通）!I15","申報【様式２】（共通）!N15","申報【様式２】（共通）!S15","申報【様式２】（共通）!X15","申報【様式２】（共通）!AG15","申報【様式２】（共通）!B16","申報【様式２】（共通）!D16","申報【様式２】（共通）!I16","申報【様式２】（共通）!N16","申報【様式２】（共通）!S16","申報【様式２】（共通）!X16","申報【様式２】（共通）!AG16","申報【様式２】（共通）!B17","申報【様式２】（共通）!D17","申報【様式２】（共通）!I17","申報【様式２】（共通）!N17","申報【様式２】（共通）!S17","申報【様式２】（共通）!X17","申報【様式２】（共通）!AG17","申報【様式２】（共通）!B18","申報【様式２】（共通）!D18","申報【様式２】（共通）!I18","申報【様式２】（共通）!N18","申報【様式２】（共通）!S18","申報【様式２】（共通）!X18","申報【様式２】（共通）!AG18","申報【様式２】（共通）!B19","申報【様式２】（共通）!D19","申報【様式２】（共通）!I19","申報【様式２】（共通）!N19","申報【様式２】（共通）!S19","申報【様式２】（共通）!X19","申報【様式２】（共通）!AG19","申報【様式２】（共通）!B20","申報【様式２】（共通）!D20","申報【様式２】（共通）!I20","申報【様式２】（共通）!N20","申報【様式２】（共通）!S20","申報【様式２】（共通）!X20","申報【様式２】（共通）!AG20","申報【様式２】（共通）!B21","申報【様式２】（共通）!D21","申報【様式２】（共通）!I21","申報【様式２】（共通）!N21","申報【様式２】（共通）!S21","申報【様式２】（共通）!X21","申報【様式２】（共通）!AG21","申報【様式２】（共通）!B22","申報【様式２】（共通）!D22","申報【様式２】（共通）!I22","申報【様式２】（共通）!N22","申報【様式２】（共通）!S22","申報【様式２】（共通）!X22","申報【様式２】（共通）!AG22","申報【様式２】（共通）!B23","申報【様式２】（共通）!D23","申報【様式２】（共通）!I23","申報【様式２】（共通）!N23","申報【様式２】（共通）!S23","申報【様式２】（共通）!X23","申報【様式２】（共通）!AG23","申報【様式２】（共通）!B24","申報【様式２】（共通）!D24","申報【様式２】（共通）!I24","申報【様式２】（共通）!N24","申報【様式２】（共通）!S24","申報【様式２】（共通）!X24","申報【様式２】（共通）!AG24","申報【様式２】（共通）!B25","申報【様式２】（共通）!D25","申報【様式２】（共通）!I25","申報【様式２】（共通）!N25","申報【様式２】（共通）!S25","申報【様式２】（共通）!X25","申報【様式２】（共通）!AG25","申報【様式２】（共通）!B26","申報【様式２】（共通）!D26","申報【様式２】（共通）!I26","申報【様式２】（共通）!N26","申報【様式２】（共通）!S26","申報【様式２】（共通）!X26","申報【様式２】（共通）!AG26","申報【様式２】（共通）!B27","申報【様式２】（共通）!D27","申報【様式２】（共通）!I27","申報【様式２】（共通）!N27","申報【様式２】（共通）!S27","申報【様式２】（共通）!X27","申報【様式２】（共通）!AG27","申報【様式２】（共通）!B28","申報【様式２】（共通）!D28","申報【様式２】（共通）!I28","申報【様式２】（共通）!N28","申報【様式２】（共通）!S28","申報【様式２】（共通）!X28","申報【様式２】（共通）!AG28","申報【様式２】（共通）!B29","申報【様式２】（共通）!D29","申報【様式２】（共通）!I29","申報【様式２】（共通）!N29","申報【様式２】（共通）!S29","申報【様式２】（共通）!X29","申報【様式２】（共通）!AG29","申【様式３・４】（派遣）!E8","申【様式３・４】（派遣）!W8","申【様式３・４】（派遣）!E10","申【様式３・４】（派遣）!I10","申【様式３・４】（派遣）!M10","申【様式３・４】（派遣）!F11","申【様式３・４】（派遣）!E12","申【様式３・４】（派遣）!E13","申【様式３・４】（派遣）!S13","申【様式３・４】（派遣）!AB16","申【様式３・４】（派遣）!A18","申【様式３・４】（派遣）!A20","申【様式３・４】（派遣）!E21","申【様式３・４】（派遣）!S21","申【様式３・４】（派遣）!AA21","申【様式３・４】（派遣）!E22","申【様式３・４】（派遣）!O22","申【様式３・４】（派遣）!V22","申【様式３・４】（派遣）!E23","申【様式３・４】（派遣）!S23","申【様式３・４】（派遣）!E24","申【様式３・４】（派遣）!V24","申【様式３・４】（派遣）!G25","申【様式３・４】（派遣）!P25","申【様式３・４】（派遣）!S26","申【様式３・４】（派遣）!F28","申【様式３・４】（派遣）!N28","申【様式３・４】（派遣）!S28","申【様式３・４】（派遣）!X28","申【様式３・４】（派遣）!AA28","申【様式３・４】（派遣）!F29","申【様式３・４】（派遣）!N29","申【様式３・４】（派遣）!S29","申【様式３・４】（派遣）!X29","申【様式３・４】（派遣）!AA29","申【様式３・４】（派遣）!F30","申【様式３・４】（派遣）!N30","申【様式３・４】（派遣）!S30","申【様式３・４】（派遣）!X30","申【様式３・４】（派遣）!AA30","申【様式３・４】（派遣）!F31","申【様式３・４】（派遣）!N31","申【様式３・４】（派遣）!S31","申【様式３・４】（派遣）!X31","申【様式３・４】（派遣）!AA31","申【様式３・４】（派遣）!F32","申【様式３・４】（派遣）!N32","申【様式３・４】（派遣）!S32","申【様式３・４】（派遣）!X32","申【様式３・４】（派遣）!AA32","申【様式３・４】（派遣）!F33","申【様式３・４】（派遣）!N33","申【様式３・４】（派遣）!S33","申【様式３・４】（派遣）!X33","申【様式３・４】（派遣）!AA33","申【様式３・４】（派遣）!F34","申【様式３・４】（派遣）!N34","申【様式３・４】（派遣）!S34","申【様式３・４】（派遣）!X34","申【様式３・４】（派遣）!AA34","申【様式３・４】（派遣）!F35","申【様式３・４】（派遣）!N35","申【様式３・４】（派遣）!S35","申【様式３・４】（派遣）!X35","申【様式３・４】（派遣）!AA35","申【様式３・４】（派遣）!F36","申【様式３・４】（派遣）!AA36","申【様式３・４】（派遣）!B38","申【様式３・４】（派遣）!E39","申【様式３・４】（派遣）!S39","申【様式３・４】（派遣）!AA39","申【様式３・４】（派遣）!E40","申【様式３・４】（派遣）!O40","申【様式３・４】（派遣）!V40","申【様式３・４】（派遣）!E41","申【様式３・４】（派遣）!S41","申【様式３・４】（派遣）!E42","申【様式３・４】（派遣）!V42","申【様式３・４】（派遣）!G43","申【様式３・４】（派遣）!P43","申【様式３・４】（派遣）!S44","申【様式３・４】（派遣）!F46","申【様式３・４】（派遣）!N46","申【様式３・４】（派遣）!S46","申【様式３・４】（派遣）!X46","申【様式３・４】（派遣）!AA46","申【様式３・４】（派遣）!F47","申【様式３・４】（派遣）!N47","申【様式３・４】（派遣）!S47","申【様式３・４】（派遣）!X47","申【様式３・４】（派遣）!AA47","申【様式３・４】（派遣）!F48","申【様式３・４】（派遣）!N48","申【様式３・４】（派遣）!S48","申【様式３・４】（派遣）!X48","申【様式３・４】（派遣）!AA48","申【様式３・４】（派遣）!F49","申【様式３・４】（派遣）!N49","申【様式３・４】（派遣）!S49","申【様式３・４】（派遣）!X49","申【様式３・４】（派遣）!AA49","申【様式３・４】（派遣）!F50","申【様式３・４】（派遣）!N50","申【様式３・４】（派遣）!S50","申【様式３・４】（派遣）!X50","申【様式３・４】（派遣）!AA50","申【様式３・４】（派遣）!F51","申【様式３・４】（派遣）!N51","申【様式３・４】（派遣）!S51","申【様式３・４】（派遣）!X51","申【様式３・４】（派遣）!AA51","申【様式３・４】（派遣）!F52","申【様式３・４】（派遣）!N52","申【様式３・４】（派遣）!S52","申【様式３・４】（派遣）!X52","申【様式３・４】（派遣）!AA52","申【様式３・４】（派遣）!F53","申【様式３・４】（派遣）!N53","申【様式３・４】（派遣）!S53","申【様式３・４】（派遣）!X53","申【様式３・４】（派遣）!AA53","申【様式３・４】（派遣）!F54","申【様式３・４】（派遣）!AA54","申【様式３・４】（派遣）!B56","申【様式３・４】（派遣）!E57","申【様式３・４】（派遣）!S57","申【様式３・４】（派遣）!AA57","申【様式３・４】（派遣）!E58","申【様式３・４】（派遣）!O58","申【様式３・４】（派遣）!V58","申【様式３・４】（派遣）!E59","申【様式３・４】（派遣）!S59","申【様式３・４】（派遣）!E60","申【様式３・４】（派遣）!V60","申【様式３・４】（派遣）!G61","申【様式３・４】（派遣）!P61","申【様式３・４】（派遣）!S62","申【様式３・４】（派遣）!F64","申【様式３・４】（派遣）!N64","申【様式３・４】（派遣）!S64","申【様式３・４】（派遣）!X64","申【様式３・４】（派遣）!AA64","申【様式３・４】（派遣）!F65","申【様式３・４】（派遣）!N65","申【様式３・４】（派遣）!S65","申【様式３・４】（派遣）!X65","申【様式３・４】（派遣）!AA65","申【様式３・４】（派遣）!F66","申【様式３・４】（派遣）!N66","申【様式３・４】（派遣）!S66","申【様式３・４】（派遣）!X66","申【様式３・４】（派遣）!AA66","申【様式３・４】（派遣）!F67","申【様式３・４】（派遣）!N67","申【様式３・４】（派遣）!S67","申【様式３・４】（派遣）!X67","申【様式３・４】（派遣）!AA67","申【様式３・４】（派遣）!F68","申【様式３・４】（派遣）!N68","申【様式３・４】（派遣）!S68","申【様式３・４】（派遣）!X68","申【様式３・４】（派遣）!AA68","申【様式３・４】（派遣）!F69","申【様式３・４】（派遣）!N69","申【様式３・４】（派遣）!S69","申【様式３・４】（派遣）!X69","申【様式３・４】（派遣）!AA69","申【様式３・４】（派遣）!F70","申【様式３・４】（派遣）!N70","申【様式３・４】（派遣）!S70","申【様式３・４】（派遣）!X70","申【様式３・４】（派遣）!AA70","申【様式３・４】（派遣）!F71","申【様式３・４】（派遣）!N71","申【様式３・４】（派遣）!S71","申【様式３・４】（派遣）!X71","申【様式３・４】（派遣）!AA71","申【様式３・４】（派遣）!F72","申【様式３・４】（派遣）!AA72","申【様式３・４】（派遣）!B74","申【様式３・４】（派遣）!M100","申【様式３・４】（派遣）!S100","申【様式３・４】（派遣）!Y115","申【様式３・４】（派遣）!S120"]
[1,{"$f":"'申【様式１】（共通）'!E4","v":0},{"$f":"'申【様式１】（共通）'!W7","v":0},{"$f":"'申【様式１】（共通）'!E8","v":0},{"$f":"'申【様式１】（共通）'!E7","v":0},{"$f":"'申【様式１】（共通）'!W8","v":0},{"$f":"'申【様式１】（共通）'!F9&\"-\"&'申【様式１】（共通）'!J9","v":"-"},{"$f":"'申【様式１】（共通）'!P9&'申【様式１】（共通）'!E10","v":""},{"$f":"'申【様式１】（共通）'!M12","v":0},{"$f":"'申【様式１】（共通）'!W9","v":0},{"$f":"'申【様式１】（共通）'!W10","v":0},{"$f":"'申【様式１】（共通）'!W11","v":0},{"$f":"'申【様式１】（共通）'!W12","v":0},{"$f":"'申【様式１】（共通）'!E14","v":0},{"$f":"'申【様式１】（共通）'!E16","v":0},{"$f":"'申【様式１】（共通）'!E17","v":0},{"$f":"'申【様式１】（共通）'!A19","v":0},{"$f":"'申報【様式２】（共通）'!I9","v":0},{"$f":"'申報【様式２】（共通）'!I10","v":0},{"$f":"'申報【様式２】（共通）'!N11","v":0},{"$f":"'申報【様式２】（共通）'!AC11","v":0},{"$f":"'申報【様式２】（共通）'!B15","v":0},{"$f":"'申報【様式２】（共通）'!D15","v":0},{"$f":"'申報【様式２】（共通）'!I15","v":0},{"$f":"'申報【様式２】（共通）'!N15","v":0},{"$f":"'申報【様式２】（共通）'!S15","v":"00:00:00"},{"$f":"'申報【様式２】（共通）'!X15","v":0},{"$f":"'申報【様式２】（共通）'!AG15","v":0},{"$f":"'申報【様式２】（共通）'!B16","v":0},{"$f":"'申報【様式２】（共通）'!D16","v":0},{"$f":"'申報【様式２】（共通）'!I16","v":0},{"$f":"'申報【様式２】（共通）'!N16","v":0},{"$f":"'申報【様式２】（共通）'!S16","v":"00:00:00"},{"$f":"'申報【様式２】（共通）'!X16","v":0},{"$f":"'申報【様式２】（共通）'!AG16","v":0},{"$f":"'申報【様式２】（共通）'!B17","v":0},{"$f":"'申報【様式２】（共通）'!D17","v":0},{"$f":"'申報【様式２】（共通）'!I17","v":0},{"$f":"'申報【様式２】（共通）'!N17","v":0},{"$f":"'申報【様式２】（共通）'!S17","v":"00:00:00"},{"$f":"'申報【様式２】（共通）'!X17","v":0},{"$f":"'申報【様式２】（共通）'!AG17","v":0},{"$f":"'申報【様式２】（共通）'!B18","v":0},{"$f":"'申報【様式２】（共通）'!D18","v":0},{"$f":"'申報【様式２】（共通）'!I18","v":0},{"$f":"'申報【様式２】（共通）'!N18","v":0},{"$f":"'申報【様式２】（共通）'!S18","v":"00:00:00"},{"$f":"'申報【様式２】（共通）'!X18","v":0},{"$f":"'申報【様式２】（共通）'!AG18","v":0},{"$f":"'申報【様式２】（共通）'!B19","v":0},{"$f":"'申報【様式２】（共通）'!D19","v":0},{"$f":"'申報【様式２】（共通）'!I19","v":0},{"$f":"'申報【様式２】（共通）'!N19","v":0},{"$f":"'申報【様式２】（共通）'!S19","v":"00:00:00"},{"$f":"'申報【様式２】（共通）'!X19","v":0},{"$f":"'申報【様式２】（共通）'!AG19","v":0},{"$f":"'申報【様式２】（共通）'!B20","v":0},{"$f":"'申報【様式２】（共通）'!D20","v":0},{"$f":"'申報【様式２】（共通）'!I20","v":0},{"$f":"'申報【様式２】（共通）'!N20","v":0},{"$f":"'申報【様式２】（共通）'!S20","v":"00:00:00"},{"$f":"'申報【様式２】（共通）'!X20","v":0},{"$f":"'申報【様式２】（共通）'!AG20","v":0},{"$f":"'申報【様式２】（共通）'!B21","v":0},{"$f":"'申報【様式２】（共通）'!D21","v":0},{"$f":"'申報【様式２】（共通）'!I21","v":0},{"$f":"'申報【様式２】（共通）'!N21","v":0},{"$f":"'申報【様式２】（共通）'!S21","v":"00:00:00"},{"$f":"'申報【様式２】（共通）'!X21","v":0},{"$f":"'申報【様式２】（共通）'!AG21","v":0},{"$f":"'申報【様式２】（共通）'!B22","v":0},{"$f":"'申報【様式２】（共通）'!D22","v":0},{"$f":"'申報【様式２】（共通）'!I22","v":0},{"$f":"'申報【様式２】（共通）'!N22","v":0},{"$f":"'申報【様式２】（共通）'!S22","v":"00:00:00"},{"$f":"'申報【様式２】（共通）'!X22","v":0},{"$f":"'申報【様式２】（共通）'!AG22","v":0},{"$f":"'申報【様式２】（共通）'!B23","v":0},{"$f":"'申報【様式２】（共通）'!D23","v":0},{"$f":"'申報【様式２】（共通）'!I23","v":0},{"$f":"'申報【様式２】（共通）'!N23","v":0},{"$f":"'申報【様式２】（共通）'!S23","v":"00:00:00"},{"$f":"'申報【様式２】（共通）'!X23","v":0},{"$f":"'申報【様式２】（共通）'!AG23","v":0},{"$f":"'申報【様式２】（共通）'!B24","v":0},{"$f":"'申報【様式２】（共通）'!D24","v":0},{"$f":"'申報【様式２】（共通）'!I24","v":0},{"$f":"'申報【様式２】（共通）'!N24","v":0},{"$f":"'申報【様式２】（共通）'!S24","v":"00:00:00"},{"$f":"'申報【様式２】（共通）'!X24","v":0},{"$f":"'申報【様式２】（共通）'!AG24","v":0},{"$f":"'申報【様式２】（共通）'!B25","v":0},{"$f":"'申報【様式２】（共通）'!D25","v":0},{"$f":"'申報【様式２】（共通）'!I25","v":0},{"$f":"'申報【様式２】（共通）'!N25","v":0},{"$f":"'申報【様式２】（共通）'!S25","v":"00:00:00"},{"$f":"'申報【様式２】（共通）'!X25","v":0},{"$f":"'申報【様式２】（共通）'!AG25","v":0},{"$f":"'申報【様式２】（共通）'!B26","v":0},{"$f":"'申報【様式２】（共通）'!D26","v":0},{"$f":"'申報【様式２】（共通）'!I26","v":0},{"$f":"'申報【様式２】（共通）'!N26","v":0},{"$f":"'申報【様式２】（共通）'!S26","v":"00:00:00"},{"$f":"'申報【様式２】（共通）'!X26","v":0},{"$f":"'申報【様式２】（共通）'!AG26","v":0},{"$f":"'申報【様式２】（共通）'!B27","v":0},{"$f":"'申報【様式２】（共通）'!D27","v":0},{"$f":"'申報【様式２】（共通）'!I27","v":0},{"$f":"'申報【様式２】（共通）'!N27","v":0},{"$f":"'申報【様式２】（共通）'!S27","v":"00:00:00"},{"$f":"'申報【様式２】（共通）'!X27","v":0},{"$f":"'申報【様式２】（共通）'!AG27","v":0},{"$f":"'申報【様式２】（共通）'!B28","v":0},{"$f":"'申報【様式２】（共通）'!D28","v":0},{"$f":"'申報【様式２】（共通）'!I28","v":0},{"$f":"'申報【様式２】（共通）'!N28","v":0},{"$f":"'申報【様式２】（共通）'!S28","v":"00:00:00"},{"$f":"'申報【様式２】（共通）'!X28","v":0},{"$f":"'申報【様式２】（共通）'!AG28","v":0},{"$f":"'申報【様式２】（共通）'!B29","v":0},{"$f":"'申報【様式２】（共通）'!D29","v":0},{"$f":"'申報【様式２】（共通）'!I29","v":0},{"$f":"'申報【様式２】（共通）'!N29","v":0},{"$f":"'申報【様式２】（共通）'!S29","v":"00:00:00"},{"$f":"'申報【様式２】（共通）'!X29","v":0},{"$f":"'申報【様式２】（共通）'!AG29","v":0},{"$f":"'申【様式３・４】（派遣）'!E8","v":0},{"$f":"'申【様式３・４】（派遣）'!W8","v":0},{"$f":"'申【様式３・４】（派遣）'!E10","v":0},{"$f":"'申【様式３・４】（派遣）'!I10","v":0},{"$f":"'申【様式３・４】（派遣）'!M10","v":0},{"$f":"'申【様式３・４】（派遣）'!F11","v":0},{"$f":"'申【様式３・４】（派遣）'!E12","v":""},{"$f":"'申【様式３・４】（派遣）'!E13","v":0},{"$f":"'申【様式３・４】（派遣）'!S13","v":0},{"$f":"'申【様式３・４】（派遣）'!AB16","v":0},{"$f":"'申【様式３・４】（派遣）'!A18","v":0},{"$f":"'申【様式３・４】（派遣）'!A20","v":0},{"$f":"'申【様式３・４】（派遣）'!E21","v":0},{"$f":"'申【様式３・４】（派遣）'!S21","v":0},{"$f":"'申【様式３・４】（派遣）'!AA21","v":0},{"$f":"'申【様式３・４】（派遣）'!E22","v":0},{"$f":"'申【様式３・４】（派遣）'!O22","v":0},{"$f":"'申【様式３・４】（派遣）'!V22","v":0},{"$f":"'申【様式３・４】（派遣）'!E23","v":0},{"$f":"'申【様式３・４】（派遣）'!S23","v":0},{"$f":"'申【様式３・４】（派遣）'!E24","v":0},{"$f":"'申【様式３・４】（派遣）'!V24","v":0},{"$f":"'申【様式３・４】（派遣）'!G25","v":0},{"$f":"'申【様式３・４】（派遣）'!P25","v":0},{"$f":"'申【様式３・４】（派遣）'!S26","v":0},{"$f":"'申【様式３・４】（派遣）'!F28","v":"　"},{"$f":"'申【様式３・４】（派遣）'!N28","v":0},{"$f":"'申【様式３・４】（派遣）'!S28","v":0},{"$f":"'申【様式３・４】（派遣）'!X28","v":0},{"$f":"'申【様式３・４】（派遣）'!AA28","v":0},{"$f":"'申【様式３・４】（派遣）'!F29","v":"　"},{"$f":"'申【様式３・４】（派遣）'!N29","v":0},{"$f":"'申【様式３・４】（派遣）'!S29","v":0},{"$f":"'申【様式３・４】（派遣）'!X29","v":0},{"$f":"'申【様式３・４】（派遣）'!AA29","v":0},{"$f":"'申【様式３・４】（派遣）'!F30","v":"　"},{"$f":"'申【様式３・４】（派遣）'!N30","v":0},{"$f":"'申【様式３・４】（派遣）'!S30","v":0},{"$f":"'申【様式３・４】（派遣）'!X30","v":0},{"$f":"'申【様式３・４】（派遣）'!AA30","v":0},{"$f":"'申【様式３・４】（派遣）'!F31","v":"　"},{"$f":"'申【様式３・４】（派遣）'!N31","v":0},{"$f":"'申【様式３・４】（派遣）'!S31","v":0},{"$f":"'申【様式３・４】（派遣）'!X31","v":0},{"$f":"'申【様式３・４】（派遣）'!AA31","v":0},{"$f":"'申【様式３・４】（派遣）'!F32","v":"　"},{"$f":"'申【様式３・４】（派遣）'!N32","v":0},{"$f":"'申【様式３・４】（派遣）'!S32","v":0},{"$f":"'申【様式３・４】（派遣）'!X32","v":0},{"$f":"'申【様式３・４】（派遣）'!AA32","v":0},{"$f":"'申【様式３・４】（派遣）'!F33","v":"　"},{"$f":"'申【様式３・４】（派遣）'!N33","v":0},{"$f":"'申【様式３・４】（派遣）'!S33","v":0},{"$f":"'申【様式３・４】（派遣）'!X33","v":0},{"$f":"'申【様式３・４】（派遣）'!AA33","v":0},{"$f":"'申【様式３・４】（派遣）'!F34","v":"　"},{"$f":"'申【様式３・４】（派遣）'!N34","v":0},{"$f":"'申【様式３・４】（派遣）'!S34","v":0},{"$f":"'申【様式３・４】（派遣）'!X34","v":0},{"$f":"'申【様式３・４】（派遣）'!AA34","v":0},{"$f":"'申【様式３・４】（派遣）'!F35","v":"　"},{"$f":"'申【様式３・４】（派遣）'!N35","v":0},{"$f":"'申【様式３・４】（派遣）'!S35","v":0},{"$f":"'申【様式３・４】（派遣）'!X35","v":0},{"$f":"'申【様式３・４】（派遣）'!AA35","v":0},{"$f":"'申【様式３・４】（派遣）'!F36","v":0},{"$f":"'申【様式３・４】（派遣）'!AA36","v":0},{"$f":"'申【様式３・４】（派遣）'!B38","v":0},{"$f":"'申【様式３・４】（派遣）'!E39","v":0},{"$f":"'申【様式３・４】（派遣）'!S39","v":0},{"$f":"'申【様式３・４】（派遣）'!AA39","v":0},{"$f":"'申【様式３・４】（派遣）'!E40","v":0},{"$f":"'申【様式３・４】（派遣）'!O40","v":0},{"$f":"'申【様式３・４】（派遣）'!V40","v":0},{"$f":"'申【様式３・４】（派遣）'!E41","v":0},{"$f":"'申【様式３・４】（派遣）'!S41","v":0},{"$f":"'申【様式３・４】（派遣）'!E42","v":0},{"$f":"'申【様式３・４】（派遣）'!V42","v":0},{"$f":"'申【様式３・４】（派遣）'!G43","v":0},{"$f":"'申【様式３・４】（派遣）'!P43","v":0},{"$f":"'申【様式３・４】（派遣）'!S44","v":0},{"$f":"'申【様式３・４】（派遣）'!F46","v":""},{"$f":"'申【様式３・４】（派遣）'!N46","v":0},{"$f":"'申【様式３・４】（派遣）'!S46","v":0},{"$f":"'申【様式３・４】（派遣）'!X46","v":0},{"$f":"'申【様式３・４】（派遣）'!AA46","v":0},{"$f":"'申【様式３・４】（派遣）'!F47","v":""},{"$f":"'申【様式３・４】（派遣）'!N47","v":0},{"$f":"'申【様式３・４】（派遣）'!S47","v":0},{"$f":"'申【様式３・４】（派遣）'!X47","v":0},{"$f":"'申【様式３・４】（派遣）'!AA47","v":0},{"$f":"'申【様式３・４】（派遣）'!F48","v":""},{"$f":"'申【様式３・４】（派遣）'!N48","v":0},{"$f":"'申【様式３・４】（派遣）'!S48","v":0},{"$f":"'申【様式３・４】（派遣）'!X48","v":0},{"$f":"'申【様式３・４】（派遣）'!AA48","v":0},{"$f":"'申【様式３・４】（派遣）'!F49","v":""},{"$f":"'申【様式３・４】（派遣）'!N49","v":0},{"$f":"'申【様式３・４】（派遣）'!S49","v":0},{"$f":"'申【様式３・４】（派遣）'!X49","v":0},{"$f":"'申【様式３・４】（派遣）'!AA49","v":0},{"$f":"'申【様式３・４】（派遣）'!F50","v":""},{"$f":"'申【様式３・４】（派遣）'!N50","v":0},{"$f":"'申【様式３・４】（派遣）'!S50","v":0},{"$f":"'申【様式３・４】（派遣）'!X50","v":0},{"$f":"'申【様式３・４】（派遣）'!AA50","v":0},{"$f":"'申【様式３・４】（派遣）'!F51","v":""},{"$f":"'申【様式３・４】（派遣）'!N51","v":0},{"$f":"'申【様式３・４】（派遣）'!S51","v":0},{"$f":"'申【様式３・４】（派遣）'!X51","v":0},{"$f":"'申【様式３・４】（派遣）'!AA51","v":0},{"$f":"'申【様式３・４】（派遣）'!F52","v":""},{"$f":"'申【様式３・４】（派遣）'!N52","v":0},{"$f":"'申【様式３・４】（派遣）'!S52","v":0},{"$f":"'申【様式３・４】（派遣）'!X52","v":0},{"$f":"'申【様式３・４】（派遣）'!AA52","v":0},{"$f":"'申【様式３・４】（派遣）'!F53","v":""},{"$f":"'申【様式３・４】（派遣）'!N53","v":0},{"$f":"'申【様式３・４】（派遣）'!S53","v":0},{"$f":"'申【様式３・４】（派遣）'!X53","v":0},{"$f":"'申【様式３・４】（派遣）'!AA53","v":0},{"$f":"'申【様式３・４】（派遣）'!F54","v":0},{"$f":"'申【様式３・４】（派遣）'!AA54","v":0},{"$f":"'申【様式３・４】（派遣）'!B56","v":0},{"$f":"'申【様式３・４】（派遣）'!E57","v":0},{"$f":"'申【様式３・４】（派遣）'!S57","v":0},{"$f":"'申【様式３・４】（派遣）'!AA57","v":0},{"$f":"'申【様式３・４】（派遣）'!E58","v":0},{"$f":"'申【様式３・４】（派遣）'!O58","v":0},{"$f":"'申【様式３・４】（派遣）'!V58","v":0},{"$f":"'申【様式３・４】（派遣）'!E59","v":0},{"$f":"'申【様式３・４】（派遣）'!S59","v":0},{"$f":"'申【様式３・４】（派遣）'!E60","v":0},{"$f":"'申【様式３・４】（派遣）'!V60","v":0},{"$f":"'申【様式３・４】（派遣）'!G61","v":0},{"$f":"'申【様式３・４】（派遣）'!P61","v":0},{"$f":"'申【様式３・４】（派遣）'!S62","v":0},{"$f":"'申【様式３・４】（派遣）'!F64","v":""},{"$f":"'申【様式３・４】（派遣）'!N64","v":0},{"$f":"'申【様式３・４】（派遣）'!S64","v":0},{"$f":"'申【様式３・４】（派遣）'!X64","v":0},{"$f":"'申【様式３・４】（派遣）'!AA64","v":0},{"$f":"'申【様式３・４】（派遣）'!F65","v":""},{"$f":"'申【様式３・４】（派遣）'!N65","v":0},{"$f":"'申【様式３・４】（派遣）'!S65","v":0},{"$f":"'申【様式３・４】（派遣）'!X65","v":0},{"$f":"'申【様式３・４】（派遣）'!AA65","v":0},{"$f":"'申【様式３・４】（派遣）'!F66","v":""},{"$f":"'申【様式３・４】（派遣）'!N66","v":0},{"$f":"'申【様式３・４】（派遣）'!S66","v":0},{"$f":"'申【様式３・４】（派遣）'!X66","v":0},{"$f":"'申【様式３・４】（派遣）'!AA66","v":0},{"$f":"'申【様式３・４】（派遣）'!F67","v":""},{"$f":"'申【様式３・４】（派遣）'!N67","v":0},{"$f":"'申【様式３・４】（派遣）'!S67","v":0},{"$f":"'申【様式３・４】（派遣）'!X67","v":0},{"$f":"'申【様式３・４】（派遣）'!AA67","v":0},{"$f":"'申【様式３・４】（派遣）'!F68","v":""},{"$f":"'申【様式３・４】（派遣）'!N68","v":0},{"$f":"'申【様式３・４】（派遣）'!S68","v":0},{"$f":"'申【様式３・４】（派遣）'!X68","v":0},{"$f":"'申【様式３・４】（派遣）'!AA68","v":0},{"$f":"'申【様式３・４】（派遣）'!F69","v":""},{"$f":"'申【様式３・４】（派遣）'!N69","v":0},{"$f":"'申【様式３・４】（派遣）'!S69","v":0},{"$f":"'申【様式３・４】（派遣）'!X69","v":0},{"$f":"'申【様式３・４】（派遣）'!AA69","v":0},{"$f":"'申【様式３・４】（派遣）'!F70","v":""},{"$f":"'申【様式３・４】（派遣）'!N70","v":0},{"$f":"'申【様式３・４】（派遣）'!S70","v":0},{"$f":"'申【様式３・４】（派遣）'!X70","v":0},{"$f":"'申【様式３・４】（派遣）'!AA70","v":0},{"$f":"'申【様式３・４】（派遣）'!F71","v":""},{"$f":"'申【様式３・４】（派遣）'!N71","v":0},{"$f":"'申【様式３・４】（派遣）'!S71","v":0},{"$f":"'申【様式３・４】（派遣）'!X71","v":0},{"$f":"'申【様式３・４】（派遣）'!AA71","v":0},{"$f":"'申【様式３・４】（派遣）'!F72","v":0},{"$f":"'申【様式３・４】（派遣）'!AA72","v":0},{"$f":"'申【様式３・４】（派遣）'!B74","v":0},{"$f":"'申【様式３・４】（派遣）'!M100","v":0},{"$f":"'申【様式３・４】（派遣）'!S100","v":0},{"$f":"'申【様式３・４】（派遣）'!Y115","v":0},{"$f":"'申【様式３・４】（派遣）'!S120","v":0}]

{"sheet":"②コミュ申請補助シート","index":1,"n_rows":3,"n_cols":264,"rows_kept":3,"cut":false,"hidden":true,"merged":[]}
["NO.","都道府県・政令指定都市名","学校コード","実施校名","実施校名ふりがな","全校児童生徒","〒","実施校所在地","最寄り駅又はバス停","学校長名","担当者名","実施校TEL","メール","申請区分","実施分野","団体または講師名","04.備考欄　　申請に当たり特記事項がある場合は記入してください。特にない場合は空欄で構いません","本事業担当者名","団体名","メールアドレス","TEL","①講師に○","①氏名（本名）","①ふりがな","①芸名・活動名","①生年月日","①専門分野","①活動年数","②講師に○","②氏名（本名）","②ふりがな","②芸名・活動名","②生年月日","②専門分野","②活動年数","③講師に○","③氏名（本名）","③ふりがな","③芸名・活動名","③生年月日","③専門分野","③活動年数","④講師に○","④氏名（本名）","④ふりがな","④芸名・活動名","④生年月日","④専門分野","④活動年数","⑤講師に○","⑤氏名（本名）","⑤ふりがな","⑤芸名・活動名","⑤生年月日","⑤専門分野","⑤活動年数","⑥講師に○","⑥氏名（本名）","⑥ふりがな","⑥芸名・活動名","⑥生年月日","⑥専門分野","⑥活動年数","⑦講師に○","⑦氏名（本名）","⑦ふりがな","⑦芸名・活動名","⑦生年月日","⑦専門分野","⑦活動年数","⑧講師に○","⑧氏名（本名）","⑧ふりがな","⑧芸名・活動名","⑧生年月日","⑧専門分野","⑧活動年数","⑨講師に○","⑨氏名（本名）","⑨ふりがな","⑨芸名・活動名","⑨生年月日","⑨専門分野","⑨活動年数","⑩講師に○","⑩氏名（本名）","⑩ふりがな","⑩芸名・活動名","⑩生年月日","⑩専門分野","⑩活動年数","⑪講師に○","⑪氏名（本名）","⑪ふりがな","⑪芸名・活動名","⑪生年月日","⑪専門分野","⑪活動年数","⑫講師に○","⑫氏名（本名）","⑫ふりがな","⑫芸名・活動名","⑫生年月日","⑫専門分野","⑫活動年数","⑬講師に○","⑬氏名（本名）","⑬ふりがな","⑬芸名・活動名","⑬生年月日","⑬専門分野","⑬活動年数","⑭講師に○","⑭氏名（本名）","⑭ふりがな","⑭芸名・活動名","⑭生年月日","⑭専門分野","⑭活動年数","⑮講師に○","⑮氏名（本名）","⑮ふりがな","⑮芸名・活動名","⑮生年月日","⑮専門分野","⑮活動年数","実施会場","他校との合同\n開催の状況","大項目","中項目","分野その他","実施回数","のべ参加被派遣者数","所属団体","確認したら選択→","2.　前年度と同一分野・講師で実施する理由として最も当てはまる項目を選択してください","3.　具体的な理由を記してください。（100文字以上250文字以内）","実施日時","実施時間","実施\n合計","教科の\n位置付け","教科名","参加\n児童生徒","参加児童\n生徒単位","内訳","実施内容","実施日時","実施時間","実施\n合計","教科の\n位置付け","教科名","参加\n児童生徒","参加児童\n生徒単位","内訳","実施内容","実施日時","実施時間","実施\n合計","教科の\n位置付け","教科名","参加\n児童生徒","参加児童\n生徒単位","内訳","実施内容","実施日時","実施時間","実施\n合計","教科の\n位置付け","教科名","参加\n児童生徒","参加児童\n生徒単位","内訳","実施内容","実施日時","実施時間","実施\n合計","教科の\n位置付け","教科名","参加\n児童生徒","参加児童\n生徒単位","内訳","実施内容","実施日時","実施時間","実施\n合計","教科の\n位置付け","教科名","参加\n児童生徒","参加児童\n生徒単位","内訳","実施内容","実施日時","実施時間","実施\n合計","教科の\n位置付け","教科名","参加\n児童生徒","参加児童\n生徒単位","内訳","実施内容","実施日時","実施時間","実施\n合計","教科の\n位置付け","教科名","参加\n児童生徒","参加児童\n生徒単位","内訳","実施内容","実施日時","実施時間","実施\n合計","教科の\n位置付け","教科名","参加\n児童生徒","参加児童\n生徒単位","内訳","実施内容","実施日時","実施時間","実施\n合計","教科の\n位置付け","教科名","参加\n児童生徒","参加児童\n生徒単位","内訳","実施内容","実施日時","実施時間","実施\n合計","教科の\n位置付け","教科名","参加\n児童生徒","参加児童\n生徒単位","内訳","実施内容","実施日時","実施時間","実施\n合計","教科の\n位置付け","教科名","参加\n児童生徒","参加児童\n生徒単位","内訳","実施内容","被派遣者①","被派遣者②","被派遣者③","被派遣者④","被派遣者⑤","被派遣者⑥","被派遣者⑦","被派遣者⑧","被派遣者⑨","被派遣者⑩","被派遣者⑪","被派遣者⑫","被派遣者⑬","被派遣者⑭","被派遣者⑮","謝金（a）","旅費（ｂ）","講演等諸雑費合計（ｃ）","総合計（ａ＋ｂ＋ｃ）"]
[null,"申【様式１】（共通）!E4","申【様式１】（共通）!W7","申【様式１】（共通）!E8","申【様式１】（共通）!E7","申【様式１】（共通）!W8","申【様式１】（共通）!F9&\"-\"&申【様式１】（共通）!J9","申【様式１】（共通）!P9&申【様式１】（共通）!E10","申【様式１】（共通）!M12","申【様式１】（共通）!W9","申【様式１】（共通）!W10","申【様式１】（共通）!W11","申【様式１】（共通）!W12","申【様式１】（共通）!E14","申【様式１】（共通）!E16","申【様式１】（共通）!E17","申【様式１】（共通）!A19","申報【様式２】（共通）!I9","申報【様式２】（共通）!I10","申報【様式２】（共通）!N11","申報【様式２】（共通）!AC11","申報【様式２】（共通）!B15","申報【様式２】（共通）!D15","申報【様式２】（共通）!I15","申報【様式２】（共通）!N15","申報【様式２】（共通）!S15","申報【様式２】（共通）!X15","申報【様式２】（共通）!AG15","申報【様式２】（共通）!B16","申報【様式２】（共通）!D16","申報【様式２】（共通）!I16","申報【様式２】（共通）!N16","申報【様式２】（共通）!S16","申報【様式２】（共通）!X16","申報【様式２】（共通）!AG16","申報【様式２】（共通）!B17","申報【様式２】（共通）!D17","申報【様式２】（共通）!I17","申報【様式２】（共通）!N17","申報【様式２】（共通）!S17","申報【様式２】（共通）!X17","申報【様式２】（共通）!AG17","申報【様式２】（共通）!B18","申報【様式２】（共通）!D18","申報【様式２】（共通）!I18","申報【様式２】（共通）!N18","申報【様式２】（共通）!S18","申報【様式２】（共通）!X18","申報【様式２】（共通）!AG18","申報【様式２】（共通）!B19","申報【様式２】（共通）!D19","申報【様式２】（共通）!I19","申報【様式２】（共通）!N19","申報【様式２】（共通）!S19","申報【様式２】（共通）!X19","申報【様式２】（共通）!AG19","申報【様式２】（共通）!B20","申報【様式２】（共通）!D20","申報【様式２】（共通）!I20","申報【様式２】（共通）!N20","申報【様式２】（共通）!S20","申報【様式２】（共通）!X20","申報【様式２】（共通）!AG20","申報【様式２】（共通）!B21","申報【様式２】（共通）!D21","申報【様式２】（共通）!I21","申報【様式２】（共通）!N21","申報【様式２】（共通）!S21","申報【様式２】（共通）!X21","申報【様式２】（共通）!AG21","申報【様式２】（共通）!B22","申報【様式２】（共通）!D22","申報【様式２】（共通）!I22","申報【様式２】（共通）!N22","申報【様式２】（共通）!S22","申報【様式２】（共通）!X22","申報【様式２】（共通）!AG22","申報【様式２】（共通）!B23","申報【様式２】（共通）!D23","申報【様式２】（共通）!I23","申報【様式２】（共通）!N23","申報【様式２】（共通）!S23","申報【様式２】（共通）!X23","申報【様式２】（共通）!AG23","申報【様式２】（共通）!B24","申報【様式２】（共通）!D24","申報【様式２】（共通）!I24","申報【様式２】（共通）!N24","申報【様式２】（共通）!S24","申報【様式２】（共通）!X24","申報【様式２】（共通）!AG24","申報【様式２】（共通）!B25","申報【様式２】（共通）!D25","申報【様式２】（共通）!I25","申報【様式２】（共通）!N25","申報【様式２】（共通）!S25","申報【様式２】（共通）!X25","申報【様式２】（共通）!AG25","申報【様式２】（共通）!B26","申報【様式２】（共通）!D26","申報【様式２】（共通）!I26","申報【様式２】（共通）!N26","申報【様式２】（共通）!S26","申報【様式２】（共通）!X26","申報【様式２】（共通）!AG26","申報【様式２】（共通）!B27","申報【様式２】（共通）!D27","申報【様式２】（共通）!I27","申報【様式２】（共通）!N27","申報【様式２】（共通）!S27","申報【様式２】（共通）!X27","申報【様式２】（共通）!AG27","申報【様式２】（共通）!B28","申報【様式２】（共通）!D28","申報【様式２】（共通）!I28","申報【様式２】（共通）!N28","申報【様式２】（共通）!S28","申報【様式２】（共通）!X28","申報【様式２】（共通）!AG28","申報【様式２】（共通）!B29","申報【様式２】（共通）!D29","申報【様式２】（共通）!I29","申報【様式２】（共通）!N29","申報【様式２】（共通）!S29","申報【様式２】（共通）!X29","申報【様式２】（共通）!AG29","申【様式５・６】（コミュ）!E8","申【様式５・６】（コミュ）!W8","申【様式５・６】（コミュ）!E10","申【様式５・６】（コミュ）!I10","申【様式５・６】（コミュ）'!M10","申【様式５・６】（コミュ）!F11","申【様式５・６】（コミュ）!P11","申【様式５・６】（コミュ）!E12","申【様式５・６】（コミュ）!AB15","申【様式５・６】（コミュ）!A17","申【様式５・６】（コミュ）!A19","申【様式５・６】（コミュ）!E41","申【様式５・６】（コミュ）!S41","申【様式５・６】（コミュ）!AA41","申【様式５・６】（コミュ）!E42","申【様式５・６】（コミュ）!S42","申【様式５・６】（コミュ）!G43","申【様式５・６】（コミュ）!P43","申【様式５・６】（コミュ）!S44","申【様式５・６】（コミュ）!E45","申【様式５・６】（コミュ）!E46","申【様式５・６】（コミュ）!S46","申【様式５・６】（コミュ）!AA46","申【様式５・６】（コミュ）!E47","申【様式５・６】（コミュ）!S47","申【様式５・６】（コミュ）!G48","申【様式５・６】（コミュ）!P48","申【様式５・６】（コミュ）!S49","申【様式５・６】（コミュ）!E50","申【様式５・６】（コミュ）!E51","申【様式５・６】（コミュ）!S51","申【様式５・６】（コミュ）!AA51","申【様式５・６】（コミュ）!E52","申【様式５・６】（コミュ）!S52","申【様式５・６】（コミュ）!G53","申【様式５・６】（コミュ）!P53","申【様式５・６】（コミュ）!S54","申【様式５・６】（コミュ）!E55","申【様式５・６】（コミュ）!E56","申【様式５・６】（コミュ）!S56","申【様式５・６】（コミュ）!AA56","申【様式５・６】（コミュ）!E57","申【様式５・６】（コミュ）!S57","申【様式５・６】（コミュ）!G58","申【様式５・６】（コミュ）!P58","申【様式５・６】（コミュ）!S59","申【様式５・６】（コミュ）!E60","申【様式５・６】（コミュ）!E61","申【様式５・６】（コミュ）!S61","申【様式５・６】（コミュ）!AA61","申【様式５・６】（コミュ）!E62","申【様式５・６】（コミュ）!S62","申【様式５・６】（コミュ）!G63","申【様式５・６】（コミュ）!P63","申【様式５・６】（コミュ）!S64","申【様式５・６】（コミュ）!E65","申【様式５・６】（コミュ）!E69","申【様式５・６】（コミュ）!S69","申【様式５・６】（コミュ）!AA69","申【様式５・６】（コミュ）!E70","申【様式５・６】（コミュ）!S70","申【様式５・６】（コミュ）!G71","申【様式５・６】（コミュ）!P71","申【様式５・６】（コミュ）!S72","申【様式５・６】（コミュ）!E73","申【様式５・６】（コミュ）!E74","申【様式５・６】（コミュ）!S74","申【様式５・６】（コミュ）!AA74","申【様式５・６】（コミュ）!E75","申【様式５・６】（コミュ）!S75","申【様式５・６】（コミュ）!G76","申【様式５・６】（コミュ）!P76","申【様式５・６】（コミュ）!S77","申【様式５・６】（コミュ）!E78","申【様式５・６】（コミュ）!E79","申【様式５・６】（コミュ）!S79","申【様式５・６】（コミュ）!AA79","申【様式５・６】（コミュ）!E80","申【様式５・６】（コミュ）!S80","申【様式５・６】（コミュ）!G81","申【様式５・６】（コミュ）!P81","申【様式５・６】（コミュ）!S82","申【様式５・６】（コミュ）!E83","申【様式５・６】（コミュ）!E84","申【様式５・６】（コミュ）!S84","申【様式５・６】（コミュ）!AA84","申【様式５・６】（コミュ）!E85","申【様式５・６】（コミュ）!S85","申【様式５・６】（コミュ）!G86","申【様式５・６】（コミュ）!P86","申【様式５・６】（コミュ）!S87","申【様式５・６】（コミュ）!E88","申【様式５・６】（コミュ）!E89","申【様式５・６】（コミュ）!S89","申【様式５・６】（コミュ）!AA89","申【様式５・６】（コミュ）!E90","申【様式５・６】（コミュ）!S90","申【様式５・６】（コミュ）!G91","申【様式５・６】（コミュ）!P91","申【様式５・６】（コミュ）!S92","申【様式５・６】（コミュ）!E93","申【様式５・６】（コミュ）!E97","申【様式５・６】（コミュ）!S97","申【様式５・６】（コミュ）!AA97","申【様式５・６】（コミュ）!E98","申【様式５・６】（コミュ）!S98","申【様式５・６】（コミュ）!G99","申【様式５・６】（コミュ）!P99","申【様式５・６】（コミュ）!S100","申【様式５・６】（コミュ）!E101","申【様式５・６】（コミュ）!E102","申【様式５・６】（コミュ）!S102","申【様式５・６】（コミュ）!AA102","申【様式５・６】（コミュ）!E103","申【様式５・６】（コミュ）!S103","申【様式５・６】（コミュ）!G104","申【様式５・６】（コミュ）!P104","申【様式５・６】（コミュ）!S105","申【様式５・６】（コミュ）!E106","申【様式５・６】（コミュ）!G123","申【様式５・６】（コミュ）!G124","申【様式５・６】（コミュ）!G125","申【様式５・６】（コミュ）!G126","申【様式５・６】（コミュ）!G127","申【様式５・６】（コミュ）!G128","申【様式５・６】（コミュ）!G129","申【様式５・６】（コミュ）!G130","申【様式５・６】（コミュ）!G131","申【様式５・６】（コミュ）!G132","申【様式５・６】（コミュ）!G133","申【様式５・６】（コミュ）!G134","申【様式５・６】（コミュ）!G135","申【様式５・６】（コミュ）!G136","申【様式５・６】（コミュ）!G137","申【様式５・６】（コミュ）!M138","申【様式５・６】（コミュ）!S138","申【様式５・６】（コミュ）!Y153","申【様式５・６】（コミュ）!S158"]
[1,{"$f":"'申【様式１】（共通）'!E4","v":0},{"$f":"'申【様式１】（共通）'!W7","v":0},{"$f":"'申【様式１】（共通）'!E8","v":0},{"$f":"'申【様式１】（共通）'!E7","v":0},{"$f":"'申【様式１】（共通）'!W8","v":0},{"$f":"'申【様式１】（共通）'!F9&\"-\"&'申【様式１】（共通）'!J9","v":"-"},{"$f":"'申【様式１】（共通）'!P9&'申【様式１】（共通）'!E10","v":""},{"$f":"'申【様式１】（共通）'!M12","v":0},{"$f":"'申【様式１】（共通）'!W9","v":0},{"$f":"'申【様式１】（共通）'!W10","v":0},{"$f":"'申【様式１】（共通）'!W11","v":0},{"$f":"'申【様式１】（共通）'!W12","v":0},{"$f":"'申【様式１】（共通）'!E14","v":0},{"$f":"'申【様式１】（共通）'!E16","v":0},{"$f":"'申【様式１】（共通）'!E17","v":0},{"$f":"'申【様式１】（共通）'!A19","v":0},{"$f":"'申報【様式２】（共通）'!I9","v":0},{"$f":"'申報【様式２】（共通）'!I10","v":0},{"$f":"'申報【様式２】（共通）'!N11","v":0},{"$f":"'申報【様式２】（共通）'!AC11","v":0},{"$f":"'申報【様式２】（共通）'!B15","v":0},{"$f":"'申報【様式２】（共通）'!D15","v":0},{"$f":"'申報【様式２】（共通）'!I15","v":0},{"$f":"'申報【様式２】（共通）'!N15","v":0},{"$f":"'申報【様式２】（共通）'!S15","v":"00:00:00"},{"$f":"'申報【様式２】（共通）'!X15","v":0},{"$f":"'申報【様式２】（共通）'!AG15","v":0},{"$f":"'申報【様式２】（共通）'!B16","v":0},{"$f":"'申報【様式２】（共通）'!D16","v":0},{"$f":"'申報【様式２】（共通）'!I16","v":0},{"$f":"'申報【様式２】（共通）'!N16","v":0},{"$f":"'申報【様式２】（共通）'!S16","v":"00:00:00"},{"$f":"'申報【様式２】（共通）'!X16","v":0},{"$f":"'申報【様式２】（共通）'!AG16","v":0},{"$f":"'申報【様式２】（共通）'!B17","v":0},{"$f":"'申報【様式２】（共通）'!D17","v":0},{"$f":"'申報【様式２】（共通）'!I17","v":0},{"$f":"'申報【様式２】（共通）'!N17","v":0},{"$f":"'申報【様式２】（共通）'!S17","v":"00:00:00"},{"$f":"'申報【様式２】（共通）'!X17","v":0},{"$f":"'申報【様式２】（共通）'!AG17","v":0},{"$f":"'申報【様式２】（共通）'!B18","v":0},{"$f":"'申報【様式２】（共通）'!D18","v":0},{"$f":"'申報【様式２】（共通）'!I18","v":0},{"$f":"'申報【様式２】（共通）'!N18","v":0},{"$f":"'申報【様式２】（共通）'!S18","v":"00:00:00"},{"$f":"'申報【様式２】（共通）'!X18","v":0},{"$f":"'申報【様式２】（共通）'!AG18","v":0},{"$f":"'申報【様式２】（共通）'!B19","v":0},{"$f":"'申報【様式２】（共通）'!D19","v":0},{"$f":"'申報【様式２】（共通）'!I19","v":0},{"$f":"'申報【様式２】（共通）'!N19","v":0},{"$f":"'申報【様式２】（共通）'!S19","v":"00:00:00"},{"$f":"'申報【様式２】（共通）'!X19","v":0},{"$f":"'申報【様式２】（共通）'!AG19","v":0},{"$f":"'申報【様式２】（共通）'!B20","v":0},{"$f":"'申報【様式２】（共通）'!D20","v":0},{"$f":"'申報【様式２】（共通）'!I20","v":0},{"$f":"'申報【様式２】（共通）'!N20","v":0},{"$f":"'申報【様式２】（共通）'!S20","v":"00:00:00"},{"$f":"'申報【様式２】（共通）'!X20","v":0},{"$f":"'申報【様式２】（共通）'!AG20","v":0},{"$f":"'申報【様式２】（共通）'!B21","v":0},{"$f":"'申報【様式２】（共通）'!D21","v":0},{"$f":"'申報【様式２】（共通）'!I21","v":0},{"$f":"'申報【様式２】（共通）'!N21","v":0},{"$f":"'申報【様式２】（共通）'!S21","v":"00:00:00"},{"$f":"'申報【様式２】（共通）'!X21","v":0},{"$f":"'申報【様式２】（共通）'!AG21","v":0},{"$f":"'申報【様式２】（共通）'!B22","v":0},{"$f":"'申報【様式２】（共通）'!D22","v":0},{"$f":"'申報【様式２】（共通）'!I22","v":0},{"$f":"'申報【様式２】（共通）'!N22","v":0},{"$f":"'申報【様式２】（共通）'!S22","v":"00:00:00"},{"$f":"'申報【様式２】（共通）'!X22","v":0},{"$f":"'申報【様式２】（共通）'!AG22","v":0},{"$f":"'申報【様式２】（共通）'!B23","v":0},{"$f":"'申報【様式２】（共通）'!D23","v":0},{"$f":"'申報【様式２】（共通）'!I23","v":0},{"$f":"'申報【様式２】（共通）'!N23","v":0},{"$f":"'申報【様式２】（共通）'!S23","v":"00:00:00"},{"$f":"'申報【様式２】（共通）'!X23","v":0},{"$f":"'申報【様式２】（共通）'!AG23","v":0},{"$f":"'申報【様式２】（共通）'!B24","v":0},{"$f":"'申報【様式２】（共通）'!D24","v":0},{"$f":"'申報【様式２】（共通）'!I24","v":0},{"$f":"'申報【様式２】（共通）'!N24","v":0},{"$f":"'申報【様式２】（共通）'!S24","v":"00:00:00"},{"$f":"'申報【様式２】（共通）'!X24","v":0},{"$f":"'申報【様式２】（共通）'!AG24","v":0},{"$f":"'申報【様式２】（共通）'!B25","v":0},{"$f":"'申報【様式２】（共通）'!D25","v":0},{"$f":"'申報【様式２】（共通）'!I25","v":0},{"$f":"'申報【様式２】（共通）'!N25","v":0},{"$f":"'申報【様式２】（共通）'!S25","v":"00:00:00"},{"$f":"'申報【様式２】（共通）'!X25","v":0},{"$f":"'申報【様式２】（共通）'!AG25","v":0},{"$f":"'申報【様式２】（共通）'!B26","v":0},{"$f":"'申報【様式２】（共通）'!D26","v":0},{"$f":"'申報【様式２】（共通）'!I26","v":0},{"$f":"'申報【様式２】（共通）'!N26","v":0},{"$f":"'申報【様式２】（共通）'!S26","v":"00:00:00"},{"$f":"'申報【様式２】（共通）'!X26","v":0},{"$f":"'申報【様式２】（共通）'!AG26","v":0},{"$f":"'申報【様式２】（共通）'!B27","v":0},{"$f":"'申報【様式２】（共通）'!D27","v":0},{"$f":"'申報【様式２】（共通）'!I27","v":0},{"$f":"'申報【様式２】（共通）'!N27","v":0},{"$f":"'申報【様式２】（共通）'!S27","v":"00:00:00"},{"$f":"'申報【様式２】（共通）'!X27","v":0},{"$f":"'申報【様式２】（共通）'!AG27","v":0},{"$f":"'申報【様式２】（共通）'!B28","v":0},{"$f":"'申報【様式２】（共通）'!D28","v":0},{"$f":"'申報【様式２】（共通）'!I28","v":0},{"$f":"'申報【様式２】（共通）'!N28","v":0},{"$f":"'申報【様式２】（共通）'!S28","v":"00:00:00"},{"$f":"'申報【様式２】（共通）'!X28","v":0},{"$f":"'申報【様式２】（共通）'!AG28","v":0},{"$f":"'申報【様式２】（共通）'!B29","v":0},{"$f":"'申報【様式２】（共通）'!D29","v":0},{"$f":"'申報【様式２】（共通）'!I29","v":0},{"$f":"'申報【様式２】（共通）'!N29","v":0},{"$f":"'申報【様式２】（共通）'!S29","v":"00:00:00"},{"$f":"'申報【様式２】（共通）'!X29","v":0},{"$f":"'申報【様式２】（共通）'!AG29","v":0},{"$f":"'申【様式５・６】（コミュ）'!E8","v":0},{"$f":"'申【様式５・６】（コミュ）'!W8","v":0},{"$f":"'申【様式５・６】（コミュ）'!E10","v":0},{"$f":"'申【様式５・６】（コミュ）'!I10","v":0},{"$f":"'申【様式５・６】（コミュ）'!M10","v":0},{"$f":"'申【様式５・６】（コミュ）'!F11","v":0},{"$f":"'申【様式５・６】（コミュ）'!P11","v":0},{"$f":"'申【様式５・６】（コミュ）'!E12","v":""},{"$f":"'申【様式５・６】（コミュ）'!AB15","v":0},{"$f":"'申【様式５・６】（コミュ）'!A17","v":0},{"$f":"'申【様式５・６】（コミュ）'!A19","v":0},{"$f":"'申【様式５・６】（コミュ）'!E44","v":0},{"$f":"'申【様式５・６】（コミュ）'!S44","v":0},{"$f":"'申【様式５・６】（コミュ）'!AA44","v":0},{"$f":"'申【様式５・６】（コミュ）'!E45","v":0},{"$f":"'申【様式５・６】（コミュ）'!S45","v":0},{"$f":"'申【様式５・６】（コミュ）'!G46","v":0},{"$f":"'申【様式５・６】（コミュ）'!P46","v":0},{"$f":"'申【様式５・６】（コミュ）'!S47","v":0},{"$f":"'申【様式５・６】（コミュ）'!E48","v":0},{"$f":"'申【様式５・６】（コミュ）'!E49","v":0},{"$f":"'申【様式５・６】（コミュ）'!S49","v":0},{"$f":"'申【様式５・６】（コミュ）'!AA49","v":0},{"$f":"'申【様式５・６】（コミュ）'!E50","v":0},{"$f":"'申【様式５・６】（コミュ）'!S50","v":0},{"$f":"'申【様式５・６】（コミュ）'!G51","v":0},{"$f":"'申【様式５・６】（コミュ）'!P51","v":0},{"$f":"'申【様式５・６】（コミュ）'!S52","v":0},{"$f":"'申【様式５・６】（コミュ）'!E53","v":0},{"$f":"'申【様式５・６】（コミュ）'!E54","v":0},{"$f":"'申【様式５・６】（コミュ）'!S54","v":0},{"$f":"'申【様式５・６】（コミュ）'!AA54","v":0},{"$f":"'申【様式５・６】（コミュ）'!E55","v":0},{"$f":"'申【様式５・６】（コミュ）'!S55","v":0},{"$f":"'申【様式５・６】（コミュ）'!G56","v":0},{"$f":"'申【様式５・６】（コミュ）'!P56","v":0},{"$f":"'申【様式５・６】（コミュ）'!S57","v":0},{"$f":"'申【様式５・６】（コミュ）'!E58","v":0},{"$f":"'申【様式５・６】（コミュ）'!E59","v":0},{"$f":"'申【様式５・６】（コミュ）'!S59","v":0},{"$f":"'申【様式５・６】（コミュ）'!AA59","v":0},{"$f":"'申【様式５・６】（コミュ）'!E60","v":0},{"$f":"'申【様式５・６】（コミュ）'!S60","v":0},{"$f":"'申【様式５・６】（コミュ）'!G61","v":0},{"$f":"'申【様式５・６】（コミュ）'!P61","v":0},{"$f":"'申【様式５・６】（コミュ）'!S62","v":0},{"$f":"'申【様式５・６】（コミュ）'!E63","v":0},{"$f":"'申【様式５・６】（コミュ）'!E64","v":0},{"$f":"'申【様式５・６】（コミュ）'!S64","v":0},{"$f":"'申【様式５・６】（コミュ）'!AA64","v":0},{"$f":"'申【様式５・６】（コミュ）'!E65","v":0},{"$f":"'申【様式５・６】（コミュ）'!S65","v":0},{"$f":"'申【様式５・６】（コミュ）'!G66","v":0},{"$f":"'申【様式５・６】（コミュ）'!P66","v":0},{"$f":"'申【様式５・６】（コミュ）'!S67","v":0},{"$f":"'申【様式５・６】（コミュ）'!E68","v":0},{"$f":"'申【様式５・６】（コミュ）'!E72","v":0},{"$f":"'申【様式５・６】（コミュ）'!S72","v":0},{"$f":"'申【様式５・６】（コミュ）'!AA72","v":0},{"$f":"'申【様式５・６】（コミュ）'!E73","v":0},{"$f":"'申【様式５・６】（コミュ）'!S73","v":0},{"$f":"'申【様式５・６】（コミュ）'!G74","v":0},{"$f":"'申【様式５・６】（コミュ）'!P74","v":0},{"$f":"'申【様式５・６】（コミュ）'!S75","v":0},{"$f":"'申【様式５・６】（コミュ）'!E76","v":0},{"$f":"'申【様式５・６】（コミュ）'!E77","v":0},{"$f":"'申【様式５・６】（コミュ）'!S77","v":0},{"$f":"'申【様式５・６】（コミュ）'!AA77","v":0},{"$f":"'申【様式５・６】（コミュ）'!E78","v":0},{"$f":"'申【様式５・６】（コミュ）'!S78","v":0},{"$f":"'申【様式５・６】（コミュ）'!G79","v":0},{"$f":"'申【様式５・６】（コミュ）'!P79","v":0},{"$f":"'申【様式５・６】（コミュ）'!S80","v":0},{"$f":"'申【様式５・６】（コミュ）'!E81","v":0},{"$f":"'申【様式５・６】（コミュ）'!E82","v":0},{"$f":"'申【様式５・６】（コミュ）'!S82","v":0},{"$f":"'申【様式５・６】（コミュ）'!AA82","v":0},{"$f":"'申【様式５・６】（コミュ）'!E83","v":0},{"$f":"'申【様式５・６】（コミュ）'!S83","v":0},{"$f":"'申【様式５・６】（コミュ）'!G84","v":0},{"$f":"'申【様式５・６】（コミュ）'!P84","v":0},{"$f":"'申【様式５・６】（コミュ）'!S85","v":0},{"$f":"'申【様式５・６】（コミュ）'!E86","v":0},{"$f":"'申【様式５・６】（コミュ）'!E87","v":0},{"$f":"'申【様式５・６】（コミュ）'!S87","v":0},{"$f":"'申【様式５・６】（コミュ）'!AA87","v":0},{"$f":"'申【様式５・６】（コミュ）'!E88","v":0},{"$f":"'申【様式５・６】（コミュ）'!S88","v":0},{"$f":"'申【様式５・６】（コミュ）'!G89","v":0},{"$f":"'申【様式５・６】（コミュ）'!P89","v":0},{"$f":"'申【様式５・６】（コミュ）'!S90","v":0},{"$f":"'申【様式５・６】（コミュ）'!E91","v":0},{"$f":"'申【様式５・６】（コミュ）'!E92","v":0},{"$f":"'申【様式５・６】（コミュ）'!S92","v":0},{"$f":"'申【様式５・６】（コミュ）'!AA92","v":0},{"$f":"'申【様式５・６】（コミュ）'!E93","v":0},{"$f":"'申【様式５・６】（コミュ）'!S93","v":0},{"$f":"'申【様式５・６】（コミュ）'!G94","v":0},{"$f":"'申【様式５・６】（コミュ）'!P94","v":0},{"$f":"'申【様式５・６】（コミュ）'!S95","v":0},{"$f":"'申【様式５・６】（コミュ）'!E96","v":0},{"$f":"'申【様式５・６】（コミュ）'!E100","v":0},{"$f":"'申【様式５・６】（コミュ）'!S100","v":0},{"$f":"'申【様式５・６】（コミュ）'!AA100","v":0},{"$f":"'申【様式５・６】（コミュ）'!E101","v":0},{"$f":"'申【様式５・６】（コミュ）'!S101","v":0},{"$f":"'申【様式５・６】（コミュ）'!G102","v":0},{"$f":"'申【様式５・６】（コミュ）'!P102","v":0},{"$f":"'申【様式５・６】（コミュ）'!S103","v":0},{"$f":"'申【様式５・６】（コミュ）'!E104","v":0},{"$f":"'申【様式５・６】（コミュ）'!E105","v":0},{"$f":"'申【様式５・６】（コミュ）'!S105","v":0},{"$f":"'申【様式５・６】（コミュ）'!AA105","v":0},{"$f":"'申【様式５・６】（コミュ）'!E106","v":0},{"$f":"'申【様式５・６】（コミュ）'!S106","v":0},{"$f":"'申【様式５・６】（コミュ）'!G107","v":0},{"$f":"'申【様式５・６】（コミュ）'!P107","v":0},{"$f":"'申【様式５・６】（コミュ）'!S108","v":0},{"$f":"'申【様式５・６】（コミュ）'!E109","v":0},{"$f":"'申【様式５・６】（コミュ）'!G126","v":"　"},{"$f":"'申【様式５・６】（コミュ）'!G127","v":"　"},{"$f":"'申【様式５・６】（コミュ）'!G128","v":"　"},{"$f":"'申【様式５・６】（コミュ）'!G129","v":"　"},{"$f":"'申【様式５・６】（コミュ）'!G130","v":"　"},{"$f":"'申【様式５・６】（コミュ）'!G131","v":"　"},{"$f":"'申【様式５・６】（コミュ）'!G132","v":"　"},{"$f":"'申【様式５・６】（コミュ）'!G133","v":"　"},{"$f":"'申【様式５・６】（コミュ）'!G134","v":"　"},{"$f":"'申【様式５・６】（コミュ）'!G135","v":"　"},{"$f":"'申【様式５・６】（コミュ）'!G136","v":"　"},{"$f":"'申【様式５・６】（コミュ）'!G137","v":"　"},{"$f":"'申【様式５・６】（コミュ）'!G138","v":"　"},{"$f":"'申【様式５・６】（コミュ）'!G139","v":"　"},{"$f":"'申【様式５・６】（コミュ）'!G140","v":"　"},{"$f":"'申【様式５・６】（コミュ）'!M141","v":0},{"$f":"'申【様式５・６】（コミュ）'!S141","v":0},{"$f":"'申【様式５・６】（コミュ）'!Y156","v":0},{"$f":"'申【様式５・６】（コミュ）'!S161","v":0}]

{"sheet":"申【様式１】（共通）","index":2,"n_rows":18,"n_cols":30,"rows_kept":18,"cut":false,"hidden":false,"merged":[[11,22,11,29],[12,0,12,29],[11,19,11,21],[13,0,13,3],[13,4,13,29],[8,0,11,3],[8,5,8,7],[8,9,8,11],[8,12,8,14],[8,15,8,18],[11,4,11,11],[11,12,11,18],[8,22,8,29],[9,4,10,18],[9,19,9,21],[9,22,9,29],[7,0,7,3],[7,4,7,18],[7,19,7,21],[7,22,7,26],[7,27,7,29],[14,0,14,29],[0,0,0,2],[0,24,0,26],[0,27,0,28],[2,0,2,29],[3,0,3,3],[3,4,3,12],[3,13,3,29],[10,19,10,21],[10,22,10,29],[8,19,8,21],[5,0,5,29],[6,0,6,3],[6,4,6,18],[6,19,6,21],[6,22,6,29],[17,0,17,29],[18,0,18,29],[15,4,15,29],[15,0,15,3],[16,0,16,3],[16,4,16,29]]}
["様式１",null,null,null,null,null,null,null,null,null,null,null,null,null,null,null,null,null,null,null,null,null,null,null,"応募No.",null,null,null,null,"番"]
[]
["令和5年度文化芸術による子供育成推進事業　調査票（共通）"]
["都道府県・\n政令指定都市名"]
[null,null,null,null,null,null,null,null,null,null,null,null,null,null,null,null,null,null,null,null,null,null,null,null,null,null,null,null,null,"※オレンジセル横の▼をクリックすると選択肢が表示されますので該当するものを選択してください。"]
["01.実施希望校情報"]
["ふりがな",null,null,null,null,null,null,null,null,null,null,null,null,null,null,null,null,null,null,"学校コード"]
["実施校名",null,null,null,null,null,null,null,null,null,null,null,null,null,null,null,null,null,null,"全校\n児童生徒",null,null,null,null,null,null,null,"人"]
["実施校所在地",null,null,null,"〒",null,null,null,"-",null,null,null,"都道府県",null,null,null,null,null,null,"学校長名"]
[null,null,null,null,null,null,null,null,null,null,null,null,null,null,null,null,null,null,null,"担当者名"]
[null,null,null,null,null,null,null,null,null,null,null,null,null,null,null,null,null,null,null,"TEL"]
[null,null,null,null,"最寄り駅又はバス停",null,null,null,null,null,null,null,null,null,null,null,null,null,null,"メール"]
["02.申請区分"]
["申請区分"]
["03.文化庁「令和4年度文化芸術による子供育成推進事業」への採択実績がある場合の実施分野・団体または講師名"]
["実施分野"]
["団体または\n講師名"]
["04.備考欄　　申請に当たり特記事項がある場合は記入してください。特にない場合は空欄で構いません。"]

{"sheet":"申報【様式２】（共通）","index":3,"n_rows":30,"n_cols":42,"rows_kept":30,"cut":false,"hidden":false,"merged":[[27,35,27,36],[28,35,28,36],[27,32,27,34],[28,32,28,34],[27,23,27,31],[28,23,28,31],[28,1,28,2],[28,3,28,7],[28,8,28,12],[28,13,28,17],[28,18,28,22],[27,1,27,2],[27,3,27,7],[27,8,27,12],[27,13,27,17],[27,18,27,22],[23,35,23,36],[24,35,24,36],[23,32,23,34],[24,32,24,34],[23,23,23,31],[24,23,24,31],[26,1,26,2],[26,3,26,7],[26,8,26,12],[26,13,26,17],[26,18,26,22],[25,1,25,2],[25,3,25,7],[25,8,25,12],[25,13,25,17],[25,18,25,22],[25,35,25,36],[26,35,26,36],[25,32,25,34],[26,32,26,34],[25,23,25,31],[26,23,26,31],[24,1,24,2],[24,3,24,7],[24,8,24,12],[24,13,24,17],[24,18,24,22],[23,1,23,2],[23,3,23,7],[23,8,23,12],[23,13,23,17],[23,18,23,22],[19,35,19,36],[20,35,20,36],[19,32,19,34],[20,32,20,34],[19,23,19,31],[20,23,20,31],[22,1,22,2],[22,3,22,7],[22,8,22,12],[22,13,22,17],[22,18,22,22],[21,1,21,2],[21,3,21,7],[21,8,21,12],[21,13,21,17],[21,18,21,22],[21,35,21,36],[22,35,22,36],[21,32,21,34],[22,32,22,34],[21,23,21,31],[22,23,22,31],[20,1,20,2],[20,3,20,7],[20,8,20,12],[20,13,20,17],[20,18,20,22],[19,1,19,2],[19,3,19,7],[19,8,19,12],[19,13,19,17],[19,18,19,22],[15,35,15,36],[16,35,16,36],[15,32,15,34],[16,32,16,34],[15,23,15,31],[16,23,16,31],[18,1,18,2],[18,3,18,7],[18,8,18,12],[18,13,18,17],[18,18,18,22],[17,1,17,2],[17,3,17,7],[17,8,17,12],[17,13,17,17],[17,18,17,22],[17,35,17,36],[18,35,18,36],[17,32,17,34],[18,32,18,34],[17,23,17,31],[18,23,18,31],[13,13,13,17],[13,18,13,22],[16,1,16,2],[16,3,16,7],[16,8,16,12],[16,13,16,17],[16,18,16,22],[15,1,15,2],[15,3,15,7],[15,8,15,12],[15,13,15,17],[15,18,15,22],[0,0,0,2],[1,0,1,36],[2,0,2,36],[3,0,3,3],[3,4,3,17],[3,19,3,22],[3,23,3,36],[14,35,14,36],[14,32,14,34],[13,23,13,31],[14,23,14,31],[13,32,13,36],[14,1,14,2],[14,3,14,7],[14,8,14,12],[14,13,14,17],[14,18,14,22],[5,0,5,3],[5,4,5,36],[12,27,12,28],[12,35,12,36],[13,1,13,2],[13,3,13,7],[13,8,13,12],[8,0,8,7],[9,0,9,7],[10,0,10,7],[8,8,8,36],[9,8,9,36],[10,23,10,27],[10,28,10,36],[10,13,10,22],[10,8,10,12]]}
["様式２",null,null,null,null,null,null,null,null,null,null,null,null,null,null,null,null,null,null,null,null,null,null,null,null,null,null,null,null,null,null,null,null,null,null,null,null,null,null,{"$f":"IF(AND(E6=\"芸術家の派遣事業\",COUNTIF(B15:B29,\"○\")>=1),\"選択できません\",IF(AND(E6=\"コミュニケーション能力向上事業\",COUNTIF(B15:B29,\"○\")>=5),\"選択できません\",\"○\"))","v":"○"}]
[]
["令和5年度文化芸術による子供育成推進事業　被派遣者　略歴表（共通）"]
["都道府県・\n政令指定都市名",null,null,null,{"$f":"IF('申【様式１】（共通）'!E4=\"\",\"\",'申【様式１】（共通）'!E4)","v":""},null,null,null,null,null,null,null,null,null,null,null,null,null,null,"学校名",null,null,null,{"$f":"IF('申【様式１】（共通）'!E8=\"\",\"\",'申【様式１】（共通）'!E8)","v":""}]
[]
["事業区分",null,null,null,{"$f":"IF('申【様式１】（共通）'!E14=\"\",\"\",'申【様式１】（共通）'!E14)","v":""}]
[]
["1.代表者名"]
["本事業担当者名"]
["団体名",null,null,null,null,null,null,null,null,null,null,null,null,null,null,null,null,null,null,null,null,null,null,null,null,null,null,null,null,null,null,null,null,null,null,null,null,null,null,{"$f":"IF(B10=\"○\",\"講師\",\"実技\")","v":"実技"},{"$f":"IF(AN10=\"講師\",\"実技\",\"単労\")","v":"単労"},{"$f":"IF(AO10=\"実技\",\"単労\",\"\")","v":""}]
["担当者連絡先",null,null,null,null,null,null,null,"メールアドレス",null,null,null,null,null,null,null,null,null,null,null,null,null,null,"TEL",null,null,null,null,null,null,null,null,null,null,null,null,null,null,null,{"$f":"IF(B11=\"○\",\"講師\",\"実技\")","v":"実技"},{"$f":"IF(AN11=\"講師\",\"実技\",\"単労\")","v":"単労"},{"$f":"IF(AO11=\"実技\",\"単労\",\"\")","v":""}]
[null,null,null,null,null,null,null,null,null,null,null,null,null,null,null,null,null,null,null,null,null,null,null,null,null,null,null,null,null,null,null,null,null,null,null,null,"＊事務局より連絡する場合がありますので、つながりやすい連絡先を御記入ください。"]
["2.被派遣者略歴表",null,null,null,null,null,null,null,null,null,null,null,null,null,null,null,null,null,null,null,null,null,null,null,null,null,null,"令和",null,null,"年",null,"月",null,"日","現在"]
["No.","講師\nに○",null,"氏名（本名）",null,null,null,null,"ふりがな",null,null,null,null,"芸名・活動名",null,null,null,null,"生年月日",null,null,null,null,"専門分野",null,null,null,null,null,null,null,null,"活動年数"]
[1,null,null,null,null,null,null,null,null,null,null,null,null,null,null,null,null,null,null,null,null,null,null,null,null,null,null,null,null,null,null,null,null,null,null,"年",null,null,null,{"$f":"IF(B15=\"○\",\"講師\",\"実技\")","v":"実技"},{"$f":"IF(AN15=\"講師\",\"実技\",\"単労\")","v":"単労"},{"$f":"IF(AO15=\"実技\",\"単労\",\"\")","v":""}]
[2,null,null,null,null,null,null,null,null,null,null,null,null,null,null,null,null,null,null,null,null,null,null,null,null,null,null,null,null,null,null,null,null,null,null,"年",null,null,null,{"$f":"IF(B16=\"○\",\"講師\",\"実技\")","v":"実技"},{"$f":"IF(AN16=\"講師\",\"実技\",\"単労\")","v":"単労"},{"$f":"IF(AO16=\"実技\",\"単労\",\"\")","v":""}]
[3,null,null,null,null,null,null,null,null,null,null,null,null,null,null,null,null,null,null,null,null,null,null,null,null,null,null,null,null,null,null,null,null,null,null,"年",null,null,null,"実技","単労",""]
[4,null,null,null,null,null,null,null,null,null,null,null,null,null,null,null,null,null,null,null,null,null,null,null,null,null,null,null,null,null,null,null,null,null,null,"年",null,null,null,"実技","単労",""]
[5,null,null,null,null,null,null,null,null,null,null,null,null,null,null,null,null,null,null,null,null,null,null,null,null,null,null,null,null,null,null,null,null,null,null,"年",null,null,null,"実技","単労",""]
[6,null,null,null,null,null,null,null,null,null,null,null,null,null,null,null,null,null,null,null,null,null,null,null,null,null,null,null,null,null,null,null,null,null,null,"年",null,null,null,"実技","単労",""]
[7,null,null,null,null,null,null,null,null,null,null,null,null,null,null,null,null,null,null,null,null,null,null,null,null,null,null,null,null,null,null,null,null,null,null,"年",null,null,null,"実技","単労",""]
[8,null,null,null,null,null,null,null,null,null,null,null,null,null,null,null,null,null,null,null,null,null,null,null,null,null,null,null,null,null,null,null,null,null,null,"年",null,null,null,"実技","単労",""]
[9,null,null,null,null,null,null,null,null,null,null,null,null,null,null,null,null,null,null,null,null,null,null,null,null,null,null,null,null,null,null,null,null,null,null,"年",null,null,null,"実技","単労",""]
[10,null,null,null,null,null,null,null,null,null,null,null,null,null,null,null,null,null,null,null,null,null,null,null,null,null,null,null,null,null,null,null,null,null,null,"年",null,null,null,"実技","単労",""]
[11,null,null,null,null,null,null,null,null,null,null,null,null,null,null,null,null,null,null,null,null,null,null,null,null,null,null,null,null,null,null,null,null,null,null,"年",null,null,null,"実技","単労",""]
[12,null,null,null,null,null,null,null,null,null,null,null,null,null,null,null,null,null,null,null,null,null,null,null,null,null,null,null,null,null,null,null,null,null,null,"年",null,null,null,"実技","単労",""]
[13,null,null,null,null,null,null,null,null,null,null,null,null,null,null,null,null,null,null,null,null,null,null,null,null,null,null,null,null,null,null,null,null,null,null,"年",null,null,null,"実技","単労",""]
[14,null,null,null,null,null,null,null,null,null,null,null,null,null,null,null,null,null,null,null,null,null,null,null,null,null,null,null,null,null,null,null,null,null,null,"年",null,null,null,"実技","単労",""]
[15,null,null,null,null,null,null,null,null,null,null,null,null,null,null,null,null,null,null,null,null,null,null,null,null,null,null,null,null,null,null,null,null,null,null,"年",null,null,null,"実技","単労",""]
[null,null,null,null,null,null,null,null,null,null,null,null,null,null,null,null,null,null,null,null,null,null,null,null,null,null,null,null,null,null,null,null,null,null,null,null,"参加予定の芸術家が15名を超える場合は別紙にまとめて御提出ください。"]

{"sheet":"報【様式8】（共通）","index":4,"n_rows":38,"n_cols":50,"rows_kept":38,"cut":false,"hidden":true,"merged":[[37,16,37,22],[37,23,37,35],[19,0,20,35],[23,0,23,35],[35,16,35,22],[35,23,35,35],[36,16,36,22],[36,23,36,35],[16,0,16,35],[3,0,3,12],[3,13,3,14],[7,18,7,22],[7,23,8,35],[8,18,8,22],[9,18,9,22],[9,23,9,35],[10,18,10,22],[10,23,10,35],[11,18,11,22],[11,23,11,35],[15,0,15,35],[1,25,1,26],[1,27,1,28],[1,30,1,31],[1,33,1,34],[2,0,2,12],[2,13,2,14]]}
["様式8",null,null,null,null,null,null,null,null,null,null,null,null,null,null,null,null,null,null,null,null,null,null,null,null,null,null,null,null,null,null,null,null,null,null,null,null,null,null,null,null,null,null,null,null,null,null,null,null,{"$f":"IF('申【様式１】（共通）'!E14=\"芸術家の派遣事業\",\"h\",\"c\")","v":"c"}]
[null,null,null,null,null,null,null,null,null,null,null,null,null,null,null,null,null,null,null,null,null,null,null,null,null,"令和",null,null,null,"年",null,null,"月",null,null,"日"]
["近畿日本ツーリスト㈱",null,null,null,null,null,null,null,null,null,null,null,null,"御中"]
[{"$f":"IFERROR(IF(AX1=\"h\",VLOOKUP(X8,選択肢!$AN:$AQ,4,FALSE),IF(AND(AX1=\"c\",OR(X8=\"北海道\",X8=\"栃木県\",X8=\"東京都\",X8=\"神奈川県\",X8=\"岐阜県\",X8=\"静岡県\",X8=\"滋賀県\",X8=\"大阪府\",X8=\"兵庫県\",X8=\"岡山県\",X8=\"香川県\",X8=\"福岡県\",X8=\"佐賀県\",X8=\"沖縄県\")),\"\",VLOOKUP('報【様式8】（共通）'!X8,選択肢!AS:AW,5,FALSE))),\"\")","v":""},null,null,null,null,null,null,null,null,null,null,null,null,"殿"]
["※「（各都道府県・政令指定都市の所管課）長」と記入してください"]
[]
[]
[null,null,null,null,null,null,null,null,null,null,null,null,null,null,null,null,null,null,"都道府県",null,null,null,null,{"$f":"IF('申【様式１】（共通）'!E4=\"\",\"\",'申【様式１】（共通）'!E4)","v":""}]
[null,null,null,null,null,null,null,null,null,null,null,null,null,null,null,null,null,null,"政令指定都市名"]
[null,null,null,null,null,null,null,null,null,null,null,null,null,null,null,null,null,null,"実施校名",null,null,null,null,{"$f":"IF('申【様式１】（共通）'!E8=\"\",\"\",'申【様式１】（共通）'!E8)","v":""}]
[null,null,null,null,null,null,null,null,null,null,null,null,null,null,null,null,null,null,"実施校所在地",null,null,null,null,{"$f":"IF('申【様式１】（共通）'!E10=\"\",\"\",'申【様式１】（共通）'!P9&'申【様式１】（共通）'!E10)","v":""}]
[null,null,null,null,null,null,null,null,null,null,null,null,null,null,null,null,null,null,"実施校代表者",null,null,null,null,{"$f":"IF('申【様式１】（共通）'!E10=\"\",\"\",'申【様式１】（共通）'!E10)","v":""}]
[]
[]
[]
[{"$f":"\"令和5年度 文化芸術による子供育成推進事業（\"&'申【様式１】（共通）'!E14&\"）\"","v":"令和5年度 文化芸術による子供育成推進事業（）"}]
["実施報告書"]
[]
[]
[{"$f":"\"令和5年■月■日付け事務連絡で決定のありました令和5年度文化芸術による\n子供育成推進事業（\"&'申【様式１】（共通）'!E14&\"）が終了しましたので報告します。\"","v":"令和5年■月■日付け事務連絡で決定のありました令和5年度文化芸術による\n子供育成推進事業（）が終了しましたので報告します。"}]
[]
[]
[]
["記"]
[]
[]
[]
[null,null,null,null,null,null,null,"添付書類"]
[]
[null,null,null,null,null,null,null,null,"①",{"$f":"IF(AX1=\"h\",\"【様式9】\",\"【様式11】\")&\"実施状況報告書\"","v":"【様式11】実施状況報告書"}]
[null,null,null,null,null,null,null,null,"②",{"$f":"IF(AX1=\"h\",\"【様式10】\",\"【様式12】\")&\"経費報告書兼支払依頼書\"","v":"【様式12】経費報告書兼支払依頼書"}]
[null,null,null,null,null,null,null,null,"③","【様式2】被派遣者略歴表"]
[null,null,null,null,null,null,null,null,"④","【様式7】被派遣者旅費計算書"]
[]
[null,null,null,null,null,null,null,null,null,null,null,null,null,null,null,null,null,null,null,null,null,null,null,null,null,null,null,null,null,null,null,null,null,null,null,"（講師記入欄）"]
[null,null,null,null,null,null,null,null,null,null,null,null,null,null,null,null,"書類作成担当者名"]
[null,null,null,null,null,null,null,null,null,null,null,null,null,null,null,null,"TEL"]
[null,null,null,null,null,null,null,null,null,null,null,null,null,null,null,null,"E-mail"]

{"sheet":"申【様式３・４】（派遣）","index":5,"n_rows":122,"n_cols":34,"rows_kept":122,"cut":false,"hidden":true,"merged":[[114,0,114,23],[114,24,114,28],[119,0,119,17],[119,18,119,26],[119,27,119,29],[113,0,113,5],[113,6,113,11],[113,12,113,16],[113,18,113,21],[113,22,113,23],[113,24,113,28],[112,0,112,5],[112,6,112,11],[112,12,112,16],[112,18,112,21],[112,22,112,23],[112,24,112,28],[111,0,111,5],[111,6,111,11],[111,12,111,16],[111,18,111,21],[111,22,111,23],[111,24,111,28],[110,0,110,5],[110,6,110,11],[110,12,110,16],[110,18,110,21],[110,22,110,23],[110,24,110,28],[109,0,109,5],[109,6,109,11],[109,12,109,16],[109,18,109,21],[109,22,109,23],[109,24,109,28],[106,0,106,5],[106,6,106,11],[106,12,106,17],[106,18,106,21],[106,22,106,23],[106,24,106,29],[108,0,108,5],[108,6,108,11],[108,12,108,16],[108,18,108,21],[108,22,108,23],[108,24,108,28],[107,0,107,5],[107,6,107,11],[107,12,107,16],[107,18,107,21],[107,22,107,23],[107,24,107,28],[98,0,98,5],[98,6,98,11],[98,12,98,16],[98,18,98,22],[98,24,98,28],[99,0,99,11],[99,12,99,16],[99,18,99,22],[99,24,99,28],[96,0,96,5],[96,6,96,11],[96,12,96,16],[96,18,96,22],[96,24,96,28],[97,0,97,5],[97,6,97,11],[97,12,97,16],[97,18,97,22],[97,24,97,28],[94,0,94,5],[94,6,94,11],[94,12,94,16],[94,18,94,22],[94,24,94,28],[95,0,95,5],[95,6,95,11],[95,12,95,16],[95,18,95,22],[95,24,95,28],[92,0,92,5],[92,6,92,11],[92,12,92,16],[92,18,92,22],[92,24,92,28],[93,0,93,5],[93,6,93,11],[93,12,93,16],[93,18,93,22],[93,24,93,28],[90,0,90,5],[90,6,90,11],[90,12,90,16],[90,18,90,22],[90,24,90,28],[91,0,91,5],[91,6,91,11],[91,12,91,16],[91,18,91,22],[91,24,91,28],[88,0,88,5],[88,6,88,11],[88,12,88,16],[88,18,88,22],[88,24,88,28],[89,0,89,5],[89,6,89,11],[89,12,89,16],[89,18,89,22],[89,24,89,28],[86,0,86,5],[86,6,86,11],[86,12,86,16],[86,18,86,22],[86,24,86,28],[87,0,87,5],[87,6,87,11],[87,12,87,16],[87,18,87,22],[87,24,87,28],[84,0,84,5],[84,6,84,11],[84,12,84,17],[84,18,84,23],[84,24,84,29],[85,0,85,5],[85,6,85,11],[85,12,85,16],[85,18,85,22],[85,24,85,28],[75,0,75,29],[76,0,76,29],[77,0,77,2],[78,0,78,29],[80,0,81,3],[80,4,80,7],[80,8,80,11],[80,12,80,15],[80,17,80,22],[80,23,80,29],[81,4,81,7],[81,8,81,11],[81,12,81,15],[81,17,81,19],[81,20,81,29],[71,5,71,9],[71,11,71,24],[71,26,71,29],[72,1,72,29],[73,1,73,29],[74,0,74,29],[69,24,69,25],[69,26,69,29],[70,5,70,10],[70,11,70,12],[70,14,70,15],[70,16,70,17],[70,19,70,20],[70,21,70,22],[70,24,70,25],[70,26,70,29],[69,5,69,10],[69,11,69,12],[69,14,69,15],[69,16,69,17],[69,19,69,20],[69,21,69,22],[62,1,71,3],[62,4,62,10],[67,24,67,25],[67,26,67,29],[68,5,68,10],[68,11,68,12],[68,14,68,15],[68,16,68,17],[68,19,68,20],[68,21,68,22],[68,24,68,25],[68,26,68,29],[67,5,67,10],[67,11,67,12],[67,14,67,15],[67,16,67,17],[67,19,67,20],[67,21,67,22],[66,5,66,10],[66,11,66,12],[66,14,66,15],[66,16,66,17],[66,19,66,20],[66,21,66,22],[66,24,66,25],[66,26,66,29],[65,5,65,10],[65,11,65,12],[65,14,65,15],[65,16,65,17],[65,19,65,20],[65,21,65,22],[64,5,64,10],[64,11,64,12],[64,14,64,15],[64,16,64,17],[64,19,64,20],[64,21,64,22],[64,24,64,25],[64,26,64,29],[65,24,65,25],[65,26,65,29],[62,11,62,25],[62,26,62,29],[63,5,63,10],[63,11,63,12],[63,14,63,15],[63,16,63,17],[63,19,63,20],[63,21,63,22],[60,1,61,3],[60,4,61,5],[60,6,61,8],[60,9,61,10],[60,11,61,14],[60,15,60,29],[61,15,61,17],[61,18,61,29],[63,24,63,25],[63,26,63,29],[58,1,58,3],[58,4,58,14],[58,15,58,17],[58,18,58,29],[59,1,59,3],[59,4,59,14],[59,15,59,20],[59,21,59,29],[56,24,56,25],[56,26,56,27],[56,28,56,29],[56,31,56,32],[57,1,57,3],[57,4,57,5],[57,9,57,12],[57,14,57,17],[57,21,57,28],[53,5,53,9],[53,11,53,24],[53,26,53,29],[54,1,54,29],[55,1,55,29],[56,0,73,0],[56,1,56,3],[56,4,56,14],[56,15,56,17],[56,18,56,23],[51,24,51,25],[51,26,51,29],[52,5,52,10],[52,11,52,12],[52,14,52,15],[52,16,52,17],[52,19,52,20],[52,21,52,22],[52,24,52,25],[52,26,52,29],[51,5,51,10],[51,11,51,12],[51,14,51,15],[51,16,51,17],[51,19,51,20],[51,21,51,22],[44,1,53,3],[44,4,44,10],[44,11,44,25],[49,24,49,25],[49,26,49,29],[50,5,50,10],[50,11,50,12],[50,14,50,15],[50,16,50,17],[50,19,50,20],[50,21,50,22],[50,24,50,25],[50,26,50,29],[49,5,49,10],[49,11,49,12],[49,14,49,15],[49,16,49,17],[49,19,49,20],[49,21,49,22],[48,5,48,10],[48,11,48,12],[48,14,48,15],[48,16,48,17],[48,19,48,20],[48,21,48,22],[48,24,48,25],[48,26,48,29],[47,5,47,10],[47,11,47,12],[47,14,47,15],[47,16,47,17],[47,19,47,20],[47,21,47,22],[46,5,46,10],[46,11,46,12],[46,14,46,15],[46,16,46,17],[46,19,46,20],[46,21,46,22],[46,24,46,25],[46,26,46,29],[47,24,47,25],[47,26,47,29],[44,26,44,29],[45,5,45,10],[45,11,45,12],[45,14,45,15],[45,16,45,17],[45,19,45,20],[45,21,45,22],[42,1,43,3],[42,4,43,5],[42,6,43,8],[42,9,43,10],[42,11,43,14],[42,15,42,29],[43,15,43,17],[43,18,43,29],[45,24,45,25],[45,26,45,29],[40,1,40,3],[40,4,40,14],[40,15,40,17],[40,18,40,29],[41,1,41,3],[41,4,41,14],[41,15,41,20],[41,21,41,29],[38,24,38,25],[38,26,38,27],[38,28,38,29],[38,31,38,32],[39,1,39,3],[39,4,39,5],[39,9,39,12],[39,14,39,17],[39,21,39,28],[35,5,35,9],[35,11,35,24],[35,26,35,29],[36,1,36,29],[37,1,37,29],[38,0,55,0],[38,1,38,3],[38,4,38,14],[38,15,38,17],[38,18,38,23],[33,24,33,25],[33,26,33,29],[34,5,34,10],[34,11,34,12],[34,14,34,15],[34,16,34,17],[34,19,34,20],[34,21,34,22],[34,24,34,25],[34,26,34,29],[33,5,33,10],[33,11,33,12],[33,14,33,15],[33,16,33,17],[33,19,33,20],[33,21,33,22],[26,1,35,3],[26,4,26,10],[26,11,26,25],[31,24,31,25],[31,26,31,29],[32,5,32,10],[32,11,32,12],[32,14,32,15],[32,16,32,17],[32,19,32,20],[32,21,32,22],[32,24,32,25],[32,26,32,29],[31,5,31,10],[31,11,31,12],[31,14,31,15],[31,16,31,17],[31,19,31,20],[31,21,31,22],[30,5,30,10],[30,11,30,12],[30,14,30,15],[30,16,30,17],[30,19,30,20],[30,21,30,22],[30,24,30,25],[30,26,30,29],[29,5,29,10],[29,11,29,12],[29,14,29,15],[29,16,29,17],[29,19,29,20],[29,21,29,22],[28,5,28,10],[28,11,28,12],[28,14,28,15],[28,16,28,17],[28,19,28,20],[28,21,28,22],[28,24,28,25],[28,26,28,29],[29,24,29,25],[29,26,29,29],[24,1,25,3],[24,4,25,5],[24,6,25,8],[24,9,25,10],[24,11,25,14],[24,15,24,29],[25,15,25,17],[25,18,25,29],[27,24,27,25],[27,26,27,29],[23,4,23,14],[23,15,23,20],[23,21,23,29],[20,26,20,27],[20,28,20,29],[26,26,26,29],[27,5,27,10],[27,11,27,12],[27,14,27,15],[27,16,27,17],[27,19,27,20],[27,21,27,22],[20,31,20,32],[21,1,21,3],[21,4,21,5],[21,6,21,8],[21,9,21,12],[21,14,21,17],[21,21,21,28],[12,0,12,3],[12,4,12,14],[12,15,12,17],[12,18,12,28],[20,0,37,0],[20,1,20,3],[20,4,20,14],[20,15,20,17],[20,18,20,23],[20,24,20,25],[14,0,14,29],[15,27,15,29],[22,1,22,3],[22,4,22,14],[22,15,22,17],[22,18,22,29],[23,1,23,3],[10,5,10,7],[10,9,10,29],[11,0,11,3],[11,4,11,18],[11,19,11,21],[11,22,11,29],[8,0,9,3],[8,4,8,7],[8,8,8,11],[8,12,8,29],[9,4,9,7],[9,8,9,11],[9,12,9,29],[16,0,16,29],[17,0,17,29],[18,0,18,29],[19,0,19,29],[15,22,15,26],[13,0,13,29],[15,0,15,21],[0,0,0,2],[0,24,0,26],[0,27,0,28],[2,0,2,29],[3,0,3,3],[3,4,3,12],[3,13,3,29],[5,0,5,3],[5,4,5,29],[6,0,6,3],[6,4,6,29],[7,0,7,3],[7,4,7,14],[7,15,7,18],[7,19,7,21],[7,22,7,29],[10,0,10,3]]}
["様式3",null,null,null,null,null,null,null,null,null,null,null,null,null,null,null,null,null,null,null,null,null,null,null,"応募No.",null,null,null,null,"番"]
[]
["令和5年度文化芸術による子供育成推進事業（芸術家の派遣事業）　実施希望調書"]
["都道府県・\n政令指定都市名",null,null,null,{"$f":"IF('申【様式１】（共通）'!E4=\"\",\"\",'申【様式１】（共通）'!E4)","v":""}]
[null,null,null,null,null,null,null,null,null,null,null,null,null,null,null,null,null,null,null,null,null,null,null,null,null,null,null,null,null,"※オレンジセル横の▼をクリックすると選択肢が表示されますので該当するものを選択してください。"]
["ふりがな",null,null,null,{"$f":"IF('申【様式１】（共通）'!E7=\"\",\"\",'申【様式１】（共通）'!E7)","v":""}]
["実施校名",null,null,null,{"$f":"IF('申【様式１】（共通）'!E8=\"\",\"\",'申【様式１】（共通）'!E8)","v":""}]
["実施会場",null,null,null,null,null,null,null,null,null,null,null,null,null,null,"他校との合同\n開催の状況",null,null,null,"参加学校名"]
["実施分野",null,null,null,"大項目",null,null,null,"中項目",null,null,null,{"$f":"IF(COUNTIF(I10,\"*その他\")=1,\"中項目「その他」について、下記に具体的な実施分野を記入してください。\",\"\")","v":""}]
[]
["実施回数",null,null,null,"全",{"$f":"COUNTA(E21,E39,E57)","v":0},null,null,"回"]
["講師氏名\n※本名",null,null,null,{"$f":"IFERROR(VLOOKUP(\"○\",'申報【様式２】（共通）'!B:D,3,FALSE),\"\")","v":""},null,null,null,null,null,null,null,null,null,null,null,null,null,null,"所属団体",null,null,{"$f":"IF('申報【様式２】（共通）'!I10=\"\",\"\",'申報【様式２】（共通）'!I10)","v":""}]
["学校との関係",null,null,null,null,null,null,null,null,null,null,null,null,null,null,"その他（",null,null,null,null,null,null,null,null,null,null,null,null,null,"）"]
["■ 令和５年度の申請で４年連続での同一分野または講師による申請を行う学校は下記について回答をお願いします。"]
["1.　次の確認事項をお読みになり、了承したら右側の「確認済み」を選択してください。"]
["本校は他の分野・講師による実施についても検討した上で、本申請内容にて申請しています。",null,null,null,null,null,null,null,null,null,null,null,null,null,null,null,null,null,null,null,null,null,"確認したら選択→"]
["2.　前年度と同一分野・講師で実施する理由として最も当てはまる項目を選択してください。"]
[]
["3.　具体的な理由を記してください。（100文字以上250文字以内）"]
[]
["第１回","実施日時",null,null,null,null,null,null,null,null,null,null,null,null,null,"実施時間",null,null,null,null,null,null,null,null,"実施\n合計",null,null,null,"分",null,null,{"$f":"IF(AA21>=150,3,IF(AND(AA21<150,AA21>=90),2,IF(AA21=\"\",0,1)))","v":0},null,"時間分の謝金計上可"]
[null,"連続する実施",null,null,null,null,"有の場合→",null,null,"都道府県・\n政令指定都市名",null,null,null,"　（",null,null,null,null,"）","学校名（",null,null,null,null,null,null,null,null,null,"）"]
[null,"教科の\n位置付け",null,null,null,null,null,null,null,null,null,null,null,null,null,{"$f":"IFERROR(VLOOKUP(E23,選択肢!$Y$2:$Z$6,2,FALSE),\"\")","v":""}]
[null,"著作権",null,null,null,null,null,null,null,null,null,null,null,null,null,{"$f":"IF(E24<>\"許諾が必要\",\"\",\"→必要な場合は\")","v":""}]
[null,"参加\n児童生徒",null,null,"合計",null,null,null,null,"人",null,"参加児童\n生徒単位"]
[null,null,null,null,null,null,null,null,null,null,null,null,null,null,null,{"$f":"IFERROR(VLOOKUP(P25,選択肢!AE3:AF5,2,FALSE),\"\")","v":""}]
[null,"補助者",null,null,"氏名   ※本名",null,null,null,null,null,null,"種別・従事時間",null,null,null,null,null,null,null,null,null,null,null,null,null,null,"謝金合計"]
[null,null,null,null,"①","　",null,null,null,null,null,"演奏",null,null,"時間",null,"実技指導",null,null,"時間",null,"単純労務",null,null,"時間",null,{"$f":"(N28*6520)+(S28*5200)+(X28*1070)","v":0},null,null,null,null,{"$f":"IF(N28+S28>$AF$21,\"謝金計上可能上限時間を超えています。\",\"\")","v":""}]
[null,null,null,null,"②","　",null,null,null,null,null,"演奏",null,null,"時間",null,"実技指導",null,null,"時間",null,"単純労務",null,null,"時間",null,{"$f":"(N29*6520)+(S29*5200)+(X29*1070)","v":0},null,null,null,null,""]
[null,null,null,null,"③","　",null,null,null,null,null,"演奏",null,null,"時間",null,"実技指導",null,null,"時間",null,"単純労務",null,null,"時間",null,{"$f":"(N30*6520)+(S30*5200)+(X30*1070)","v":0},null,null,null,null,""]
[null,null,null,null,"④","　",null,null,null,null,null,"演奏",null,null,"時間",null,"実技指導",null,null,"時間",null,"単純労務",null,null,"時間",null,{"$f":"(N31*6520)+(S31*5200)+(X31*1070)","v":0},null,null,null,null,{"$f":"IF(N31+S31>$AF$21,\"謝金計上可能上限時間を超えています。\",\"\")","v":""}]
[null,null,null,null,"⑤","　",null,null,null,null,null,"演奏",null,null,"時間",null,"実技指導",null,null,"時間",null,"単純労務",null,null,"時間",null,{"$f":"(N32*6520)+(S32*5200)+(X32*1070)","v":0},null,null,null,null,""]
[null,null,null,null,"⑥","　",null,null,null,null,null,"演奏",null,null,"時間",null,"実技指導",null,null,"時間",null,"単純労務",null,null,"時間",null,{"$f":"IF(OR(OR(AND($E$8=\"文化施設等\",$W$8=\"\"),AND($E$8=\"文化施設等\",$W$8=\"なし\"),$E$8<>\"文化施設等\")),0,(N33*6520)+(S33*5200)+(X33*1070))","v":0},null,null,null,null,""]
[null,null,null,null,"⑦","　",null,null,null,null,null,"演奏",null,null,"時間",null,"実技指導",null,null,"時間",null,"単純労務",null,null,"時間",null,{"$f":"IF(OR(OR(AND($E$8=\"文化施設等\",$W$8=\"\"),AND($E$8=\"文化施設等\",$W$8=\"なし\"),$E$8<>\"文化施設等\")),0,(N34*6520)+(S34*5200)+(X34*1070))","v":0},null,null,null,null,""]
[null,null,null,null,"⑧","　",null,null,null,null,null,"演奏",null,null,"時間",null,"実技指導",null,null,"時間",null,"単純労務",null,null,"時間",null,{"$f":"IF(OR(OR(AND($E$8=\"文化施設等\",$W$8=\"\"),AND($E$8=\"文化施設等\",$W$8=\"なし\"),$E$8<>\"文化施設等\")),0,(N35*6520)+(S35*5200)+(X35*1070))","v":0},null,null,null,null,""]
[null,null,null,null,"計",{"$f":"IF(OR(OR(AND($E$8=\"文化施設等\",$W$8=\"\"),AND($E$8=\"文化施設等\",$W$8=\"なし\"),$E$8<>\"文化施設等\")),COUNTIF(F28:F32,\"?*\")-COUNTIF(F28:F32,\"　\"),COUNTIF(F28:F35,\"?*\")-COUNTIF(F28:F35,\"　\"))","v":0},null,null,null,null,"人","※各1時間当たり　演奏6,520円、実技指導5,200円、単純労務1,070円",null,null,null,null,null,null,null,null,null,null,null,null,null,"計",{"$f":"SUM(AA28:AD35)","v":0}]
[null,"  事業内容  （具体的な内容をお書きください）　100文字以上、250文字以内"]
[]
["第2回","実施日時",null,null,null,null,null,null,null,null,null,null,null,null,null,"実施時間",null,null,null,null,null,null,null,null,"実施\n合計",null,null,null,"分",null,null,{"$f":"IF(AA39>=150,3,IF(AND(AA39<150,AA39>=90),2,IF(AA39=\"\",0,1)))","v":0},null,"時間分の謝金計上可"]
[null,"連続する実施",null,null,null,null,"有の場合→",null,null,"都道府県・\n政令指定都市名",null,null,null,"　（",null,null,null,null,"）","学校名（",null,null,null,null,null,null,null,null,null,"）"]
[null,"教科の\n位置付け",null,null,null,null,null,null,null,null,null,null,null,null,null,{"$f":"IFERROR(VLOOKUP(E41,選択肢!$Y$2:$Z$6,2,FALSE),\"\")","v":""}]
[null,"著作権",null,null,null,null,null,null,null,null,null,null,null,null,null,{"$f":"IF(E42<>\"許諾が必要\",\"\",\"→必要な場合は\")","v":""}]
[null,"参加\n児童生徒",null,null,"合計",null,null,null,null,"人",null,"参加児童\n生徒単位"]
[null,null,null,null,null,null,null,null,null,null,null,null,null,null,null,{"$f":"IFERROR(VLOOKUP(P43,選択肢!AE3:AF5,2,FALSE),\"\")","v":""}]
[null,"補助者",null,null,"氏名   ※本名",null,null,null,null,null,null,"種別・従事時間",null,null,null,null,null,null,null,null,null,null,null,null,null,null,"謝金合計"]
[null,null,null,null,"①",{"$f":"IF(AND($E$39<>\"\",F28<>\"\"),F28,\"\")","v":""},null,null,null,null,null,"演奏",null,null,"時間",null,"実技指導",null,null,"時間",null,"単純労務",null,null,"時間",null,{"$f":"(N46*6520)+(S46*5200)+(X46*1070)","v":0},null,null,null,null,{"$f":"IF(N46+S46>$AF$39,\"謝金計上可能上限時間を超えています。\",\"\")","v":""}]
[null,null,null,null,"②",{"$f":"IF(AND($E$39<>\"\",F29<>\"\"),F29,\"\")","v":""},null,null,null,null,null,"演奏",null,null,"時間",null,"実技指導",null,null,"時間",null,"単純労務",null,null,"時間",null,{"$f":"(N47*6520)+(S47*5200)+(X47*1070)","v":0},null,null,null,null,{"$f":"IF(N47+S47>$AF$39,\"謝金計上可能上限時間を超えています。\",\"\")","v":""}]
[null,null,null,null,"③",{"$f":"IF(AND($E$39<>\"\",F30<>\"\"),F30,\"\")","v":""},null,null,null,null,null,"演奏",null,null,"時間",null,"実技指導",null,null,"時間",null,"単純労務",null,null,"時間",null,{"$f":"(N48*6520)+(S48*5200)+(X48*1070)","v":0},null,null,null,null,""]
[null,null,null,null,"④",{"$f":"IF(AND($E$39<>\"\",F31<>\"\"),F31,\"\")","v":""},null,null,null,null,null,"演奏",null,null,"時間",null,"実技指導",null,null,"時間",null,"単純労務",null,null,"時間",null,{"$f":"(N49*6520)+(S49*5200)+(X49*1070)","v":0},null,null,null,null,""]
[null,null,null,null,"⑤",{"$f":"IF(AND($E$39<>\"\",F32<>\"\"),F32,\"\")","v":""},null,null,null,null,null,"演奏",null,null,"時間",null,"実技指導",null,null,"時間",null,"単純労務",null,null,"時間",null,{"$f":"(N50*6520)+(S50*5200)+(X50*1070)","v":0},null,null,null,null,""]
[null,null,null,null,"⑥",{"$f":"IF(OR(OR(AND($E$8=\"文化施設等\",$W$8=\"\"),AND($E$8=\"文化施設等\",$W$8=\"なし\"),$E$8<>\"文化施設等\")),\"\",IF($E$39=\"\",\"\",IF(F33=\"\",\"\",F33)))","v":""},null,null,null,null,null,"演奏",null,null,"時間",null,"実技指導",null,null,"時間",null,"単純労務",null,null,"時間",null,{"$f":"IF(OR(OR(AND($E$8=\"文化施設等\",$W$8=\"\"),AND($E$8=\"文化施設等\",$W$8=\"なし\"),$E$8<>\"文化施設等\")),0,(N51*6520)+(S51*5200)+(X51*1070))","v":0},null,null,null,null,""]
[null,null,null,null,"⑦",{"$f":"IF(OR(OR(AND($E$8=\"文化施設等\",$W$8=\"\"),AND($E$8=\"文化施設等\",$W$8=\"なし\"),$E$8<>\"文化施設等\")),\"\",IF($E$39=\"\",\"\",IF(F34=\"\",\"\",F34)))","v":""},null,null,null,null,null,"演奏",null,null,"時間",null,"実技指導",null,null,"時間",null,"単純労務",null,null,"時間",null,{"$f":"IF(OR(OR(AND($E$8=\"文化施設等\",$W$8=\"\"),AND($E$8=\"文化施設等\",$W$8=\"なし\"),$E$8<>\"文化施設等\")),0,(N52*6520)+(S52*5200)+(X52*1070))","v":0},null,null,null,null,""]
[null,null,null,null,"⑧",{"$f":"IF(OR(OR(AND($E$8=\"文化施設等\",$W$8=\"\"),AND($E$8=\"文化施設等\",$W$8=\"なし\"),$E$8<>\"文化施設等\")),\"\",IF($E$39=\"\",\"\",IF(F35=\"\",\"\",F35)))","v":""},null,null,null,null,null,"演奏",null,null,"時間",null,"実技指導",null,null,"時間",null,"単純労務",null,null,"時間",null,{"$f":"IF(OR(OR(AND($E$8=\"文化施設等\",$W$8=\"\"),AND($E$8=\"文化施設等\",$W$8=\"なし\"),$E$8<>\"文化施設等\")),0,(N53*6520)+(S53*5200)+(X53*1070))","v":0},null,null,null,null,""]
[null,null,null,null,"計",{"$f":"IF(OR(OR(AND($E$8=\"文化施設等\",$W$8=\"\"),AND($E$8=\"文化施設等\",$W$8=\"なし\"),$E$8<>\"文化施設等\")),COUNTIF(F46:F50,\"?*\")-COUNTIF(F46:F50,\"　\"),COUNTIF(F46:F53,\"?*\")-COUNTIF(F46:F53,\"　\"))","v":0},null,null,null,null,"人","※各1時間当たり　演奏6,520円、実技指導5,200円、単純労務1,070円",null,null,null,null,null,null,null,null,null,null,null,null,null,"計",{"$f":"SUM(AA46:AD53)","v":0}]
[null,"  事業内容  （具体的な内容をお書きください）　100文字以上、250文字以内"]
[]
["第3回","実施日時",null,null,null,null,null,null,null,null,null,null,null,null,null,"実施時間",null,null,null,null,null,null,null,null,"実施\n合計",null,null,null,"分",null,null,{"$f":"IF(AA57>=150,3,IF(AND(AA57<150,AA57>=90),2,IF(AA57=\"\",0,1)))","v":0},null,"時間分の謝金計上可"]
[null,"連続する実施",null,null,null,null,"有の場合→",null,null,"都道府県・\n政令指定都市名",null,null,null,"　（",null,null,null,null,"）","学校名（",null,null,null,null,null,null,null,null,null,"）"]
[null,"教科の\n位置付け",null,null,null,null,null,null,null,null,null,null,null,null,null,{"$f":"IFERROR(VLOOKUP(E59,選択肢!$Y$2:$Z$6,2,FALSE),\"\")","v":""}]
[null,"著作権",null,null,null,null,null,null,null,null,null,null,null,null,null,{"$f":"IF(E60<>\"許諾が必要\",\"\",\"→必要な場合は\")","v":""}]
[null,"参加\n児童生徒",null,null,"合計",null,null,null,null,"人",null,"参加児童\n生徒単位"]
[null,null,null,null,null,null,null,null,null,null,null,null,null,null,null,{"$f":"IFERROR(VLOOKUP(P61,選択肢!AE3:AF5,2,FALSE),\"\")","v":""}]
[null,"補助者",null,null,"氏名   ※本名",null,null,null,null,null,null,"種別・従事時間",null,null,null,null,null,null,null,null,null,null,null,null,null,null,"謝金合計"]
[null,null,null,null,"①",{"$f":"IF(AND($E$57<>\"\",F28<>\"\"),F28,\"\")","v":""},null,null,null,null,null,"演奏",null,null,"時間",null,"実技指導",null,null,"時間",null,"単純労務",null,null,"時間",null,{"$f":"(N64*6520)+(S64*5200)+(X64*1070)","v":0},null,null,null,null,{"$f":"IF(N64+S64>$AF$57,\"謝金計上可能上限時間を超えています。\",\"\")","v":""}]
[null,null,null,null,"②",{"$f":"IF(AND($E$57<>\"\",F29<>\"\"),F29,\"\")","v":""},null,null,null,null,null,"演奏",null,null,"時間",null,"実技指導",null,null,"時間",null,"単純労務",null,null,"時間",null,{"$f":"(N65*6520)+(S65*5200)+(X65*1070)","v":0},null,null,null,null,""]
[null,null,null,null,"③",{"$f":"IF(AND($E$57<>\"\",F30<>\"\"),F30,\"\")","v":""},null,null,null,null,null,"演奏",null,null,"時間",null,"実技指導",null,null,"時間",null,"単純労務",null,null,"時間",null,{"$f":"(N66*6520)+(S66*5200)+(X66*1070)","v":0},null,null,null,null,""]
[null,null,null,null,"④",{"$f":"IF(AND($E$57<>\"\",F31<>\"\"),F31,\"\")","v":""},null,null,null,null,null,"演奏",null,null,"時間",null,"実技指導",null,null,"時間",null,"単純労務",null,null,"時間",null,{"$f":"(N67*6520)+(S67*5200)+(X67*1070)","v":0},null,null,null,null,""]
[null,null,null,null,"⑤",{"$f":"IF(AND($E$57<>\"\",F32<>\"\"),F32,\"\")","v":""},null,null,null,null,null,"演奏",null,null,"時間",null,"実技指導",null,null,"時間",null,"単純労務",null,null,"時間",null,{"$f":"(N68*6520)+(S68*5200)+(X68*1070)","v":0},null,null,null,null,""]
[null,null,null,null,"⑥",{"$f":"IF(OR(OR(AND($E$8=\"文化施設等\",$W$8=\"\"),AND($E$8=\"文化施設等\",$W$8=\"なし\"),$E$8<>\"文化施設等\")),\"\",IF($E$57=\"\",\"\",IF(F33=\"\",\"\",F33)))","v":""},null,null,null,null,null,"演奏",null,null,"時間",null,"実技指導",null,null,"時間",null,"単純労務",null,null,"時間",null,{"$f":"IF(OR(OR(AND($E$8=\"文化施設等\",$W$8=\"\"),AND($E$8=\"文化施設等\",$W$8=\"なし\"),$E$8<>\"文化施設等\")),0,(N69*6520)+(S69*5200)+(X69*1070))","v":0},null,null,null,null,""]
[null,null,null,null,"⑦",{"$f":"IF(OR(OR(AND($E$8=\"文化施設等\",$W$8=\"\"),AND($E$8=\"文化施設等\",$W$8=\"なし\"),$E$8<>\"文化施設等\")),\"\",IF($E$57=\"\",\"\",IF(F34=\"\",\"\",F34)))","v":""},null,null,null,null,null,"演奏",null,null,"時間",null,"実技指導",null,null,"時間",null,"単純労務",null,null,"時間",null,{"$f":"IF(OR(OR(AND($E$8=\"文化施設等\",$W$8=\"\"),AND($E$8=\"文化施設等\",$W$8=\"なし\"),$E$8<>\"文化施設等\")),0,(N70*6520)+(S70*5200)+(X70*1070))","v":0},null,null,null,null,""]
[null,null,null,null,"⑧",{"$f":"IF(OR(OR(AND($E$8=\"文化施設等\",$W$8=\"\"),AND($E$8=\"文化施設等\",$W$8=\"なし\"),$E$8<>\"文化施設等\")),\"\",IF($E$57=\"\",\"\",IF(F35=\"\",\"\",F35)))","v":""},null,null,null,null,null,"演奏",null,null,"時間",null,"実技指導",null,null,"時間",null,"単純労務",null,null,"時間",null,{"$f":"IF(OR(OR(AND($E$8=\"文化施設等\",$W$8=\"\"),AND($E$8=\"文化施設等\",$W$8=\"なし\"),$E$8<>\"文化施設等\")),0,(N71*6520)+(S71*5200)+(X71*1070))","v":0},null,null,null,null,{"$f":"IF(N71+S71>$AF$57,\"謝金計上可能上限時間を超えています。\",\"\")","v":""}]
[null,null,null,null,"計",{"$f":"IF(OR(OR(AND($E$8=\"文化施設等\",$W$8=\"\"),AND($E$8=\"文化施設等\",$W$8=\"なし\"),$E$8<>\"文化施設等\")),COUNTIF(F64:F68,\"?*\")-COUNTIF(F64:F68,\"　\"),COUNTIF(F64:F71,\"?*\")-COUNTIF(F64:F71,\"　\"))","v":0},null,null,null,null,"人","※各1時間当たり　演奏6,520円、実技指導5,200円、単純労務1,070円",null,null,null,null,null,null,null,null,null,null,null,null,null,"計",{"$f":"SUM(AA64:AD71)","v":0}]
[null,"  事業内容  （具体的な内容をお書きください）　100文字以上、250文字以内"]
[]
["※様式の枠内に収まらない場合は、別紙を作成し添付してください。"]
["※本事業で得た個人情報は、本事業内のみで使用します。"]
["※本事業の専用ウェブページにあるに同意していただいたものとします。"]
["様式4"]
["令和5年度文化芸術による子供育成推進事業（芸術家の派遣事業）　経費計画書"]
[]
["実施日",null,null,null,"第１回",null,null,null,"第２回",null,null,null,"第３回",null,null,null,null,"都道府県・政令指定都市",null,null,null,null,null,{"$f":"IF(E4=\"\",\"\",E4)","v":""}]
[null,null,null,null,{"$f":"IF(E21=\"\",\"\",E21)","v":""},null,null,null,{"$f":"IF(E39=\"\",\"\",E39)","v":""},null,null,null,{"$f":"IF(E57=\"\",\"\",E57)","v":""},null,null,null,null,"実施校名",null,null,{"$f":"IF(E7=\"\",\"\",E7)","v":""}]
[]
["【謝金・旅費】",null,null,null,null,null,"※補助者氏名が自動反映されない場合は、氏名欄の▼プルダウンリストから選択してください。"]
["種別",null,null,null,null,null,"氏名　※本名",null,null,null,null,null,"謝金（a）",null,null,null,null,null,"旅費（ｂ）",null,null,null,null,null,"合計"]
["講師",null,null,null,null,null,{"$f":"IF($E$12=\"\",\"\",$E$12)","v":""},null,null,null,null,null,{"$f":"IF(G86=\"\",0,F11*35650)","v":0},null,null,null,null,"円",null,null,null,null,null,"円",{"$f":"IFERROR(M86+S86,0)","v":0},null,null,null,null,"円"]
["補助者①",null,null,null,null,null,{"$f":"IF($F$28=\"\",\"　\",$F$28)","v":"　"},null,null,null,null,null,{"$f":"SUM(IFERROR(VLOOKUP(G87,$F$28:$AD$35,22,FALSE),0),IFERROR(VLOOKUP(G87,$F$46:$AD$53,22,FALSE),0),IFERROR(VLOOKUP(G87,$F$64:$AD$71,22,FALSE),0))","v":0},null,null,null,null,"円",null,null,null,null,null,"円",0,null,null,null,null,"円"]
["補助者②",null,null,null,null,null,{"$f":"IF($F$29=\"\",\"　\",$F$29)","v":"　"},null,null,null,null,null,0,null,null,null,null,"円",null,null,null,null,null,"円",0,null,null,null,null,"円"]
["補助者③",null,null,null,null,null,{"$f":"IF($F$30=\"\",\"　\",$F$30)","v":"　"},null,null,null,null,null,0,null,null,null,null,"円",null,null,null,null,null,"円",0,null,null,null,null,"円"]
["補助者④",null,null,null,null,null,{"$f":"IF($F$31=\"\",\"　\",$F$31)","v":"　"},null,null,null,null,null,0,null,null,null,null,"円",null,null,null,null,null,"円",0,null,null,null,null,"円"]
["補助者⑤",null,null,null,null,null,{"$f":"IF($F$32=\"\",\"　\",$F$32)","v":"　"},null,null,null,null,null,0,null,null,null,null,"円",null,null,null,null,null,"円",0,null,null,null,null,"円"]
["補助者⑥",null,null,null,null,null,{"$f":"IF(OR(OR(AND($E$8=\"文化施設等\",$W$8=\"\"),AND($E$8=\"文化施設等\",$W$8=\"なし\"),$E$8<>\"文化施設等\")),\"　\",IF($F$33=\"\",\"　\",$F$33))","v":"　"},null,null,null,null,null,0,null,null,null,null,"円",null,null,null,null,null,"円",0,null,null,null,null,"円"]
["補助者⑦",null,null,null,null,null,{"$f":"IF(OR(OR(AND($E$8=\"文化施設等\",$W$8=\"\"),AND($E$8=\"文化施設等\",$W$8=\"なし\"),$E$8<>\"文化施設等\")),\"　\",IF($F$34=\"\",\"　\",$F$34))","v":"　"},null,null,null,null,null,0,null,null,null,null,"円",null,null,null,null,null,"円",0,null,null,null,null,"円"]
["補助者⑧",null,null,null,null,null,{"$f":"IF(OR(OR(AND($E$8=\"文化施設等\",$W$8=\"\"),AND($E$8=\"文化施設等\",$W$8=\"なし\"),$E$8<>\"文化施設等\")),\"　\",IF($F$35=\"\",\"　\",$F$35))","v":"　"},null,null,null,null,null,0,null,null,null,null,"円",null,null,null,null,null,"円",0,null,null,null,null,"円"]
["補助者⑨",null,null,null,null,null,"　",null,null,null,null,null,0,null,null,null,null,"円",null,null,null,null,null,"円",{"$f":"IFERROR(M95+S95,0)","v":0},null,null,null,null,"円"]
["補助者⑩",null,null,null,null,null," ",null,null,null,null,null,0,null,null,null,null,"円",null,null,null,null,null,"円",{"$f":"IFERROR(M96+S96,0)","v":0},null,null,null,null,"円"]
["補助者⑪",null,null,null,null,null," ",null,null,null,null,null,0,null,null,null,null,"円",null,null,null,null,null,"円",{"$f":"IFERROR(M97+S97,0)","v":0},null,null,null,null,"円"]
["補助者⑫",null,null,null,null,null," ",null,null,null,null,null,0,null,null,null,null,"円",null,null,null,null,null,"円",{"$f":"IFERROR(M98+S98,0)","v":0},null,null,null,null,"円"]
["補助者⑬",null,null,null,null,null," ",null,null,null,null,null,0,null,null,null,null,"円",null,null,null,null,null,"円",{"$f":"IFERROR(M99+S99,0)","v":0},null,null,null,null,"円"]
["謝金合計（ａ）＋旅費合計（ｂ）",null,null,null,null,null,null,null,null,null,null,null,{"$f":"SUM(M86:Q99)","v":0},null,null,null,null,"円",{"$f":"SUM(S86:W99)","v":0},null,null,null,null,"円",{"$f":"SUM(Y86:AC99)","v":0},null,null,null,null,"円",null,{"$f":"IF(OR(AND(F11=1,S100>250000),AND(F11>=2,S100>500000)),\"旅費の上限金額を超えています。※様式7を利用している場合\",\"\")","v":""}]
["※講師謝金は1回あたり35,650円で自動計算・反映されます。"]
["※補助者謝金は1時間当たり　演奏6,520円、実技指導5,200円、単純労務1,070円　で自動計算・反映されます。"]
["※被派遣者毎に、【様式7】旅費計算書の合計金額を記入してください。"]
["※旅費が0円の場合も記入してください。"]
[]
["【講演等諸雑費】"]
["種別",null,null,null,null,null,"項目または業者名",null,null,null,null,null,"単価",null,null,null,null,null,"数量",null,null,null,"（単位）",null,"合計"]
[null,null,null,null,null,null,null,null,null,null,null,null,null,null,null,null,null,"円",null,null,null,null,null,null,{"$f":"M108*S108","v":0},null,null,null,null,"円"]
[null,null,null,null,null,null,null,null,null,null,null,null,null,null,null,null,null,"円",null,null,null,null,null,null,{"$f":"M109*S109","v":0},null,null,null,null,"円"]
[null,null,null,null,null,null,null,null,null,null,null,null,null,null,null,null,null,"円",null,null,null,null,null,null,0,null,null,null,null,"円"]
[null,null,null,null,null,null,null,null,null,null,null,null,null,null,null,null,null,"円",null,null,null,null,null,null,0,null,null,null,null,"円"]
[null,null,null,null,null,null,null,null,null,null,null,null,null,null,null,null,null,"円",null,null,null,null,null,null,0,null,null,null,null,"円"]
[null,null,null,null,null,null,null,null,null,null,null,null,null,null,null,null,null,"円",null,null,null,null,null,null,0,null,null,null,null,"円"]
[null,null,null,null,null,null,null,null,null,null,null,null,null,null,null,null,null,"円",null,null,null,null,null,null,0,null,null,null,null,"円"]
["講演等諸雑費合計（ｃ）",null,null,null,null,null,null,null,null,null,null,null,null,null,null,null,null,null,null,null,null,null,null,null,{"$f":"SUM(Y108:AC114)","v":0},null,null,null,null,"円",null,{"$f":"IF(OR(AND(E8=\"文化施設等\",W8=\"\",SUMIF(A108:F114,\"<>感染症対策費\",Y108:AC114)>50000),AND(E8=\"文化施設等\",W8=\"なし\",SUMIF(A108:F114,\"<>感染症対策費\",Y108:AC114)>50000),AND(E8<>\"文化施設等\",SUMIF(A108:F114,\"<>感染症対策費\",Y108:AC114)>50000)),\"諸雑費の上限金額を超えています。\",IF(SUMIF(A108:F114,\"<>感染症対策費\",Y108:AC114)>100000,\"諸雑費の上限金額を超えています。\",\"\"))","v":""}]
["※種別：「運搬費」「消耗品」「レンタル費」「著作権使用料」「感染症対策費」のいずれかを選択してください。"]
["※金額の根拠書類（業者からの見積書）を添付してください。"]
["※決定通知以降の項目変更や、見積業者からの変更は認められません。"]
[]
["総合計（ａ＋ｂ＋ｃ）",null,null,null,null,null,null,null,null,null,null,null,null,null,null,null,null,null,{"$f":"Y100+Y115","v":0},null,null,null,null,null,null,null,null,"円"]
["※本事業で得た個人情報は、本事業内のみで使用します。"]
["※本事業の専用ウェブページにあるに同意していただいたものとします。"]

{"sheet":"【様式５・６】（コミュ）計算シート","index":6,"n_rows":195,"n_cols":12,"rows_kept":195,"cut":false,"hidden":true,"merged":[]}
["①",{"$f":"'申【様式５・６】（コミュ）'!B23","v":"　"},{"$f":"(H1*35650)+(J1*5200)+(L1*1070)","v":0},null,null,null,"講師",{"$f":"IF(COUNTIF(D2:D13,\"講師\")>0,COUNTIF(F2:F13,1),\"0\")","v":"0"},"実技",{"$f":"SUM(J2:J13)","v":0},"単労",{"$f":"SUM(L2:L13)","v":0}]
[null,{"$f":"IF('申【様式５・６】（コミュ）'!$E$44=\"\",\"\",'申【様式５・６】（コミュ）'!$E$44)","v":""},{"$f":"'申【様式５・６】（コミュ）'!$G$22","v":0},{"$f":"'申【様式５・６】（コミュ）'!$G23","v":0},{"$f":"IF(D2=0,\"\",B2&D2)","v":""},{"$f":"IF(D2=0,\"\",COUNTIF($E$2:E2,E2))","v":""},null,null,null,{"$f":"IF(AND(F2=1,SUMIFS($C$2:$C$13,$E$2:$E$13,B2&$I$1)>3),3,IF(AND(F2=1,SUMIFS($C$2:$C$13,$E$2:$E$13,B2&$I$1)<=3),SUMIFS($C$2:$C$13,$E$2:$E$13,B2&$I$1),\"\"))","v":""}]
[null,{"$f":"IF('申【様式５・６】（コミュ）'!$E$49=\"\",\"\",'申【様式５・６】（コミュ）'!$E$49)","v":""},{"$f":"'申【様式５・６】（コミュ）'!$I$22","v":0},{"$f":"'申【様式５・６】（コミュ）'!$I23","v":0},{"$f":"IF(D3=0,\"\",B3&D3)","v":""},{"$f":"IF(D3=0,\"\",COUNTIF($E$2:E3,E3))","v":""},null,null,null,{"$f":"IF(AND(F3=1,SUMIFS($C$2:$C$13,$E$2:$E$13,B3&$I$1)>3),3,IF(AND(F3=1,SUMIFS($C$2:$C$13,$E$2:$E$13,B3&$I$1)<=3),SUMIFS($C$2:$C$13,$E$2:$E$13,B3&$I$1),\"\"))","v":""}]
[null,{"$f":"IF('申【様式５・６】（コミュ）'!$E$54=\"\",\"\",'申【様式５・６】（コミュ）'!$E$54)","v":""},{"$f":"'申【様式５・６】（コミュ）'!$K$22","v":0},{"$f":"'申【様式５・６】（コミュ）'!$K23","v":0},"",{"$f":"IF(D4=0,\"\",COUNTIF($E$2:E4,E4))","v":""},null,null,null,""]
[null,{"$f":"IF('申【様式５・６】（コミュ）'!$E$59=\"\",\"\",'申【様式５・６】（コミュ）'!$E$59)","v":""},{"$f":"'申【様式５・６】（コミュ）'!$M$22","v":0},{"$f":"'申【様式５・６】（コミュ）'!$M23","v":0},"",{"$f":"IF(D5=0,\"\",COUNTIF($E$2:E5,E5))","v":""},null,null,null,""]
[null,{"$f":"IF('申【様式５・６】（コミュ）'!$E$64=\"\",\"\",'申【様式５・６】（コミュ）'!$E$64)","v":""},{"$f":"'申【様式５・６】（コミュ）'!$O$22","v":0},{"$f":"'申【様式５・６】（コミュ）'!$O23","v":0},"",{"$f":"IF(D6=0,\"\",COUNTIF($E$2:E6,E6))","v":""},null,null,null,""]
[null,{"$f":"IF('申【様式５・６】（コミュ）'!$E$72=\"\",\"\",'申【様式５・６】（コミュ）'!$E$72)","v":""},{"$f":"'申【様式５・６】（コミュ）'!$Q$22","v":0},{"$f":"'申【様式５・６】（コミュ）'!$Q23","v":0},"",{"$f":"IF(D7=0,\"\",COUNTIF($E$2:E7,E7))","v":""},null,null,null,""]
[null,{"$f":"IF('申【様式５・６】（コミュ）'!$E$77=\"\",\"\",'申【様式５・６】（コミュ）'!$E$77)","v":""},{"$f":"'申【様式５・６】（コミュ）'!$S$22","v":0},{"$f":"'申【様式５・６】（コミュ）'!$S23","v":0},"",{"$f":"IF(D8=0,\"\",COUNTIF($E$2:E8,E8))","v":""},null,null,null,""]
[null,{"$f":"IF('申【様式５・６】（コミュ）'!$E$82=\"\",\"\",'申【様式５・６】（コミュ）'!$E$82)","v":""},{"$f":"'申【様式５・６】（コミュ）'!$U$22","v":0},{"$f":"'申【様式５・６】（コミュ）'!$U23","v":0},"",{"$f":"IF(D9=0,\"\",COUNTIF($E$2:E9,E9))","v":""},null,null,null,""]
[null,{"$f":"IF('申【様式５・６】（コミュ）'!$E$87=\"\",\"\",'申【様式５・６】（コミュ）'!$E$87)","v":""},{"$f":"'申【様式５・６】（コミュ）'!$W$22","v":0},{"$f":"'申【様式５・６】（コミュ）'!$W23","v":0},"",{"$f":"IF(D10=0,\"\",COUNTIF($E$2:E10,E10))","v":""},null,null,null,""]
[null,{"$f":"IF('申【様式５・６】（コミュ）'!$E$92=\"\",\"\",'申【様式５・６】（コミュ）'!$E$92)","v":""},{"$f":"'申【様式５・６】（コミュ）'!$Y$22","v":0},{"$f":"'申【様式５・６】（コミュ）'!$Y23","v":0},"",{"$f":"IF(D11=0,\"\",COUNTIF($E$2:E11,E11))","v":""},null,null,null,""]
[null,{"$f":"IF('申【様式５・６】（コミュ）'!$E$100=\"\",\"\",'申【様式５・６】（コミュ）'!$E$100)","v":""},{"$f":"'申【様式５・６】（コミュ）'!$AA$22","v":0},{"$f":"'申【様式５・６】（コミュ）'!$AA23","v":0},"",{"$f":"IF(D12=0,\"\",COUNTIF($E$2:E12,E12))","v":""},null,null,null,""]
[null,{"$f":"IF('申【様式５・６】（コミュ）'!$E$105=\"\",\"\",'申【様式５・６】（コミュ）'!$E$105)","v":""},{"$f":"'申【様式５・６】（コミュ）'!$AC$22","v":0},{"$f":"'申【様式５・６】（コミュ）'!$AC23","v":0},"",{"$f":"IF(D13=0,\"\",COUNTIF($E$2:E13,E13))","v":""},null,null,null,{"$f":"IF(AND(F13=1,SUMIFS($C$2:$C$13,$E$2:$E$13,B13&$I$1)>3),3,IF(AND(F13=1,SUMIFS($C$2:$C$13,$E$2:$E$13,B13&$I$1)<=3),SUMIFS($C$2:$C$13,$E$2:$E$13,B13&$I$1),\"\"))","v":""}]
["②",{"$f":"'申【様式５・６】（コミュ）'!B24","v":"　"},{"$f":"(H14*35650)+(J14*5200)+(L14*1070)","v":0},null,null,null,"講師",{"$f":"IF(COUNTIF(D15:D26,\"講師\")>0,COUNTIF(F15:F26,1),\"0\")","v":"0"},"実技",{"$f":"SUM(J15:J26)","v":0},"単労",{"$f":"SUM(L15:L26)","v":0}]
[null,{"$f":"IF('申【様式５・６】（コミュ）'!$E$44=\"\",\"\",'申【様式５・６】（コミュ）'!$E$44)","v":""},{"$f":"'申【様式５・６】（コミュ）'!$G$22","v":0},{"$f":"'申【様式５・６】（コミュ）'!$G24","v":0},{"$f":"IF(D15=0,\"\",B15&D15)","v":""},{"$f":"IF(D15=0,\"\",COUNTIF($E$15:E15,E15))","v":""},null,null,null,{"$f":"IF(AND(F15=1,SUMIFS($C$15:$C$26,$E$15:$E$26,B15&$I$14)>3),3,IF(AND(F15=1,SUMIFS($C$15:$C$26,$E$15:$E$26,B15&$I$14)<=3),SUMIFS($C$15:$C$26,$E$15:$E$26,B15&$I$14),\"\"))","v":""},null,{"$f":"IF(D15=\"単労\",C15,\"\")","v":""}]
[null,{"$f":"IF('申【様式５・６】（コミュ）'!$E$49=\"\",\"\",'申【様式５・６】（コミュ）'!$E$49)","v":""},{"$f":"'申【様式５・６】（コミュ）'!$I$22","v":0},{"$f":"'申【様式５・６】（コミュ）'!$I24","v":0},{"$f":"IF(D16=0,\"\",B16&D16)","v":""},{"$f":"IF(D16=0,\"\",COUNTIF($E$15:E16,E16))","v":""},null,null,null,{"$f":"IF(AND(F16=1,SUMIFS($C$15:$C$26,$E$15:$E$26,B16&$I$14)>3),3,IF(AND(F16=1,SUMIFS($C$15:$C$26,$E$15:$E$26,B16&$I$14)<=3),SUMIFS($C$15:$C$26,$E$15:$E$26,B16&$I$14),\"\"))","v":""},null,{"$f":"IF(D16=\"単労\",C16,\"\")","v":""}]
[null,{"$f":"IF('申【様式５・６】（コミュ）'!$E$54=\"\",\"\",'申【様式５・６】（コミュ）'!$E$54)","v":""},{"$f":"'申【様式５・６】（コミュ）'!$K$22","v":0},{"$f":"'申【様式５・６】（コミュ）'!$K24","v":0},"",{"$f":"IF(D17=0,\"\",COUNTIF($E$15:E17,E17))","v":""},null,null,null,"",null,""]
[null,{"$f":"IF('申【様式５・６】（コミュ）'!$E$59=\"\",\"\",'申【様式５・６】（コミュ）'!$E$59)","v":""},{"$f":"'申【様式５・６】（コミュ）'!$M$22","v":0},{"$f":"'申【様式５・６】（コミュ）'!$M24","v":0},"",{"$f":"IF(D18=0,\"\",COUNTIF($E$15:E18,E18))","v":""},null,null,null,"",null,""]
[null,{"$f":"IF('申【様式５・６】（コミュ）'!$E$64=\"\",\"\",'申【様式５・６】（コミュ）'!$E$64)","v":""},{"$f":"'申【様式５・６】（コミュ）'!$O$22","v":0},{"$f":"'申【様式５・６】（コミュ）'!$O24","v":0},"",{"$f":"IF(D19=0,\"\",COUNTIF($E$15:E19,E19))","v":""},null,null,null,"",null,""]
[null,{"$f":"IF('申【様式５・６】（コミュ）'!$E$72=\"\",\"\",'申【様式５・６】（コミュ）'!$E$72)","v":""},{"$f":"'申【様式５・６】（コミュ）'!$Q$22","v":0},{"$f":"'申【様式５・６】（コミュ）'!$Q24","v":0},"",{"$f":"IF(D20=0,\"\",COUNTIF($E$15:E20,E20))","v":""},null,null,null,"",null,""]
[null,{"$f":"IF('申【様式５・６】（コミュ）'!$E$77=\"\",\"\",'申【様式５・６】（コミュ）'!$E$77)","v":""},{"$f":"'申【様式５・６】（コミュ）'!$S$22","v":0},{"$f":"'申【様式５・６】（コミュ）'!$S24","v":0},"",{"$f":"IF(D21=0,\"\",COUNTIF($E$15:E21,E21))","v":""},null,null,null,"",null,""]
[null,{"$f":"IF('申【様式５・６】（コミュ）'!$E$82=\"\",\"\",'申【様式５・６】（コミュ）'!$E$82)","v":""},{"$f":"'申【様式５・６】（コミュ）'!$U$22","v":0},{"$f":"'申【様式５・６】（コミュ）'!$U24","v":0},"",{"$f":"IF(D22=0,\"\",COUNTIF($E$15:E22,E22))","v":""},null,null,null,"",null,""]
[null,{"$f":"IF('申【様式５・６】（コミュ）'!$E$87=\"\",\"\",'申【様式５・６】（コミュ）'!$E$87)","v":""},{"$f":"'申【様式５・６】（コミュ）'!$W$22","v":0},{"$f":"'申【様式５・６】（コミュ）'!$W24","v":0},"",{"$f":"IF(D23=0,\"\",COUNTIF($E$15:E23,E23))","v":""},null,null,null,"",null,""]
[null,{"$f":"IF('申【様式５・６】（コミュ）'!$E$92=\"\",\"\",'申【様式５・６】（コミュ）'!$E$92)","v":""},{"$f":"'申【様式５・６】（コミュ）'!$Y$22","v":0},{"$f":"'申【様式５・６】（コミュ）'!$Y24","v":0},"",{"$f":"IF(D24=0,\"\",COUNTIF($E$15:E24,E24))","v":""},null,null,null,"",null,""]
[null,{"$f":"IF('申【様式５・６】（コミュ）'!$E$100=\"\",\"\",'申【様式５・６】（コミュ）'!$E$100)","v":""},{"$f":"'申【様式５・６】（コミュ）'!$AA$22","v":0},{"$f":"'申【様式５・６】（コミュ）'!$AA24","v":0},"",{"$f":"IF(D25=0,\"\",COUNTIF($E$15:E25,E25))","v":""},null,null,null,"",null,""]
[null,{"$f":"IF('申【様式５・６】（コミュ）'!$E$105=\"\",\"\",'申【様式５・６】（コミュ）'!$E$105)","v":""},{"$f":"'申【様式５・６】（コミュ）'!$AC$22","v":0},{"$f":"'申【様式５・６】（コミュ）'!$AC24","v":0},"",{"$f":"IF(D26=0,\"\",COUNTIF($E$15:E26,E26))","v":""},null,null,null,{"$f":"IF(AND(F26=1,SUMIFS($C$15:$C$26,$E$15:$E$26,B26&$I$14)>3),3,IF(AND(F26=1,SUMIFS($C$15:$C$26,$E$15:$E$26,B26&$I$14)<=3),SUMIFS($C$15:$C$26,$E$15:$E$26,B26&$I$14),\"\"))","v":""},null,""]
["③",{"$f":"'申【様式５・６】（コミュ）'!B25","v":"　"},{"$f":"(H27*35650)+(J27*5200)+(L27*1070)","v":0},null,null,null,"講師",{"$f":"IF(COUNTIF(D28:D39,\"講師\")>0,COUNTIF(F28:F39,1),\"0\")","v":"0"},"実技",{"$f":"SUM(J28:J39)","v":0},"単労",{"$f":"SUM(L28:L39)","v":0}]
[null,{"$f":"IF('申【様式５・６】（コミュ）'!$E$44=\"\",\"\",'申【様式５・６】（コミュ）'!$E$44)","v":""},{"$f":"'申【様式５・６】（コミュ）'!$G$22","v":0},{"$f":"'申【様式５・６】（コミュ）'!$G25","v":0},{"$f":"IF(D28=0,\"\",B28&D28)","v":""},{"$f":"IF(D28=0,\"\",COUNTIF($E$28:E28,E28))","v":""},null,null,null,{"$f":"IF(AND(F28=1,SUMIFS($C$28:$C$39,$E$28:$E$39,B28&$I$27)>3),3,IF(AND(F28=1,SUMIFS($C$28:$C$39,$E$28:$E$39,B28&$I$27)<=3),SUMIFS($C$28:$C$39,$E$28:$E$39,B28&$I$27),\"\"))","v":""},null,{"$f":"IF(D28=\"単労\",C28,\"\")","v":""}]
[null,{"$f":"IF('申【様式５・６】（コミュ）'!$E$49=\"\",\"\",'申【様式５・６】（コミュ）'!$E$49)","v":""},{"$f":"'申【様式５・６】（コミュ）'!$I$22","v":0},{"$f":"'申【様式５・６】（コミュ）'!$I25","v":0},{"$f":"IF(D29=0,\"\",B29&D29)","v":""},{"$f":"IF(D29=0,\"\",COUNTIF($E$28:E29,E29))","v":""},null,null,null,{"$f":"IF(AND(F29=1,SUMIFS($C$28:$C$39,$E$28:$E$39,B29&$I$27)>3),3,IF(AND(F29=1,SUMIFS($C$28:$C$39,$E$28:$E$39,B29&$I$27)<=3),SUMIFS($C$28:$C$39,$E$28:$E$39,B29&$I$27),\"\"))","v":""},null,{"$f":"IF(D29=\"単労\",C29,\"\")","v":""}]
[null,{"$f":"IF('申【様式５・６】（コミュ）'!$E$54=\"\",\"\",'申【様式５・６】（コミュ）'!$E$54)","v":""},{"$f":"'申【様式５・６】（コミュ）'!$K$22","v":0},{"$f":"'申【様式５・６】（コミュ）'!$K25","v":0},"",{"$f":"IF(D30=0,\"\",COUNTIF($E$28:E30,E30))","v":""},null,null,null,"",null,""]
[null,{"$f":"IF('申【様式５・６】（コミュ）'!$E$59=\"\",\"\",'申【様式５・６】（コミュ）'!$E$59)","v":""},{"$f":"'申【様式５・６】（コミュ）'!$M$22","v":0},{"$f":"'申【様式５・６】（コミュ）'!$M25","v":0},"",{"$f":"IF(D31=0,\"\",COUNTIF($E$28:E31,E31))","v":""},null,null,null,"",null,""]
[null,{"$f":"IF('申【様式５・６】（コミュ）'!$E$64=\"\",\"\",'申【様式５・６】（コミュ）'!$E$64)","v":""},{"$f":"'申【様式５・６】（コミュ）'!$O$22","v":0},{"$f":"'申【様式５・６】（コミュ）'!$O25","v":0},"",{"$f":"IF(D32=0,\"\",COUNTIF($E$28:E32,E32))","v":""},null,null,null,"",null,""]
[null,{"$f":"IF('申【様式５・６】（コミュ）'!$E$72=\"\",\"\",'申【様式５・６】（コミュ）'!$E$72)","v":""},{"$f":"'申【様式５・６】（コミュ）'!$Q$22","v":0},{"$f":"'申【様式５・６】（コミュ）'!$Q25","v":0},"",{"$f":"IF(D33=0,\"\",COUNTIF($E$28:E33,E33))","v":""},null,null,null,"",null,""]
[null,{"$f":"IF('申【様式５・６】（コミュ）'!$E$77=\"\",\"\",'申【様式５・６】（コミュ）'!$E$77)","v":""},{"$f":"'申【様式５・６】（コミュ）'!$S$22","v":0},{"$f":"'申【様式５・６】（コミュ）'!$S25","v":0},"",{"$f":"IF(D34=0,\"\",COUNTIF($E$28:E34,E34))","v":""},null,null,null,"",null,""]
[null,{"$f":"IF('申【様式５・６】（コミュ）'!$E$82=\"\",\"\",'申【様式５・６】（コミュ）'!$E$82)","v":""},{"$f":"'申【様式５・６】（コミュ）'!$U$22","v":0},{"$f":"'申【様式５・６】（コミュ）'!$U25","v":0},"",{"$f":"IF(D35=0,\"\",COUNTIF($E$28:E35,E35))","v":""},null,null,null,"",null,""]
[null,{"$f":"IF('申【様式５・６】（コミュ）'!$E$87=\"\",\"\",'申【様式５・６】（コミュ）'!$E$87)","v":""},{"$f":"'申【様式５・６】（コミュ）'!$W$22","v":0},{"$f":"'申【様式５・６】（コミュ）'!$W25","v":0},"",{"$f":"IF(D36=0,\"\",COUNTIF($E$28:E36,E36))","v":""},null,null,null,"",null,""]
[null,{"$f":"IF('申【様式５・６】（コミュ）'!$E$92=\"\",\"\",'申【様式５・６】（コミュ）'!$E$92)","v":""},{"$f":"'申【様式５・６】（コミュ）'!$Y$22","v":0},{"$f":"'申【様式５・６】（コミュ）'!$Y25","v":0},"",{"$f":"IF(D37=0,\"\",COUNTIF($E$28:E37,E37))","v":""},null,null,null,"",null,""]
[null,{"$f":"IF('申【様式５・６】（コミュ）'!$E$100=\"\",\"\",'申【様式５・６】（コミュ）'!$E$100)","v":""},{"$f":"'申【様式５・６】（コミュ）'!$AA$22","v":0},{"$f":"'申【様式５・６】（コミュ）'!$AA25","v":0},"",{"$f":"IF(D38=0,\"\",COUNTIF($E$28:E38,E38))","v":""},null,null,null,"",null,""]
[null,{"$f":"IF('申【様式５・６】（コミュ）'!$E$105=\"\",\"\",'申【様式５・６】（コミュ）'!$E$105)","v":""},{"$f":"'申【様式５・６】（コミュ）'!$AC$22","v":0},{"$f":"'申【様式５・６】（コミュ）'!$AC25","v":0},"",{"$f":"IF(D39=0,\"\",COUNTIF($E$28:E39,E39))","v":""},null,null,null,"",null,""]
["④",{"$f":"'申【様式５・６】（コミュ）'!B26","v":"　"},{"$f":"(H40*35650)+(J40*5200)+(L40*1070)","v":0},null,null,null,"講師",{"$f":"IF(COUNTIF(D41:D52,\"講師\")>0,COUNTIF(F41:F52,1),\"0\")","v":"0"},"実技",{"$f":"SUM(J41:J52)","v":0},"単労",{"$f":"SUM(L41:L52)","v":0}]
[null,{"$f":"IF('申【様式５・６】（コミュ）'!$E$44=\"\",\"\",'申【様式５・６】（コミュ）'!$E$44)","v":""},{"$f":"'申【様式５・６】（コミュ）'!$G$22","v":0},{"$f":"'申【様式５・６】（コミュ）'!$G26","v":0},{"$f":"IF(D41=0,\"\",B41&D41)","v":""},{"$f":"IF(D41=0,\"\",COUNTIF($E$41:E41,E41))","v":""},null,null,null,{"$f":"IF(AND(F41=1,SUMIFS($C$41:$C$52,$E$41:$E$52,B41&$I$40)>3),3,IF(AND(F41=1,SUMIFS($C$41:$C$52,$E$41:$E$52,B41&$I$40)<=3),SUMIFS($C$41:$C$52,$E$41:$E$52,B41&$I$40),\"\"))","v":""},null,{"$f":"IF(D41=\"単労\",C41,\"\")","v":""}]
[null,{"$f":"IF('申【様式５・６】（コミュ）'!$E$49=\"\",\"\",'申【様式５・６】（コミュ）'!$E$49)","v":""},{"$f":"'申【様式５・６】（コミュ）'!$I$22","v":0},{"$f":"'申【様式５・６】（コミュ）'!$I26","v":0},{"$f":"IF(D42=0,\"\",B42&D42)","v":""},{"$f":"IF(D42=0,\"\",COUNTIF($E$41:E42,E42))","v":""},null,null,null,{"$f":"IF(AND(F42=1,SUMIFS($C$41:$C$52,$E$41:$E$52,B42&$I$40)>3),3,IF(AND(F42=1,SUMIFS($C$41:$C$52,$E$41:$E$52,B42&$I$40)<=3),SUMIFS($C$41:$C$52,$E$41:$E$52,B42&$I$40),\"\"))","v":""},null,{"$f":"IF(D42=\"単労\",C42,\"\")","v":""}]
[null,{"$f":"IF('申【様式５・６】（コミュ）'!$E$54=\"\",\"\",'申【様式５・６】（コミュ）'!$E$54)","v":""},{"$f":"'申【様式５・６】（コミュ）'!$K$22","v":0},{"$f":"'申【様式５・６】（コミュ）'!$K26","v":0},"",{"$f":"IF(D43=0,\"\",COUNTIF($E$41:E43,E43))","v":""},null,null,null,"",null,""]
[null,{"$f":"IF('申【様式５・６】（コミュ）'!$E$59=\"\",\"\",'申【様式５・６】（コミュ）'!$E$59)","v":""},{"$f":"'申【様式５・６】（コミュ）'!$M$22","v":0},{"$f":"'申【様式５・６】（コミュ）'!$M26","v":0},"",{"$f":"IF(D44=0,\"\",COUNTIF($E$41:E44,E44))","v":""},null,null,null,"",null,""]
[null,{"$f":"IF('申【様式５・６】（コミュ）'!$E$64=\"\",\"\",'申【様式５・６】（コミュ）'!$E$64)","v":""},{"$f":"'申【様式５・６】（コミュ）'!$O$22","v":0},{"$f":"'申【様式５・６】（コミュ）'!$O26","v":0},"",{"$f":"IF(D45=0,\"\",COUNTIF($E$41:E45,E45))","v":""},null,null,null,"",null,""]
[null,{"$f":"IF('申【様式５・６】（コミュ）'!$E$72=\"\",\"\",'申【様式５・６】（コミュ）'!$E$72)","v":""},{"$f":"'申【様式５・６】（コミュ）'!$Q$22","v":0},{"$f":"'申【様式５・６】（コミュ）'!$Q26","v":0},"",{"$f":"IF(D46=0,\"\",COUNTIF($E$41:E46,E46))","v":""},null,null,null,"",null,""]
[null,{"$f":"IF('申【様式５・６】（コミュ）'!$E$77=\"\",\"\",'申【様式５・６】（コミュ）'!$E$77)","v":""},{"$f":"'申【様式５・６】（コミュ）'!$S$22","v":0},{"$f":"'申【様式５・６】（コミュ）'!$S26","v":0},"",{"$f":"IF(D47=0,\"\",COUNTIF($E$41:E47,E47))","v":""},null,null,null,"",null,""]
[null,{"$f":"IF('申【様式５・６】（コミュ）'!$E$82=\"\",\"\",'申【様式５・６】（コミュ）'!$E$82)","v":""},{"$f":"'申【様式５・６】（コミュ）'!$U$22","v":0},{"$f":"'申【様式５・６】（コミュ）'!$U26","v":0},"",{"$f":"IF(D48=0,\"\",COUNTIF($E$41:E48,E48))","v":""},null,null,null,"",null,""]
[null,{"$f":"IF('申【様式５・６】（コミュ）'!$E$87=\"\",\"\",'申【様式５・６】（コミュ）'!$E$87)","v":""},{"$f":"'申【様式５・６】（コミュ）'!$W$22","v":0},{"$f":"'申【様式５・６】（コミュ）'!$W26","v":0},"",{"$f":"IF(D49=0,\"\",COUNTIF($E$41:E49,E49))","v":""},null,null,null,"",null,""]
[null,{"$f":"IF('申【様式５・６】（コミュ）'!$E$92=\"\",\"\",'申【様式５・６】（コミュ）'!$E$92)","v":""},{"$f":"'申【様式５・６】（コミュ）'!$Y$22","v":0},{"$f":"'申【様式５・６】（コミュ）'!$Y26","v":0},"",{"$f":"IF(D50=0,\"\",COUNTIF($E$41:E50,E50))","v":""},null,null,null,"",null,""]
[null,{"$f":"IF('申【様式５・６】（コミュ）'!$E$100=\"\",\"\",'申【様式５・６】（コミュ）'!$E$100)","v":""},{"$f":"'申【様式５・６】（コミュ）'!$AA$22","v":0},{"$f":"'申【様式５・６】（コミュ）'!$AA26","v":0},"",{"$f":"IF(D51=0,\"\",COUNTIF($E$41:E51,E51))","v":""},null,null,null,"",null,""]
[null,{"$f":"IF('申【様式５・６】（コミュ）'!$E$105=\"\",\"\",'申【様式５・６】（コミュ）'!$E$105)","v":""},{"$f":"'申【様式５・６】（コミュ）'!$AC$22","v":0},{"$f":"'申【様式５・６】（コミュ）'!$AC26","v":0},"",{"$f":"IF(D52=0,\"\",COUNTIF($E$41:E52,E52))","v":""},null,null,null,"",null,""]
["⑤",{"$f":"'申【様式５・６】（コミュ）'!B27","v":"　"},{"$f":"(H53*35650)+(J53*5200)+(L53*1070)","v":0},null,null,null,"講師",{"$f":"IF(COUNTIF(D54:D65,\"講師\")>0,COUNTIF(F54:F65,1),\"0\")","v":"0"},"実技",{"$f":"SUM(J54:J65)","v":0},"単労",{"$f":"SUM(L54:L65)","v":0}]
[null,{"$f":"IF('申【様式５・６】（コミュ）'!$E$44=\"\",\"\",'申【様式５・６】（コミュ）'!$E$44)","v":""},{"$f":"'申【様式５・６】（コミュ）'!$G$22","v":0},{"$f":"'申【様式５・６】（コミュ）'!$G27","v":0},{"$f":"IF(D54=0,\"\",B54&D54)","v":""},{"$f":"IF(D54=0,\"\",COUNTIF($E$54:E54,E54))","v":""},null,null,null,{"$f":"IF(AND(F54=1,SUMIFS($C$54:$C$65,$E$54:$E$65,B54&$I$53)>3),3,IF(AND(F54=1,SUMIFS($C$54:$C$65,$E$54:$E$65,B54&$I$53)<=3),SUMIFS($C$54:$C$65,$E$54:$E$65,B54&$I$53),\"\"))","v":""},null,{"$f":"IF(D54=\"単労\",C54,\"\")","v":""}]
[null,{"$f":"IF('申【様式５・６】（コミュ）'!$E$49=\"\",\"\",'申【様式５・６】（コミュ）'!$E$49)","v":""},{"$f":"'申【様式５・６】（コミュ）'!$I$22","v":0},{"$f":"'申【様式５・６】（コミュ）'!$I27","v":0},{"$f":"IF(D55=0,\"\",B55&D55)","v":""},{"$f":"IF(D55=0,\"\",COUNTIF($E$54:E55,E55))","v":""},null,null,null,{"$f":"IF(AND(F55=1,SUMIFS($C$54:$C$65,$E$54:$E$65,B55&$I$53)>3),3,IF(AND(F55=1,SUMIFS($C$54:$C$65,$E$54:$E$65,B55&$I$53)<=3),SUMIFS($C$54:$C$65,$E$54:$E$65,B55&$I$53),\"\"))","v":""},null,{"$f":"IF(D55=\"単労\",C55,\"\")","v":""}]
[null,{"$f":"IF('申【様式５・６】（コミュ）'!$E$54=\"\",\"\",'申【様式５・６】（コミュ）'!$E$54)","v":""},{"$f":"'申【様式５・６】（コミュ）'!$K$22","v":0},{"$f":"'申【様式５・６】（コミュ）'!$K27","v":0},"",{"$f":"IF(D56=0,\"\",COUNTIF($E$54:E56,E56))","v":""},null,null,null,"",null,""]
[null,{"$f":"IF('申【様式５・６】（コミュ）'!$E$59=\"\",\"\",'申【様式５・６】（コミュ）'!$E$59)","v":""},{"$f":"'申【様式５・６】（コミュ）'!$M$22","v":0},{"$f":"'申【様式５・６】（コミュ）'!$M27","v":0},"",{"$f":"IF(D57=0,\"\",COUNTIF($E$54:E57,E57))","v":""},null,null,null,"",null,""]
[null,{"$f":"IF('申【様式５・６】（コミュ）'!$E$64=\"\",\"\",'申【様式５・６】（コミュ）'!$E$64)","v":""},{"$f":"'申【様式５・６】（コミュ）'!$O$22","v":0},{"$f":"'申【様式５・６】（コミュ）'!$O27","v":0},"",{"$f":"IF(D58=0,\"\",COUNTIF($E$54:E58,E58))","v":""},null,null,null,"",null,""]
[null,{"$f":"IF('申【様式５・６】（コミュ）'!$E$72=\"\",\"\",'申【様式５・６】（コミュ）'!$E$72)","v":""},{"$f":"'申【様式５・６】（コミュ）'!$Q$22","v":0},{"$f":"'申【様式５・６】（コミュ）'!$Q27","v":0},"",{"$f":"IF(D59=0,\"\",COUNTIF($E$54:E59,E59))","v":""},null,null,null,"",null,""]
[null,{"$f":"IF('申【様式５・６】（コミュ）'!$E$77=\"\",\"\",'申【様式５・６】（コミュ）'!$E$77)","v":""},{"$f":"'申【様式５・６】（コミュ）'!$S$22","v":0},{"$f":"'申【様式５・６】（コミュ）'!$S27","v":0},"",{"$f":"IF(D60=0,\"\",COUNTIF($E$54:E60,E60))","v":""},null,null,null,"",null,""]
[null,{"$f":"IF('申【様式５・６】（コミュ）'!$E$82=\"\",\"\",'申【様式５・６】（コミュ）'!$E$82)","v":""},{"$f":"'申【様式５・６】（コミュ）'!$U$22","v":0},{"$f":"'申【様式５・６】（コミュ）'!$U27","v":0},"",{"$f":"IF(D61=0,\"\",COUNTIF($E$54:E61,E61))","v":""},null,null,null,"",null,""]
[null,{"$f":"IF('申【様式５・６】（コミュ）'!$E$87=\"\",\"\",'申【様式５・６】（コミュ）'!$E$87)","v":""},{"$f":"'申【様式５・６】（コミュ）'!$W$22","v":0},{"$f":"'申【様式５・６】（コミュ）'!$W27","v":0},"",{"$f":"IF(D62=0,\"\",COUNTIF($E$54:E62,E62))","v":""},null,null,null,"",null,""]
[null,{"$f":"IF('申【様式５・６】（コミュ）'!$E$92=\"\",\"\",'申【様式５・６】（コミュ）'!$E$92)","v":""},{"$f":"'申【様式５・６】（コミュ）'!$Y$22","v":0},{"$f":"'申【様式５・６】（コミュ）'!$Y27","v":0},"",{"$f":"IF(D63=0,\"\",COUNTIF($E$54:E63,E63))","v":""},null,null,null,"",null,""]
[null,{"$f":"IF('申【様式５・６】（コミュ）'!$E$100=\"\",\"\",'申【様式５・６】（コミュ）'!$E$100)","v":""},{"$f":"'申【様式５・６】（コミュ）'!$AA$22","v":0},{"$f":"'申【様式５・６】（コミュ）'!$AA27","v":0},"",{"$f":"IF(D64=0,\"\",COUNTIF($E$54:E64,E64))","v":""},null,null,null,"",null,""]
[null,{"$f":"IF('申【様式５・６】（コミュ）'!$E$105=\"\",\"\",'申【様式５・６】（コミュ）'!$E$105)","v":""},{"$f":"'申【様式５・６】（コミュ）'!$AC$22","v":0},{"$f":"'申【様式５・６】（コミュ）'!$AC27","v":0},"",{"$f":"IF(D65=0,\"\",COUNTIF($E$54:E65,E65))","v":""},null,null,null,"",null,""]
["⑥",{"$f":"'申【様式５・６】（コミュ）'!B28","v":"　"},{"$f":"(H66*35650)+(J66*5200)+(L66*1070)","v":0},null,null,null,"講師",{"$f":"IF(COUNTIF(D67:D78,\"講師\")>0,COUNTIF(F67:F78,1),\"0\")","v":"0"},"実技",{"$f":"SUM(J67:J78)","v":0},"単労",{"$f":"SUM(L67:L78)","v":0}]
[null,{"$f":"IF('申【様式５・６】（コミュ）'!$E$44=\"\",\"\",'申【様式５・６】（コミュ）'!$E$44)","v":""},{"$f":"'申【様式５・６】（コミュ）'!$G$22","v":0},{"$f":"'申【様式５・６】（コミュ）'!$G28","v":0},{"$f":"IF(D67=0,\"\",B67&D67)","v":""},{"$f":"IF(D67=0,\"\",COUNTIF($E$67:E67,E67))","v":""},null,null,null,{"$f":"IF(AND(F67=1,SUMIFS($C$67:$C$78,$E$67:$E$78,B67&$I$66)>3),3,IF(AND(F67=1,SUMIFS($C$67:$C$78,$E$67:$E$78,B67&$I$66)<=3),SUMIFS($C$67:$C$78,$E$67:$E$78,B67&$I$66),\"\"))","v":""},null,{"$f":"IF(D67=\"単労\",C67,\"\")","v":""}]
[null,{"$f":"IF('申【様式５・６】（コミュ）'!$E$49=\"\",\"\",'申【様式５・６】（コミュ）'!$E$49)","v":""},{"$f":"'申【様式５・６】（コミュ）'!$I$22","v":0},{"$f":"'申【様式５・６】（コミュ）'!$I28","v":0},{"$f":"IF(D68=0,\"\",B68&D68)","v":""},{"$f":"IF(D68=0,\"\",COUNTIF($E$67:E68,E68))","v":""},null,null,null,{"$f":"IF(AND(F68=1,SUMIFS($C$67:$C$78,$E$67:$E$78,B68&$I$66)>3),3,IF(AND(F68=1,SUMIFS($C$67:$C$78,$E$67:$E$78,B68&$I$66)<=3),SUMIFS($C$67:$C$78,$E$67:$E$78,B68&$I$66),\"\"))","v":""},null,{"$f":"IF(D68=\"単労\",C68,\"\")","v":""}]
[null,{"$f":"IF('申【様式５・６】（コミュ）'!$E$54=\"\",\"\",'申【様式５・６】（コミュ）'!$E$54)","v":""},{"$f":"'申【様式５・６】（コミュ）'!$K$22","v":0},{"$f":"'申【様式５・６】（コミュ）'!$K28","v":0},"",{"$f":"IF(D69=0,\"\",COUNTIF($E$67:E69,E69))","v":""},null,null,null,"",null,""]
[null,{"$f":"IF('申【様式５・６】（コミュ）'!$E$59=\"\",\"\",'申【様式５・６】（コミュ）'!$E$59)","v":""},{"$f":"'申【様式５・６】（コミュ）'!$M$22","v":0},{"$f":"'申【様式５・６】（コミュ）'!$M28","v":0},"",{"$f":"IF(D70=0,\"\",COUNTIF($E$67:E70,E70))","v":""},null,null,null,"",null,""]
[null,{"$f":"IF('申【様式５・６】（コミュ）'!$E$64=\"\",\"\",'申【様式５・６】（コミュ）'!$E$64)","v":""},{"$f":"'申【様式５・６】（コミュ）'!$O$22","v":0},{"$f":"'申【様式５・６】（コミュ）'!$O28","v":0},"",{"$f":"IF(D71=0,\"\",COUNTIF($E$67:E71,E71))","v":""},null,null,null,"",null,""]
[null,{"$f":"IF('申【様式５・６】（コミュ）'!$E$72=\"\",\"\",'申【様式５・６】（コミュ）'!$E$72)","v":""},{"$f":"'申【様式５・６】（コミュ）'!$Q$22","v":0},{"$f":"'申【様式５・６】（コミュ）'!$Q28","v":0},"",{"$f":"IF(D72=0,\"\",COUNTIF($E$67:E72,E72))","v":""},null,null,null,"",null,""]
[null,{"$f":"IF('申【様式５・６】（コミュ）'!$E$77=\"\",\"\",'申【様式５・６】（コミュ）'!$E$77)","v":""},{"$f":"'申【様式５・６】（コミュ）'!$S$22","v":0},{"$f":"'申【様式５・６】（コミュ）'!$S28","v":0},"",{"$f":"IF(D73=0,\"\",COUNTIF($E$67:E73,E73))","v":""},null,null,null,"",null,""]
[null,{"$f":"IF('申【様式５・６】（コミュ）'!$E$82=\"\",\"\",'申【様式５・６】（コミュ）'!$E$82)","v":""},{"$f":"'申【様式５・６】（コミュ）'!$U$22","v":0},{"$f":"'申【様式５・６】（コミュ）'!$U28","v":0},"",{"$f":"IF(D74=0,\"\",COUNTIF($E$67:E74,E74))","v":""},null,null,null,"",null,""]
[null,{"$f":"IF('申【様式５・６】（コミュ）'!$E$87=\"\",\"\",'申【様式５・６】（コミュ）'!$E$87)","v":""},{"$f":"'申【様式５・６】（コミュ）'!$W$22","v":0},{"$f":"'申【様式５・６】（コミュ）'!$W28","v":0},"",{"$f":"IF(D75=0,\"\",COUNTIF($E$67:E75,E75))","v":""},null,null,null,"",null,""]
[null,{"$f":"IF('申【様式５・６】（コミュ）'!$E$92=\"\",\"\",'申【様式５・６】（コミュ）'!$E$92)","v":""},{"$f":"'申【様式５・６】（コミュ）'!$Y$22","v":0},{"$f":"'申【様式５・６】（コミュ）'!$Y28","v":0},"",{"$f":"IF(D76=0,\"\",COUNTIF($E$67:E76,E76))","v":""},null,null,null,"",null,""]
[null,{"$f":"IF('申【様式５・６】（コミュ）'!$E$100=\"\",\"\",'申【様式５・６】（コミュ）'!$E$100)","v":""},{"$f":"'申【様式５・６】（コミュ）'!$AA$22","v":0},{"$f":"'申【様式５・６】（コミュ）'!$AA28","v":0},"",{"$f":"IF(D77=0,\"\",COUNTIF($E$67:E77,E77))","v":""},null,null,null,"",null,""]
[null,{"$f":"IF('申【様式５・６】（コミュ）'!$E$105=\"\",\"\",'申【様式５・６】（コミュ）'!$E$105)","v":""},{"$f":"'申【様式５・６】（コミュ）'!$AC$22","v":0},{"$f":"'申【様式５・６】（コミュ）'!$AC28","v":0},"",{"$f":"IF(D78=0,\"\",COUNTIF($E$67:E78,E78))","v":""},null,null,null,"",null,""]
["⑦",{"$f":"'申【様式５・６】（コミュ）'!B29","v":"　"},{"$f":"(H79*35650)+(J79*5200)+(L79*1070)","v":0},null,null,null,"講師",{"$f":"IF(COUNTIF(D80:D91,\"講師\")>0,COUNTIF(F80:F91,1),\"0\")","v":"0"},"実技",{"$f":"SUM(J80:J91)","v":0},"単労",{"$f":"SUM(L80:L91)","v":0}]
[null,{"$f":"IF('申【様式５・６】（コミュ）'!$E$44=\"\",\"\",'申【様式５・６】（コミュ）'!$E$44)","v":""},{"$f":"'申【様式５・６】（コミュ）'!$G$22","v":0},{"$f":"'申【様式５・６】（コミュ）'!$G29","v":0},{"$f":"IF(D80=0,\"\",B80&D80)","v":""},{"$f":"IF(D80=0,\"\",COUNTIF($E$80:E80,E80))","v":""},null,null,null,{"$f":"IF(AND(F80=1,SUMIFS($C$80:$C$91,$E$80:$E$91,B80&$I$79)>3),3,IF(AND(F80=1,SUMIFS($C$80:$C$91,$E$80:$E$91,B80&$I$79)<=3),SUMIFS($C$80:$C$91,$E$80:$E$91,B80&$I$79),\"\"))","v":""},null,{"$f":"IF(D80=\"単労\",C80,\"\")","v":""}]
[null,{"$f":"IF('申【様式５・６】（コミュ）'!$E$49=\"\",\"\",'申【様式５・６】（コミュ）'!$E$49)","v":""},{"$f":"'申【様式５・６】（コミュ）'!$I$22","v":0},{"$f":"'申【様式５・６】（コミュ）'!$I29","v":0},{"$f":"IF(D81=0,\"\",B81&D81)","v":""},{"$f":"IF(D81=0,\"\",COUNTIF($E$80:E81,E81))","v":""},null,null,null,{"$f":"IF(AND(F81=1,SUMIFS($C$80:$C$91,$E$80:$E$91,B81&$I$79)>3),3,IF(AND(F81=1,SUMIFS($C$80:$C$91,$E$80:$E$91,B81&$I$79)<=3),SUMIFS($C$80:$C$91,$E$80:$E$91,B81&$I$79),\"\"))","v":""},null,{"$f":"IF(D81=\"単労\",C81,\"\")","v":""}]
[null,{"$f":"IF('申【様式５・６】（コミュ）'!$E$54=\"\",\"\",'申【様式５・６】（コミュ）'!$E$54)","v":""},{"$f":"'申【様式５・６】（コミュ）'!$K$22","v":0},{"$f":"'申【様式５・６】（コミュ）'!$K29","v":0},"",{"$f":"IF(D82=0,\"\",COUNTIF($E$80:E82,E82))","v":""},null,null,null,"",null,""]
[null,{"$f":"IF('申【様式５・６】（コミュ）'!$E$59=\"\",\"\",'申【様式５・６】（コミュ）'!$E$59)","v":""},{"$f":"'申【様式５・６】（コミュ）'!$M$22","v":0},{"$f":"'申【様式５・６】（コミュ）'!$M29","v":0},"",{"$f":"IF(D83=0,\"\",COUNTIF($E$80:E83,E83))","v":""},null,null,null,"",null,""]
[null,{"$f":"IF('申【様式５・６】（コミュ）'!$E$64=\"\",\"\",'申【様式５・６】（コミュ）'!$E$64)","v":""},{"$f":"'申【様式５・６】（コミュ）'!$O$22","v":0},{"$f":"'申【様式５・６】（コミュ）'!$O29","v":0},"",{"$f":"IF(D84=0,\"\",COUNTIF($E$80:E84,E84))","v":""},null,null,null,"",null,""]
[null,{"$f":"IF('申【様式５・６】（コミュ）'!$E$72=\"\",\"\",'申【様式５・６】（コミュ）'!$E$72)","v":""},{"$f":"'申【様式５・６】（コミュ）'!$Q$22","v":0},{"$f":"'申【様式５・６】（コミュ）'!$Q29","v":0},"",{"$f":"IF(D85=0,\"\",COUNTIF($E$80:E85,E85))","v":""},null,null,null,"",null,""]
[null,{"$f":"IF('申【様式５・６】（コミュ）'!$E$77=\"\",\"\",'申【様式５・６】（コミュ）'!$E$77)","v":""},{"$f":"'申【様式５・６】（コミュ）'!$S$22","v":0},{"$f":"'申【様式５・６】（コミュ）'!$S29","v":0},"",{"$f":"IF(D86=0,\"\",COUNTIF($E$80:E86,E86))","v":""},null,null,null,"",null,""]
[null,{"$f":"IF('申【様式５・６】（コミュ）'!$E$82=\"\",\"\",'申【様式５・６】（コミュ）'!$E$82)","v":""},{"$f":"'申【様式５・６】（コミュ）'!$U$22","v":0},{"$f":"'申【様式５・６】（コミュ）'!$U29","v":0},"",{"$f":"IF(D87=0,\"\",COUNTIF($E$80:E87,E87))","v":""},null,null,null,"",null,""]
[null,{"$f":"IF('申【様式５・６】（コミュ）'!$E$87=\"\",\"\",'申【様式５・６】（コミュ）'!$E$87)","v":""},{"$f":"'申【様式５・６】（コミュ）'!$W$22","v":0},{"$f":"'申【様式５・６】（コミュ）'!$W29","v":0},"",{"$f":"IF(D88=0,\"\",COUNTIF($E$80:E88,E88))","v":""},null,null,null,"",null,""]
[null,{"$f":"IF('申【様式５・６】（コミュ）'!$E$92=\"\",\"\",'申【様式５・６】（コミュ）'!$E$92)","v":""},{"$f":"'申【様式５・６】（コミュ）'!$Y$22","v":0},{"$f":"'申【様式５・６】（コミュ）'!$Y29","v":0},"",{"$f":"IF(D89=0,\"\",COUNTIF($E$80:E89,E89))","v":""},null,null,null,"",null,""]
[null,{"$f":"IF('申【様式５・６】（コミュ）'!$E$100=\"\",\"\",'申【様式５・６】（コミュ）'!$E$100)","v":""},{"$f":"'申【様式５・６】（コミュ）'!$AA$22","v":0},{"$f":"'申【様式５・６】（コミュ）'!$AA29","v":0},"",{"$f":"IF(D90=0,\"\",COUNTIF($E$80:E90,E90))","v":""},null,null,null,"",null,""]
[null,{"$f":"IF('申【様式５・６】（コミュ）'!$E$105=\"\",\"\",'申【様式５・６】（コミュ）'!$E$105)","v":""},{"$f":"'申【様式５・６】（コミュ）'!$AC$22","v":0},{"$f":"'申【様式５・６】（コミュ）'!$AC29","v":0},"",{"$f":"IF(D91=0,\"\",COUNTIF($E$80:E91,E91))","v":""},null,null,null,"",null,""]
["⑧",{"$f":"'申【様式５・６】（コミュ）'!B30","v":"　"},{"$f":"(H92*35650)+(J92*5200)+(L92*1070)","v":0},null,null,null,"講師",{"$f":"IF(COUNTIF(D93:D104,\"講師\")>0,COUNTIF(F93:F104,1),\"0\")","v":"0"},"実技",{"$f":"SUM(J93:J104)","v":0},"単労",{"$f":"SUM(L93:L104)","v":0}]
[null,{"$f":"IF('申【様式５・６】（コミュ）'!$E$44=\"\",\"\",'申【様式５・６】（コミュ）'!$E$44)","v":""},{"$f":"'申【様式５・６】（コミュ）'!$G$22","v":0},{"$f":"'申【様式５・６】（コミュ）'!$G30","v":0},{"$f":"IF(D93=0,\"\",B93&D93)","v":""},{"$f":"IF(D93=0,\"\",COUNTIF($E$93:E93,E93))","v":""},null,null,null,{"$f":"IF(AND(F93=1,SUMIFS($C$93:$C$104,$E$93:$E$104,B93&$I$92)>3),3,IF(AND(F93=1,SUMIFS($C$93:$C$104,$E$93:$E$104,B93&$I$92)<=3),SUMIFS($C$93:$C$104,$E$93:$E$104,B93&$I$92),\"\"))","v":""},null,{"$f":"IF(D93=\"単労\",C93,\"\")","v":""}]
[null,{"$f":"IF('申【様式５・６】（コミュ）'!$E$49=\"\",\"\",'申【様式５・６】（コミュ）'!$E$49)","v":""},{"$f":"'申【様式５・６】（コミュ）'!$I$22","v":0},{"$f":"'申【様式５・６】（コミュ）'!$I30","v":0},{"$f":"IF(D94=0,\"\",B94&D94)","v":""},{"$f":"IF(D94=0,\"\",COUNTIF($E$93:E94,E94))","v":""},null,null,null,{"$f":"IF(AND(F94=1,SUMIFS($C$93:$C$104,$E$93:$E$104,B94&$I$92)>3),3,IF(AND(F94=1,SUMIFS($C$93:$C$104,$E$93:$E$104,B94&$I$92)<=3),SUMIFS($C$93:$C$104,$E$93:$E$104,B94&$I$92),\"\"))","v":""},null,{"$f":"IF(D94=\"単労\",C94,\"\")","v":""}]
[null,{"$f":"IF('申【様式５・６】（コミュ）'!$E$54=\"\",\"\",'申【様式５・６】（コミュ）'!$E$54)","v":""},{"$f":"'申【様式５・６】（コミュ）'!$K$22","v":0},{"$f":"'申【様式５・６】（コミュ）'!$K30","v":0},"",{"$f":"IF(D95=0,\"\",COUNTIF($E$93:E95,E95))","v":""},null,null,null,"",null,""]
[null,{"$f":"IF('申【様式５・６】（コミュ）'!$E$59=\"\",\"\",'申【様式５・６】（コミュ）'!$E$59)","v":""},{"$f":"'申【様式５・６】（コミュ）'!$M$22","v":0},{"$f":"'申【様式５・６】（コミュ）'!$M30","v":0},"",{"$f":"IF(D96=0,\"\",COUNTIF($E$93:E96,E96))","v":""},null,null,null,"",null,""]
[null,{"$f":"IF('申【様式５・６】（コミュ）'!$E$64=\"\",\"\",'申【様式５・６】（コミュ）'!$E$64)","v":""},{"$f":"'申【様式５・６】（コミュ）'!$O$22","v":0},{"$f":"'申【様式５・６】（コミュ）'!$O30","v":0},"",{"$f":"IF(D97=0,\"\",COUNTIF($E$93:E97,E97))","v":""},null,null,null,"",null,""]
[null,{"$f":"IF('申【様式５・６】（コミュ）'!$E$72=\"\",\"\",'申【様式５・６】（コミュ）'!$E$72)","v":""},{"$f":"'申【様式５・６】（コミュ）'!$Q$22","v":0},{"$f":"'申【様式５・６】（コミュ）'!$Q30","v":0},"",{"$f":"IF(D98=0,\"\",COUNTIF($E$93:E98,E98))","v":""},null,null,null,"",null,""]
[null,{"$f":"IF('申【様式５・６】（コミュ）'!$E$77=\"\",\"\",'申【様式５・６】（コミュ）'!$E$77)","v":""},{"$f":"'申【様式５・６】（コミュ）'!$S$22","v":0},{"$f":"'申【様式５・６】（コミュ）'!$S30","v":0},"",{"$f":"IF(D99=0,\"\",COUNTIF($E$93:E99,E99))","v":""},null,null,null,"",null,""]
[null,{"$f":"IF('申【様式５・６】（コミュ）'!$E$82=\"\",\"\",'申【様式５・６】（コミュ）'!$E$82)","v":""},{"$f":"'申【様式５・６】（コミュ）'!$U$22","v":0},{"$f":"'申【様式５・６】（コミュ）'!$U30","v":0},"",{"$f":"IF(D100=0,\"\",COUNTIF($E$93:E100,E100))","v":""},null,null,null,"",null,""]
[null,{"$f":"IF('申【様式５・６】（コミュ）'!$E$87=\"\",\"\",'申【様式５・６】（コミュ）'!$E$87)","v":""},{"$f":"'申【様式５・６】（コミュ）'!$W$22","v":0},{"$f":"'申【様式５・６】（コミュ）'!$W30","v":0},"",{"$f":"IF(D101=0,\"\",COUNTIF($E$93:E101,E101))","v":""},null,null,null,"",null,""]
[null,{"$f":"IF('申【様式５・６】（コミュ）'!$E$92=\"\",\"\",'申【様式５・６】（コミュ）'!$E$92)","v":""},{"$f":"'申【様式５・６】（コミュ）'!$Y$22","v":0},{"$f":"'申【様式５・６】（コミュ）'!$Y30","v":0},"",{"$f":"IF(D102=0,\"\",COUNTIF($E$93:E102,E102))","v":""},null,null,null,"",null,""]
[null,{"$f":"IF('申【様式５・６】（コミュ）'!$E$100=\"\",\"\",'申【様式５・６】（コミュ）'!$E$100)","v":""},{"$f":"'申【様式５・６】（コミュ）'!$AA$22","v":0},{"$f":"'申【様式５・６】（コミュ）'!$AA30","v":0},"",{"$f":"IF(D103=0,\"\",COUNTIF($E$93:E103,E103))","v":""},null,null,null,"",null,""]
[null,{"$f":"IF('申【様式５・６】（コミュ）'!$E$105=\"\",\"\",'申【様式５・６】（コミュ）'!$E$105)","v":""},{"$f":"'申【様式５・６】（コミュ）'!$AC$22","v":0},{"$f":"'申【様式５・６】（コミュ）'!$AC30","v":0},"",{"$f":"IF(D104=0,\"\",COUNTIF($E$93:E104,E104))","v":""},null,null,null,"",null,""]
["⑨",{"$f":"'申【様式５・６】（コミュ）'!B31","v":"　"},{"$f":"(H105*35650)+(J105*5200)+(L105*1070)","v":0},null,null,null,"講師",{"$f":"IF(COUNTIF(D106:D117,\"講師\")>0,COUNTIF(F106:F117,1),\"0\")","v":"0"},"実技",{"$f":"SUM(J106:J117)","v":0},"単労",{"$f":"SUM(L106:L117)","v":0}]
[null,{"$f":"IF('申【様式５・６】（コミュ）'!$E$44=\"\",\"\",'申【様式５・６】（コミュ）'!$E$44)","v":""},{"$f":"'申【様式５・６】（コミュ）'!$G$22","v":0},{"$f":"'申【様式５・６】（コミュ）'!$G31","v":0},{"$f":"IF(D106=0,\"\",B106&D106)","v":""},{"$f":"IF(D106=0,\"\",COUNTIF($E$106:E106,E106))","v":""},null,null,null,{"$f":"IF(AND(F106=1,SUMIFS($C$106:$C$117,$E$106:$E$117,B106&$I$105)>3),3,IF(AND(F106=1,SUMIFS($C$106:$C$117,$E$106:$E$117,B106&$I$105)<=3),SUMIFS($C$106:$C$117,$E$106:$E$117,B106&$I$105),\"\"))","v":""},null,{"$f":"IF(D106=\"単労\",C106,\"\")","v":""}]
[null,{"$f":"IF('申【様式５・６】（コミュ）'!$E$49=\"\",\"\",'申【様式５・６】（コミュ）'!$E$49)","v":""},{"$f":"'申【様式５・６】（コミュ）'!$I$22","v":0},{"$f":"'申【様式５・６】（コミュ）'!$I31","v":0},{"$f":"IF(D107=0,\"\",B107&D107)","v":""},{"$f":"IF(D107=0,\"\",COUNTIF($E$106:E107,E107))","v":""},null,null,null,{"$f":"IF(AND(F107=1,SUMIFS($C$106:$C$117,$E$106:$E$117,B107&$I$105)>3),3,IF(AND(F107=1,SUMIFS($C$106:$C$117,$E$106:$E$117,B107&$I$105)<=3),SUMIFS($C$106:$C$117,$E$106:$E$117,B107&$I$105),\"\"))","v":""},null,{"$f":"IF(D107=\"単労\",C107,\"\")","v":""}]
[null,{"$f":"IF('申【様式５・６】（コミュ）'!$E$54=\"\",\"\",'申【様式５・６】（コミュ）'!$E$54)","v":""},{"$f":"'申【様式５・６】（コミュ）'!$K$22","v":0},{"$f":"'申【様式５・６】（コミュ）'!$K31","v":0},"",{"$f":"IF(D108=0,\"\",COUNTIF($E$106:E108,E108))","v":""},null,null,null,"",null,""]
[null,{"$f":"IF('申【様式５・６】（コミュ）'!$E$59=\"\",\"\",'申【様式５・６】（コミュ）'!$E$59)","v":""},{"$f":"'申【様式５・６】（コミュ）'!$M$22","v":0},{"$f":"'申【様式５・６】（コミュ）'!$M31","v":0},"",{"$f":"IF(D109=0,\"\",COUNTIF($E$106:E109,E109))","v":""},null,null,null,"",null,""]
[null,{"$f":"IF('申【様式５・６】（コミュ）'!$E$64=\"\",\"\",'申【様式５・６】（コミュ）'!$E$64)","v":""},{"$f":"'申【様式５・６】（コミュ）'!$O$22","v":0},{"$f":"'申【様式５・６】（コミュ）'!$O31","v":0},"",{"$f":"IF(D110=0,\"\",COUNTIF($E$106:E110,E110))","v":""},null,null,null,"",null,""]
[null,{"$f":"IF('申【様式５・６】（コミュ）'!$E$72=\"\",\"\",'申【様式５・６】（コミュ）'!$E$72)","v":""},{"$f":"'申【様式５・６】（コミュ）'!$Q$22","v":0},{"$f":"'申【様式５・６】（コミュ）'!$Q31","v":0},"",{"$f":"IF(D111=0,\"\",COUNTIF($E$106:E111,E111))","v":""},null,null,null,"",null,""]
[null,{"$f":"IF('申【様式５・６】（コミュ）'!$E$77=\"\",\"\",'申【様式５・６】（コミュ）'!$E$77)","v":""},{"$f":"'申【様式５・６】（コミュ）'!$S$22","v":0},{"$f":"'申【様式５・６】（コミュ）'!$S31","v":0},"",{"$f":"IF(D112=0,\"\",COUNTIF($E$106:E112,E112))","v":""},null,null,null,"",null,""]
[null,{"$f":"IF('申【様式５・６】（コミュ）'!$E$82=\"\",\"\",'申【様式５・６】（コミュ）'!$E$82)","v":""},{"$f":"'申【様式５・６】（コミュ）'!$U$22","v":0},{"$f":"'申【様式５・６】（コミュ）'!$U31","v":0},"",{"$f":"IF(D113=0,\"\",COUNTIF($E$106:E113,E113))","v":""},null,null,null,"",null,""]
[null,{"$f":"IF('申【様式５・６】（コミュ）'!$E$87=\"\",\"\",'申【様式５・６】（コミュ）'!$E$87)","v":""},{"$f":"'申【様式５・６】（コミュ）'!$W$22","v":0},{"$f":"'申【様式５・６】（コミュ）'!$W31","v":0},"",{"$f":"IF(D114=0,\"\",COUNTIF($E$106:E114,E114))","v":""},null,null,null,"",null,""]
[null,{"$f":"IF('申【様式５・６】（コミュ）'!$E$92=\"\",\"\",'申【様式５・６】（コミュ）'!$E$92)","v":""},{"$f":"'申【様式５・６】（コミュ）'!$Y$22","v":0},{"$f":"'申【様式５・６】（コミュ）'!$Y31","v":0},"",{"$f":"IF(D115=0,\"\",COUNTIF($E$106:E115,E115))","v":""},null,null,null,"",null,""]
[null,{"$f":"IF('申【様式５・６】（コミュ）'!$E$100=\"\",\"\",'申【様式５・６】（コミュ）'!$E$100)","v":""},{"$f":"'申【様式５・６】（コミュ）'!$AA$22","v":0},{"$f":"'申【様式５・６】（コミュ）'!$AA31","v":0},"",{"$f":"IF(D116=0,\"\",COUNTIF($E$106:E116,E116))","v":""},null,null,null,"",null,""]
[null,{"$f":"IF('申【様式５・６】（コミュ）'!$E$105=\"\",\"\",'申【様式５・６】（コミュ）'!$E$105)","v":""},{"$f":"'申【様式５・６】（コミュ）'!$AC$22","v":0},{"$f":"'申【様式５・６】（コミュ）'!$AC31","v":0},"",{"$f":"IF(D117=0,\"\",COUNTIF($E$106:E117,E117))","v":""},null,null,null,{"$f":"IF(AND(F117=1,SUMIFS($C$106:$C$117,$E$106:$E$117,B117&$I$105)>3),3,IF(AND(F117=1,SUMIFS($C$106:$C$117,$E$106:$E$117,B117&$I$105)<=3),SUMIFS($C$106:$C$117,$E$106:$E$117,B117&$I$105),\"\"))","v":""},null,""]
["⑩",{"$f":"'申【様式５・６】（コミュ）'!B32","v":"　"},{"$f":"(H118*35650)+(J118*5200)+(L118*1070)","v":0},null,null,null,"講師",{"$f":"IF(COUNTIF(D119:D130,\"講師\")>0,COUNTIF(F119:F130,1),\"0\")","v":"0"},"実技",{"$f":"SUM(J119:J130)","v":0},"単労",{"$f":"SUM(L119:L130)","v":0}]
[null,{"$f":"IF('申【様式５・６】（コミュ）'!$E$44=\"\",\"\",'申【様式５・６】（コミュ）'!$E$44)","v":""},{"$f":"'申【様式５・６】（コミュ）'!$G$22","v":0},{"$f":"'申【様式５・６】（コミュ）'!$G32","v":0},{"$f":"IF(D119=0,\"\",B119&D119)","v":""},{"$f":"IF(D119=0,\"\",COUNTIF($E$119:E119,E119))","v":""},null,null,null,{"$f":"IF(AND(F119=1,SUMIFS($C$119:$C$130,$E$119:$E$130,B119&$I$118)>3),3,IF(AND(F119=1,SUMIFS($C$119:$C$130,$E$119:$E$130,B119&$I$118)<=3),SUMIFS($C$119:$C$130,$E$119:$E$130,B119&$I$118),\"\"))","v":""},null,{"$f":"IF(D119=\"単労\",C119,\"\")","v":""}]
[null,{"$f":"IF('申【様式５・６】（コミュ）'!$E$49=\"\",\"\",'申【様式５・６】（コミュ）'!$E$49)","v":""},{"$f":"'申【様式５・６】（コミュ）'!$I$22","v":0},{"$f":"'申【様式５・６】（コミュ）'!$I32","v":0},{"$f":"IF(D120=0,\"\",B120&D120)","v":""},{"$f":"IF(D120=0,\"\",COUNTIF($E$119:E120,E120))","v":""},null,null,null,{"$f":"IF(AND(F120=1,SUMIFS($C$119:$C$130,$E$119:$E$130,B120&$I$118)>3),3,IF(AND(F120=1,SUMIFS($C$119:$C$130,$E$119:$E$130,B120&$I$118)<=3),SUMIFS($C$119:$C$130,$E$119:$E$130,B120&$I$118),\"\"))","v":""},null,{"$f":"IF(D120=\"単労\",C120,\"\")","v":""}]
[null,{"$f":"IF('申【様式５・６】（コミュ）'!$E$54=\"\",\"\",'申【様式５・６】（コミュ）'!$E$54)","v":""},{"$f":"'申【様式５・６】（コミュ）'!$K$22","v":0},{"$f":"'申【様式５・６】（コミュ）'!$K32","v":0},"",{"$f":"IF(D121=0,\"\",COUNTIF($E$119:E121,E121))","v":""},null,null,null,"",null,""]
[null,{"$f":"IF('申【様式５・６】（コミュ）'!$E$59=\"\",\"\",'申【様式５・６】（コミュ）'!$E$59)","v":""},{"$f":"'申【様式５・６】（コミュ）'!$M$22","v":0},{"$f":"'申【様式５・６】（コミュ）'!$M32","v":0},"",{"$f":"IF(D122=0,\"\",COUNTIF($E$119:E122,E122))","v":""},null,null,null,"",null,""]
[null,{"$f":"IF('申【様式５・６】（コミュ）'!$E$64=\"\",\"\",'申【様式５・６】（コミュ）'!$E$64)","v":""},{"$f":"'申【様式５・６】（コミュ）'!$O$22","v":0},{"$f":"'申【様式５・６】（コミュ）'!$O32","v":0},"",{"$f":"IF(D123=0,\"\",COUNTIF($E$119:E123,E123))","v":""},null,null,null,"",null,""]
[null,{"$f":"IF('申【様式５・６】（コミュ）'!$E$72=\"\",\"\",'申【様式５・６】（コミュ）'!$E$72)","v":""},{"$f":"'申【様式５・６】（コミュ）'!$Q$22","v":0},{"$f":"'申【様式５・６】（コミュ）'!$Q32","v":0},"",{"$f":"IF(D124=0,\"\",COUNTIF($E$119:E124,E124))","v":""},null,null,null,"",null,""]
[null,{"$f":"IF('申【様式５・６】（コミュ）'!$E$77=\"\",\"\",'申【様式５・６】（コミュ）'!$E$77)","v":""},{"$f":"'申【様式５・６】（コミュ）'!$S$22","v":0},{"$f":"'申【様式５・６】（コミュ）'!$S32","v":0},"",{"$f":"IF(D125=0,\"\",COUNTIF($E$119:E125,E125))","v":""},null,null,null,"",null,""]
[null,{"$f":"IF('申【様式５・６】（コミュ）'!$E$82=\"\",\"\",'申【様式５・６】（コミュ）'!$E$82)","v":""},{"$f":"'申【様式５・６】（コミュ）'!$U$22","v":0},{"$f":"'申【様式５・６】（コミュ）'!$U32","v":0},"",{"$f":"IF(D126=0,\"\",COUNTIF($E$119:E126,E126))","v":""},null,null,null,"",null,""]
[null,{"$f":"IF('申【様式５・６】（コミュ）'!$E$87=\"\",\"\",'申【様式５・６】（コミュ）'!$E$87)","v":""},{"$f":"'申【様式５・６】（コミュ）'!$W$22","v":0},{"$f":"'申【様式５・６】（コミュ）'!$W32","v":0},"",{"$f":"IF(D127=0,\"\",COUNTIF($E$119:E127,E127))","v":""},null,null,null,"",null,""]
[null,{"$f":"IF('申【様式５・６】（コミュ）'!$E$92=\"\",\"\",'申【様式５・６】（コミュ）'!$E$92)","v":""},{"$f":"'申【様式５・６】（コミュ）'!$Y$22","v":0},{"$f":"'申【様式５・６】（コミュ）'!$Y32","v":0},"",{"$f":"IF(D128=0,\"\",COUNTIF($E$119:E128,E128))","v":""},null,null,null,"",null,""]
[null,{"$f":"IF('申【様式５・６】（コミュ）'!$E$100=\"\",\"\",'申【様式５・６】（コミュ）'!$E$100)","v":""},{"$f":"'申【様式５・６】（コミュ）'!$AA$22","v":0},{"$f":"'申【様式５・６】（コミュ）'!$AA32","v":0},"",{"$f":"IF(D129=0,\"\",COUNTIF($E$119:E129,E129))","v":""},null,null,null,"",null,""]
[null,{"$f":"IF('申【様式５・６】（コミュ）'!$E$105=\"\",\"\",'申【様式５・６】（コミュ）'!$E$105)","v":""},{"$f":"'申【様式５・６】（コミュ）'!$AC$22","v":0},{"$f":"'申【様式５・６】（コミュ）'!$AC32","v":0},"",{"$f":"IF(D130=0,\"\",COUNTIF($E$119:E130,E130))","v":""},null,null,null,"",null,""]
["⑪",{"$f":"'申【様式５・６】（コミュ）'!B33","v":"　"},{"$f":"(H131*35650)+(J131*5200)+(L131*1070)","v":0},null,null,null,"講師",{"$f":"IF(COUNTIF(D132:D143,\"講師\")>0,COUNTIF(F132:F143,1),\"0\")","v":"0"},"実技",{"$f":"SUM(J132:J143)","v":0},"単労",{"$f":"SUM(L132:L143)","v":0}]
[null,{"$f":"IF('申【様式５・６】（コミュ）'!$E$44=\"\",\"\",'申【様式５・６】（コミュ）'!$E$44)","v":""},{"$f":"'申【様式５・６】（コミュ）'!$G$22","v":0},{"$f":"'申【様式５・６】（コミュ）'!$G33","v":0},{"$f":"IF(D132=0,\"\",B132&D132)","v":""},{"$f":"IF(D132=0,\"\",COUNTIF($E$132:E132,E132))","v":""},null,null,null,{"$f":"IF(AND(F132=1,SUMIFS($C$132:$C$143,$E$132:$E$143,B132&$I$131)>3),3,IF(AND(F132=1,SUMIFS($C$132:$C$143,$E$132:$E$143,B132&$I$131)<=3),SUMIFS($C$132:$C$143,$E$132:$E$143,B132&$I$131),\"\"))","v":""},null,{"$f":"IF(D132=\"単労\",C132,\"\")","v":""}]
[null,{"$f":"IF('申【様式５・６】（コミュ）'!$E$49=\"\",\"\",'申【様式５・６】（コミュ）'!$E$49)","v":""},{"$f":"'申【様式５・６】（コミュ）'!$I$22","v":0},{"$f":"'申【様式５・６】（コミュ）'!$I33","v":0},{"$f":"IF(D133=0,\"\",B133&D133)","v":""},{"$f":"IF(D133=0,\"\",COUNTIF($E$132:E133,E133))","v":""},null,null,null,{"$f":"IF(AND(F133=1,SUMIFS($C$132:$C$143,$E$132:$E$143,B133&$I$131)>3),3,IF(AND(F133=1,SUMIFS($C$132:$C$143,$E$132:$E$143,B133&$I$131)<=3),SUMIFS($C$132:$C$143,$E$132:$E$143,B133&$I$131),\"\"))","v":""},null,{"$f":"IF(D133=\"単労\",C133,\"\")","v":""}]
[null,{"$f":"IF('申【様式５・６】（コミュ）'!$E$54=\"\",\"\",'申【様式５・６】（コミュ）'!$E$54)","v":""},{"$f":"'申【様式５・６】（コミュ）'!$K$22","v":0},{"$f":"'申【様式５・６】（コミュ）'!$K33","v":0},"",{"$f":"IF(D134=0,\"\",COUNTIF($E$132:E134,E134))","v":""},null,null,null,"",null,""]
[null,{"$f":"IF('申【様式５・６】（コミュ）'!$E$59=\"\",\"\",'申【様式５・６】（コミュ）'!$E$59)","v":""},{"$f":"'申【様式５・６】（コミュ）'!$M$22","v":0},{"$f":"'申【様式５・６】（コミュ）'!$M33","v":0},"",{"$f":"IF(D135=0,\"\",COUNTIF($E$132:E135,E135))","v":""},null,null,null,"",null,""]
[null,{"$f":"IF('申【様式５・６】（コミュ）'!$E$64=\"\",\"\",'申【様式５・６】（コミュ）'!$E$64)","v":""},{"$f":"'申【様式５・６】（コミュ）'!$O$22","v":0},{"$f":"'申【様式５・６】（コミュ）'!$O33","v":0},"",{"$f":"IF(D136=0,\"\",COUNTIF($E$132:E136,E136))","v":""},null,null,null,"",null,""]
[null,{"$f":"IF('申【様式５・６】（コミュ）'!$E$72=\"\",\"\",'申【様式５・６】（コミュ）'!$E$72)","v":""},{"$f":"'申【様式５・６】（コミュ）'!$Q$22","v":0},{"$f":"'申【様式５・６】（コミュ）'!$Q33","v":0},"",{"$f":"IF(D137=0,\"\",COUNTIF($E$132:E137,E137))","v":""},null,null,null,"",null,""]
[null,{"$f":"IF('申【様式５・６】（コミュ）'!$E$77=\"\",\"\",'申【様式５・６】（コミュ）'!$E$77)","v":""},{"$f":"'申【様式５・６】（コミュ）'!$S$22","v":0},{"$f":"'申【様式５・６】（コミュ）'!$S33","v":0},"",{"$f":"IF(D138=0,\"\",COUNTIF($E$132:E138,E138))","v":""},null,null,null,"",null,""]
[null,{"$f":"IF('申【様式５・６】（コミュ）'!$E$82=\"\",\"\",'申【様式５・６】（コミュ）'!$E$82)","v":""},{"$f":"'申【様式５・６】（コミュ）'!$U$22","v":0},{"$f":"'申【様式５・６】（コミュ）'!$U33","v":0},"",{"$f":"IF(D139=0,\"\",COUNTIF($E$132:E139,E139))","v":""},null,null,null,"",null,""]
[null,{"$f":"IF('申【様式５・６】（コミュ）'!$E$87=\"\",\"\",'申【様式５・６】（コミュ）'!$E$87)","v":""},{"$f":"'申【様式５・６】（コミュ）'!$W$22","v":0},{"$f":"'申【様式５・６】（コミュ）'!$W33","v":0},"",{"$f":"IF(D140=0,\"\",COUNTIF($E$132:E140,E140))","v":""},null,null,null,"",null,""]
[null,{"$f":"IF('申【様式５・６】（コミュ）'!$E$92=\"\",\"\",'申【様式５・６】（コミュ）'!$E$92)","v":""},{"$f":"'申【様式５・６】（コミュ）'!$Y$22","v":0},{"$f":"'申【様式５・６】（コミュ）'!$Y33","v":0},"",{"$f":"IF(D141=0,\"\",COUNTIF($E$132:E141,E141))","v":""},null,null,null,"",null,""]
[null,{"$f":"IF('申【様式５・６】（コミュ）'!$E$100=\"\",\"\",'申【様式５・６】（コミュ）'!$E$100)","v":""},{"$f":"'申【様式５・６】（コミュ）'!$AA$22","v":0},{"$f":"'申【様式５・６】（コミュ）'!$AA33","v":0},"",{"$f":"IF(D142=0,\"\",COUNTIF($E$132:E142,E142))","v":""},null,null,null,"",null,""]
[null,{"$f":"IF('申【様式５・６】（コミュ）'!$E$105=\"\",\"\",'申【様式５・６】（コミュ）'!$E$105)","v":""},{"$f":"'申【様式５・６】（コミュ）'!$AC$22","v":0},{"$f":"'申【様式５・６】（コミュ）'!$AC33","v":0},"",{"$f":"IF(D143=0,\"\",COUNTIF($E$132:E143,E143))","v":""},null,null,null,"",null,""]
["⑫",{"$f":"'申【様式５・６】（コミュ）'!B34","v":"　"},{"$f":"(H144*35650)+(J144*5200)+(L144*1070)","v":0},null,null,null,"講師",{"$f":"IF(COUNTIF(D145:D156,\"講師\")>0,COUNTIF(F145:F156,1),\"0\")","v":"0"},"実技",{"$f":"SUM(J145:J156)","v":0},"単労",{"$f":"SUM(L145:L156)","v":0}]
[null,{"$f":"IF('申【様式５・６】（コミュ）'!$E$44=\"\",\"\",'申【様式５・６】（コミュ）'!$E$44)","v":""},{"$f":"'申【様式５・６】（コミュ）'!$G$22","v":0},{"$f":"'申【様式５・６】（コミュ）'!$G34","v":0},{"$f":"IF(D145=0,\"\",B145&D145)","v":""},{"$f":"IF(D145=0,\"\",COUNTIF($E$145:E145,E145))","v":""},null,null,null,{"$f":"IF(AND(F145=1,SUMIFS($C$145:$C$156,$E$145:$E$156,B145&$I$144)>3),3,IF(AND(F145=1,SUMIFS($C$145:$C$156,$E$145:$E$156,B145&$I$144)<=3),SUMIFS($C$145:$C$156,$E$145:$E$156,B145&$I$144),\"\"))","v":""},null,{"$f":"IF(D145=\"単労\",C145,\"\")","v":""}]
[null,{"$f":"IF('申【様式５・６】（コミュ）'!$E$49=\"\",\"\",'申【様式５・６】（コミュ）'!$E$49)","v":""},{"$f":"'申【様式５・６】（コミュ）'!$I$22","v":0},{"$f":"'申【様式５・６】（コミュ）'!$I34","v":0},{"$f":"IF(D146=0,\"\",B146&D146)","v":""},{"$f":"IF(D146=0,\"\",COUNTIF($E$145:E146,E146))","v":""},null,null,null,{"$f":"IF(AND(F146=1,SUMIFS($C$145:$C$156,$E$145:$E$156,B146&$I$144)>3),3,IF(AND(F146=1,SUMIFS($C$145:$C$156,$E$145:$E$156,B146&$I$144)<=3),SUMIFS($C$145:$C$156,$E$145:$E$156,B146&$I$144),\"\"))","v":""},null,{"$f":"IF(D146=\"単労\",C146,\"\")","v":""}]
[null,{"$f":"IF('申【様式５・６】（コミュ）'!$E$54=\"\",\"\",'申【様式５・６】（コミュ）'!$E$54)","v":""},{"$f":"'申【様式５・６】（コミュ）'!$K$22","v":0},{"$f":"'申【様式５・６】（コミュ）'!$K34","v":0},"",{"$f":"IF(D147=0,\"\",COUNTIF($E$145:E147,E147))","v":""},null,null,null,"",null,""]
[null,{"$f":"IF('申【様式５・６】（コミュ）'!$E$59=\"\",\"\",'申【様式５・６】（コミュ）'!$E$59)","v":""},{"$f":"'申【様式５・６】（コミュ）'!$M$22","v":0},{"$f":"'申【様式５・６】（コミュ）'!$M34","v":0},"",{"$f":"IF(D148=0,\"\",COUNTIF($E$145:E148,E148))","v":""},null,null,null,"",null,""]
[null,{"$f":"IF('申【様式５・６】（コミュ）'!$E$64=\"\",\"\",'申【様式５・６】（コミュ）'!$E$64)","v":""},{"$f":"'申【様式５・６】（コミュ）'!$O$22","v":0},{"$f":"'申【様式５・６】（コミュ）'!$O34","v":0},"",{"$f":"IF(D149=0,\"\",COUNTIF($E$145:E149,E149))","v":""},null,null,null,"",null,""]
[null,{"$f":"IF('申【様式５・６】（コミュ）'!$E$72=\"\",\"\",'申【様式５・６】（コミュ）'!$E$72)","v":""},{"$f":"'申【様式５・６】（コミュ）'!$Q$22","v":0},{"$f":"'申【様式５・６】（コミュ）'!$Q34","v":0},"",{"$f":"IF(D150=0,\"\",COUNTIF($E$145:E150,E150))","v":""},null,null,null,"",null,""]
[null,{"$f":"IF('申【様式５・６】（コミュ）'!$E$77=\"\",\"\",'申【様式５・６】（コミュ）'!$E$77)","v":""},{"$f":"'申【様式５・６】（コミュ）'!$S$22","v":0},{"$f":"'申【様式５・６】（コミュ）'!$S34","v":0},"",{"$f":"IF(D151=0,\"\",COUNTIF($E$145:E151,E151))","v":""},null,null,null,"",null,""]
[null,{"$f":"IF('申【様式５・６】（コミュ）'!$E$82=\"\",\"\",'申【様式５・６】（コミュ）'!$E$82)","v":""},{"$f":"'申【様式５・６】（コミュ）'!$U$22","v":0},{"$f":"'申【様式５・６】（コミュ）'!$U34","v":0},"",{"$f":"IF(D152=0,\"\",COUNTIF($E$145:E152,E152))","v":""},null,null,null,"",null,""]
[null,{"$f":"IF('申【様式５・６】（コミュ）'!$E$87=\"\",\"\",'申【様式５・６】（コミュ）'!$E$87)","v":""},{"$f":"'申【様式５・６】（コミュ）'!$W$22","v":0},{"$f":"'申【様式５・６】（コミュ）'!$W34","v":0},"",{"$f":"IF(D153=0,\"\",COUNTIF($E$145:E153,E153))","v":""},null,null,null,"",null,""]
[null,{"$f":"IF('申【様式５・６】（コミュ）'!$E$92=\"\",\"\",'申【様式５・６】（コミュ）'!$E$92)","v":""},{"$f":"'申【様式５・６】（コミュ）'!$Y$22","v":0},{"$f":"'申【様式５・６】（コミュ）'!$Y34","v":0},"",{"$f":"IF(D154=0,\"\",COUNTIF($E$145:E154,E154))","v":""},null,null,null,"",null,""]
[null,{"$f":"IF('申【様式５・６】（コミュ）'!$E$100=\"\",\"\",'申【様式５・６】（コミュ）'!$E$100)","v":""},{"$f":"'申【様式５・６】（コミュ）'!$AA$22","v":0},{"$f":"'申【様式５・６】（コミュ）'!$AA34","v":0},"",{"$f":"IF(D155=0,\"\",COUNTIF($E$145:E155,E155))","v":""},null,null,null,"",null,""]
[null,{"$f":"IF('申【様式５・６】（コミュ）'!$E$105=\"\",\"\",'申【様式５・６】（コミュ）'!$E$105)","v":""},{"$f":"'申【様式５・６】（コミュ）'!$AC$22","v":0},{"$f":"'申【様式５・６】（コミュ）'!$AC34","v":0},"",{"$f":"IF(D156=0,\"\",COUNTIF($E$145:E156,E156))","v":""},null,null,null,"",null,""]
["⑬",{"$f":"'申【様式５・６】（コミュ）'!B35","v":"　"},{"$f":"(H157*35650)+(J157*5200)+(L157*1070)","v":0},null,null,null,"講師",{"$f":"IF(COUNTIF(D158:D169,\"講師\")>0,COUNTIF(F158:F169,1),\"0\")","v":"0"},"実技",{"$f":"SUM(J158:J169)","v":0},"単労",{"$f":"SUM(L158:L169)","v":0}]
[null,{"$f":"IF('申【様式５・６】（コミュ）'!$E$44=\"\",\"\",'申【様式５・６】（コミュ）'!$E$44)","v":""},{"$f":"'申【様式５・６】（コミュ）'!$G$22","v":0},{"$f":"'申【様式５・６】（コミュ）'!$G35","v":0},{"$f":"IF(D158=0,\"\",B158&D158)","v":""},{"$f":"IF(D158=0,\"\",COUNTIF($E$158:E158,E158))","v":""},null,null,null,{"$f":"IF(AND(F158=1,SUMIFS($C$158:$C$169,$E$158:$E$169,B158&$I$157)>3),3,IF(AND(F158=1,SUMIFS($C$158:$C$169,$E$158:$E$169,B158&$I$157)<=3),SUMIFS($C$158:$C$169,$E$158:$E$169,B158&$I$157),\"\"))","v":""},null,{"$f":"IF(D158=\"単労\",C158,\"\")","v":""}]
[null,{"$f":"IF('申【様式５・６】（コミュ）'!$E$49=\"\",\"\",'申【様式５・６】（コミュ）'!$E$49)","v":""},{"$f":"'申【様式５・６】（コミュ）'!$I$22","v":0},{"$f":"'申【様式５・６】（コミュ）'!$I35","v":0},{"$f":"IF(D159=0,\"\",B159&D159)","v":""},{"$f":"IF(D159=0,\"\",COUNTIF($E$158:E159,E159))","v":""},null,null,null,{"$f":"IF(AND(F159=1,SUMIFS($C$158:$C$169,$E$158:$E$169,B159&$I$157)>3),3,IF(AND(F159=1,SUMIFS($C$158:$C$169,$E$158:$E$169,B159&$I$157)<=3),SUMIFS($C$158:$C$169,$E$158:$E$169,B159&$I$157),\"\"))","v":""},null,{"$f":"IF(D159=\"単労\",C159,\"\")","v":""}]
[null,{"$f":"IF('申【様式５・６】（コミュ）'!$E$54=\"\",\"\",'申【様式５・６】（コミュ）'!$E$54)","v":""},{"$f":"'申【様式５・６】（コミュ）'!$K$22","v":0},{"$f":"'申【様式５・６】（コミュ）'!$K35","v":0},"",{"$f":"IF(D160=0,\"\",COUNTIF($E$158:E160,E160))","v":""},null,null,null,"",null,""]
[null,{"$f":"IF('申【様式５・６】（コミュ）'!$E$59=\"\",\"\",'申【様式５・６】（コミュ）'!$E$59)","v":""},{"$f":"'申【様式５・６】（コミュ）'!$M$22","v":0},{"$f":"'申【様式５・６】（コミュ）'!$M35","v":0},"",{"$f":"IF(D161=0,\"\",COUNTIF($E$158:E161,E161))","v":""},null,null,null,"",null,""]
[null,{"$f":"IF('申【様式５・６】（コミュ）'!$E$64=\"\",\"\",'申【様式５・６】（コミュ）'!$E$64)","v":""},{"$f":"'申【様式５・６】（コミュ）'!$O$22","v":0},{"$f":"'申【様式５・６】（コミュ）'!$O35","v":0},"",{"$f":"IF(D162=0,\"\",COUNTIF($E$158:E162,E162))","v":""},null,null,null,"",null,""]
[null,{"$f":"IF('申【様式５・６】（コミュ）'!$E$72=\"\",\"\",'申【様式５・６】（コミュ）'!$E$72)","v":""},{"$f":"'申【様式５・６】（コミュ）'!$Q$22","v":0},{"$f":"'申【様式５・６】（コミュ）'!$Q35","v":0},"",{"$f":"IF(D163=0,\"\",COUNTIF($E$158:E163,E163))","v":""},null,null,null,"",null,""]
[null,{"$f":"IF('申【様式５・６】（コミュ）'!$E$77=\"\",\"\",'申【様式５・６】（コミュ）'!$E$77)","v":""},{"$f":"'申【様式５・６】（コミュ）'!$S$22","v":0},{"$f":"'申【様式５・６】（コミュ）'!$S35","v":0},"",{"$f":"IF(D164=0,\"\",COUNTIF($E$158:E164,E164))","v":""},null,null,null,"",null,""]
[null,{"$f":"IF('申【様式５・６】（コミュ）'!$E$82=\"\",\"\",'申【様式５・６】（コミュ）'!$E$82)","v":""},{"$f":"'申【様式５・６】（コミュ）'!$U$22","v":0},{"$f":"'申【様式５・６】（コミュ）'!$U35","v":0},"",{"$f":"IF(D165=0,\"\",COUNTIF($E$158:E165,E165))","v":""},null,null,null,"",null,""]
[null,{"$f":"IF('申【様式５・６】（コミュ）'!$E$87=\"\",\"\",'申【様式５・６】（コミュ）'!$E$87)","v":""},{"$f":"'申【様式５・６】（コミュ）'!$W$22","v":0},{"$f":"'申【様式５・６】（コミュ）'!$W35","v":0},"",{"$f":"IF(D166=0,\"\",COUNTIF($E$158:E166,E166))","v":""},null,null,null,"",null,""]
[null,{"$f":"IF('申【様式５・６】（コミュ）'!$E$92=\"\",\"\",'申【様式５・６】（コミュ）'!$E$92)","v":""},{"$f":"'申【様式５・６】（コミュ）'!$Y$22","v":0},{"$f":"'申【様式５・６】（コミュ）'!$Y35","v":0},"",{"$f":"IF(D167=0,\"\",COUNTIF($E$158:E167,E167))","v":""},null,null,null,"",null,""]
[null,{"$f":"IF('申【様式５・６】（コミュ）'!$E$100=\"\",\"\",'申【様式５・６】（コミュ）'!$E$100)","v":""},{"$f":"'申【様式５・６】（コミュ）'!$AA$22","v":0},{"$f":"'申【様式５・６】（コミュ）'!$AA35","v":0},"",{"$f":"IF(D168=0,\"\",COUNTIF($E$158:E168,E168))","v":""},null,null,null,"",null,""]
[null,{"$f":"IF('申【様式５・６】（コミュ）'!$E$105=\"\",\"\",'申【様式５・６】（コミュ）'!$E$105)","v":""},{"$f":"'申【様式５・６】（コミュ）'!$AC$22","v":0},{"$f":"'申【様式５・６】（コミュ）'!$AC35","v":0},"",{"$f":"IF(D169=0,\"\",COUNTIF($E$158:E169,E169))","v":""},null,null,null,"",null,""]
["⑭",{"$f":"'申【様式５・６】（コミュ）'!B36","v":"　"},{"$f":"(H170*35650)+(J170*5200)+(L170*1070)","v":0},null,null,null,"講師",{"$f":"IF(COUNTIF(D171:D182,\"講師\")>0,COUNTIF(F171:F182,1),\"0\")","v":"0"},"実技",{"$f":"SUM(J171:J182)","v":0},"単労",{"$f":"SUM(L171:L182)","v":0}]
[null,{"$f":"IF('申【様式５・６】（コミュ）'!$E$44=\"\",\"\",'申【様式５・６】（コミュ）'!$E$44)","v":""},{"$f":"'申【様式５・６】（コミュ）'!$G$22","v":0},{"$f":"'申【様式５・６】（コミュ）'!$G36","v":0},{"$f":"IF(D171=0,\"\",B171&D171)","v":""},{"$f":"IF(D171=0,\"\",COUNTIF($E$171:E171,E171))","v":""},null,null,null,{"$f":"IF(AND(F171=1,SUMIFS($C$171:$C$182,$E$171:$E$182,B171&$I$170)>3),3,IF(AND(F171=1,SUMIFS($C$171:$C$182,$E$171:$E$182,B171&$I$170)<=3),SUMIFS($C$171:$C$182,$E$171:$E$182,B171&$I$170),\"\"))","v":""},null,{"$f":"IF(D171=\"単労\",C171,\"\")","v":""}]
[null,{"$f":"IF('申【様式５・６】（コミュ）'!$E$49=\"\",\"\",'申【様式５・６】（コミュ）'!$E$49)","v":""},{"$f":"'申【様式５・６】（コミュ）'!$I$22","v":0},{"$f":"'申【様式５・６】（コミュ）'!$I36","v":0},{"$f":"IF(D172=0,\"\",B172&D172)","v":""},{"$f":"IF(D172=0,\"\",COUNTIF($E$171:E172,E172))","v":""},null,null,null,{"$f":"IF(AND(F172=1,SUMIFS($C$171:$C$182,$E$171:$E$182,B172&$I$170)>3),3,IF(AND(F172=1,SUMIFS($C$171:$C$182,$E$171:$E$182,B172&$I$170)<=3),SUMIFS($C$171:$C$182,$E$171:$E$182,B172&$I$170),\"\"))","v":""},null,{"$f":"IF(D172=\"単労\",C172,\"\")","v":""}]
[null,{"$f":"IF('申【様式５・６】（コミュ）'!$E$54=\"\",\"\",'申【様式５・６】（コミュ）'!$E$54)","v":""},{"$f":"'申【様式５・６】（コミュ）'!$K$22","v":0},{"$f":"'申【様式５・６】（コミュ）'!$K36","v":0},"",{"$f":"IF(D173=0,\"\",COUNTIF($E$171:E173,E173))","v":""},null,null,null,"",null,""]
[null,{"$f":"IF('申【様式５・６】（コミュ）'!$E$59=\"\",\"\",'申【様式５・６】（コミュ）'!$E$59)","v":""},{"$f":"'申【様式５・６】（コミュ）'!$M$22","v":0},{"$f":"'申【様式５・６】（コミュ）'!$M36","v":0},"",{"$f":"IF(D174=0,\"\",COUNTIF($E$171:E174,E174))","v":""},null,null,null,"",null,""]
[null,{"$f":"IF('申【様式５・６】（コミュ）'!$E$64=\"\",\"\",'申【様式５・６】（コミュ）'!$E$64)","v":""},{"$f":"'申【様式５・６】（コミュ）'!$O$22","v":0},{"$f":"'申【様式５・６】（コミュ）'!$O36","v":0},"",{"$f":"IF(D175=0,\"\",COUNTIF($E$171:E175,E175))","v":""},null,null,null,"",null,""]
[null,{"$f":"IF('申【様式５・６】（コミュ）'!$E$72=\"\",\"\",'申【様式５・６】（コミュ）'!$E$72)","v":""},{"$f":"'申【様式５・６】（コミュ）'!$Q$22","v":0},{"$f":"'申【様式５・６】（コミュ）'!$Q36","v":0},"",{"$f":"IF(D176=0,\"\",COUNTIF($E$171:E176,E176))","v":""},null,null,null,"",null,""]
[null,{"$f":"IF('申【様式５・６】（コミュ）'!$E$77=\"\",\"\",'申【様式５・６】（コミュ）'!$E$77)","v":""},{"$f":"'申【様式５・６】（コミュ）'!$S$22","v":0},{"$f":"'申【様式５・６】（コミュ）'!$S36","v":0},"",{"$f":"IF(D177=0,\"\",COUNTIF($E$171:E177,E177))","v":""},null,null,null,"",null,""]
[null,{"$f":"IF('申【様式５・６】（コミュ）'!$E$82=\"\",\"\",'申【様式５・６】（コミュ）'!$E$82)","v":""},{"$f":"'申【様式５・６】（コミュ）'!$U$22","v":0},{"$f":"'申【様式５・６】（コミュ）'!$U36","v":0},"",{"$f":"IF(D178=0,\"\",COUNTIF($E$171:E178,E178))","v":""},null,null,null,"",null,""]
[null,{"$f":"IF('申【様式５・６】（コミュ）'!$E$87=\"\",\"\",'申【様式５・６】（コミュ）'!$E$87)","v":""},{"$f":"'申【様式５・６】（コミュ）'!$W$22","v":0},{"$f":"'申【様式５・６】（コミュ）'!$W36","v":0},"",{"$f":"IF(D179=0,\"\",COUNTIF($E$171:E179,E179))","v":""},null,null,null,"",null,""]
[null,{"$f":"IF('申【様式５・６】（コミュ）'!$E$92=\"\",\"\",'申【様式５・６】（コミュ）'!$E$92)","v":""},{"$f":"'申【様式５・６】（コミュ）'!$Y$22","v":0},{"$f":"'申【様式５・６】（コミュ）'!$Y36","v":0},"",{"$f":"IF(D180=0,\"\",COUNTIF($E$171:E180,E180))","v":""},null,null,null,"",null,""]
[null,{"$f":"IF('申【様式５・６】（コミュ）'!$E$100=\"\",\"\",'申【様式５・６】（コミュ）'!$E$100)","v":""},{"$f":"'申【様式５・６】（コミュ）'!$AA$22","v":0},{"$f":"'申【様式５・６】（コミュ）'!$AA36","v":0},"",{"$f":"IF(D181=0,\"\",COUNTIF($E$171:E181,E181))","v":""},null,null,null,"",null,""]
[null,{"$f":"IF('申【様式５・６】（コミュ）'!$E$105=\"\",\"\",'申【様式５・６】（コミュ）'!$E$105)","v":""},{"$f":"'申【様式５・６】（コミュ）'!$AC$22","v":0},{"$f":"'申【様式５・６】（コミュ）'!$AC36","v":0},"",{"$f":"IF(D182=0,\"\",COUNTIF($E$171:E182,E182))","v":""},null,null,null,"",null,""]
["⑮",{"$f":"'申【様式５・６】（コミュ）'!B37","v":"　"},{"$f":"(H183*35650)+(J183*5200)+(L183*1070)","v":0},null,null,null,"講師",{"$f":"IF(COUNTIF(D184:D195,\"講師\")>0,COUNTIF(F184:F195,1),\"0\")","v":"0"},"実技",{"$f":"SUM(J184:J195)","v":0},"単労",{"$f":"SUM(L184:L195)","v":0}]
[null,{"$f":"IF('申【様式５・６】（コミュ）'!$E$44=\"\",\"\",'申【様式５・６】（コミュ）'!$E$44)","v":""},{"$f":"'申【様式５・６】（コミュ）'!$G$22","v":0},{"$f":"'申【様式５・６】（コミュ）'!$G37","v":0},{"$f":"IF(D184=0,\"\",B184&D184)","v":""},{"$f":"IF(D184=0,\"\",COUNTIF($E$184:E184,E184))","v":""},null,null,null,{"$f":"IF(AND(F184=1,SUMIFS($C$184:$C$195,$E$184:$E$195,B184&$I$183)>3),3,IF(AND(F184=1,SUMIFS($C$184:$C$195,$E$184:$E$195,B184&$I$183)<=3),SUMIFS($C$184:$C$195,$E$184:$E$195,B184&$I$183),\"\"))","v":""},null,{"$f":"IF(D184=\"単労\",C184,\"\")","v":""}]
[null,{"$f":"IF('申【様式５・６】（コミュ）'!$E$49=\"\",\"\",'申【様式５・６】（コミュ）'!$E$49)","v":""},{"$f":"'申【様式５・６】（コミュ）'!$I$22","v":0},{"$f":"'申【様式５・６】（コミュ）'!$I37","v":0},{"$f":"IF(D185=0,\"\",B185&D185)","v":""},{"$f":"IF(D185=0,\"\",COUNTIF($E$184:E185,E185))","v":""},null,null,null,{"$f":"IF(AND(F185=1,SUMIFS($C$184:$C$195,$E$184:$E$195,B185&$I$183)>3),3,IF(AND(F185=1,SUMIFS($C$184:$C$195,$E$184:$E$195,B185&$I$183)<=3),SUMIFS($C$184:$C$195,$E$184:$E$195,B185&$I$183),\"\"))","v":""},null,{"$f":"IF(D185=\"単労\",C185,\"\")","v":""}]
[null,{"$f":"IF('申【様式５・６】（コミュ）'!$E$54=\"\",\"\",'申【様式５・６】（コミュ）'!$E$54)","v":""},{"$f":"'申【様式５・６】（コミュ）'!$K$22","v":0},{"$f":"'申【様式５・６】（コミュ）'!$K37","v":0},"",{"$f":"IF(D186=0,\"\",COUNTIF($E$184:E186,E186))","v":""},null,null,null,"",null,""]
[null,{"$f":"IF('申【様式５・６】（コミュ）'!$E$59=\"\",\"\",'申【様式５・６】（コミュ）'!$E$59)","v":""},{"$f":"'申【様式５・６】（コミュ）'!$M$22","v":0},{"$f":"'申【様式５・６】（コミュ）'!$M37","v":0},"",{"$f":"IF(D187=0,\"\",COUNTIF($E$184:E187,E187))","v":""},null,null,null,"",null,""]
[null,{"$f":"IF('申【様式５・６】（コミュ）'!$E$64=\"\",\"\",'申【様式５・６】（コミュ）'!$E$64)","v":""},{"$f":"'申【様式５・６】（コミュ）'!$O$22","v":0},{"$f":"'申【様式５・６】（コミュ）'!$O37","v":0},"",{"$f":"IF(D188=0,\"\",COUNTIF($E$184:E188,E188))","v":""},null,null,null,"",null,""]
[null,{"$f":"IF('申【様式５・６】（コミュ）'!$E$72=\"\",\"\",'申【様式５・６】（コミュ）'!$E$72)","v":""},{"$f":"'申【様式５・６】（コミュ）'!$Q$22","v":0},{"$f":"'申【様式５・６】（コミュ）'!$Q37","v":0},"",{"$f":"IF(D189=0,\"\",COUNTIF($E$184:E189,E189))","v":""},null,null,null,"",null,""]
[null,{"$f":"IF('申【様式５・６】（コミュ）'!$E$77=\"\",\"\",'申【様式５・６】（コミュ）'!$E$77)","v":""},{"$f":"'申【様式５・６】（コミュ）'!$S$22","v":0},{"$f":"'申【様式５・６】（コミュ）'!$S37","v":0},"",{"$f":"IF(D190=0,\"\",COUNTIF($E$184:E190,E190))","v":""},null,null,null,"",null,""]
[null,{"$f":"IF('申【様式５・６】（コミュ）'!$E$82=\"\",\"\",'申【様式５・６】（コミュ）'!$E$82)","v":""},{"$f":"'申【様式５・６】（コミュ）'!$U$22","v":0},{"$f":"'申【様式５・６】（コミュ）'!$U37","v":0},"",{"$f":"IF(D191=0,\"\",COUNTIF($E$184:E191,E191))","v":""},null,null,null,"",null,""]
[null,{"$f":"IF('申【様式５・６】（コミュ）'!$E$87=\"\",\"\",'申【様式５・６】（コミュ）'!$E$87)","v":""},{"$f":"'申【様式５・６】（コミュ）'!$W$22","v":0},{"$f":"'申【様式５・６】（コミュ）'!$W37","v":0},"",{"$f":"IF(D192=0,\"\",COUNTIF($E$184:E192,E192))","v":""},null,null,null,"",null,""]
[null,{"$f":"IF('申【様式５・６】（コミュ）'!$E$92=\"\",\"\",'申【様式５・６】（コミュ）'!$E$92)","v":""},{"$f":"'申【様式５・６】（コミュ）'!$Y$22","v":0},{"$f":"'申【様式５・６】（コミュ）'!$Y37","v":0},"",{"$f":"IF(D193=0,\"\",COUNTIF($E$184:E193,E193))","v":""},null,null,null,"",null,""]
[null,{"$f":"IF('申【様式５・６】（コミュ）'!$E$100=\"\",\"\",'申【様式５・６】（コミュ）'!$E$100)","v":""},{"$f":"'申【様式５・６】（コミュ）'!$AA$22","v":0},{"$f":"'申【様式５・６】（コミュ）'!$AA37","v":0},"",{"$f":"IF(D194=0,\"\",COUNTIF($E$184:E194,E194))","v":""},null,null,null,"",null,""]
[null,{"$f":"IF('申【様式５・６】（コミュ）'!$E$105=\"\",\"\",'申【様式５・６】（コミュ）'!$E$105)","v":""},{"$f":"'申【様式５・６】（コミュ）'!$AC$22","v":0},{"$f":"'申【様式５・６】（コミュ）'!$AC37","v":0},"",{"$f":"IF(D195=0,\"\",COUNTIF($E$184:E195,E195))","v":""},null,null,null,"",null,""]

{"sheet":"報【様式９・１０】（派遣）","index":7,"n_rows":150,"n_cols":34,"rows_kept":150,"cut":false,"hidden":true,"merged":[[149,0,149,23],[149,24,149,28],[147,21,147,23],[147,24,147,28],[148,0,148,3],[148,4,148,8],[148,9,148,12],[148,14,148,15],[148,16,148,17],[148,18,148,20],[148,21,148,23],[148,24,148,28],[147,0,147,3],[147,4,147,8],[147,9,147,12],[147,14,147,15],[147,16,147,17],[147,18,147,20],[145,21,145,23],[145,24,145,28],[146,0,146,3],[146,4,146,8],[146,9,146,12],[146,14,146,15],[146,16,146,17],[146,18,146,20],[146,21,146,23],[146,24,146,28],[145,0,145,3],[145,4,145,8],[145,9,145,12],[145,14,145,15],[145,16,145,17],[145,18,145,20],[144,0,144,3],[144,4,144,8],[144,9,144,12],[144,14,144,15],[144,16,144,17],[144,18,144,20],[144,21,144,23],[144,24,144,28],[143,0,143,3],[143,4,143,8],[143,9,143,12],[143,14,143,15],[143,16,143,17],[143,18,143,20],[142,0,142,3],[142,4,142,8],[142,9,142,12],[142,14,142,15],[142,16,142,17],[142,18,142,20],[142,21,142,23],[142,24,142,28],[143,21,143,23],[143,24,143,28],[138,0,138,12],[138,13,138,15],[138,17,138,29],[141,0,141,3],[141,4,141,8],[141,9,141,13],[141,14,141,15],[141,16,141,17],[141,18,141,20],[141,21,141,23],[141,24,141,29],[136,3,136,8],[136,9,136,11],[136,13,136,15],[136,17,136,18],[136,19,136,29],[137,3,137,8],[137,9,137,11],[137,13,137,15],[137,17,137,18],[137,19,137,29],[134,3,134,8],[134,9,134,11],[134,13,134,15],[134,17,134,18],[134,19,134,29],[135,3,135,8],[135,9,135,11],[135,13,135,15],[135,17,135,18],[135,19,135,29],[132,3,132,8],[132,9,132,11],[132,13,132,15],[132,17,132,18],[132,19,132,29],[133,3,133,8],[133,9,133,11],[133,13,133,15],[133,17,133,18],[133,19,133,29],[129,17,129,18],[129,19,129,29],[130,3,130,8],[130,9,130,11],[130,13,130,15],[130,17,130,18],[130,19,130,29],[131,3,131,8],[131,9,131,11],[131,13,131,15],[131,17,131,18],[131,19,131,29],[126,19,126,29],[127,3,127,8],[127,9,127,11],[127,13,127,15],[127,17,127,18],[127,19,127,29],[125,0,137,1],[125,3,125,8],[125,9,125,11],[125,13,125,15],[125,17,125,18],[125,19,125,29],[126,3,126,8],[126,9,126,11],[126,13,126,15],[126,17,126,18],[128,3,128,8],[128,9,128,11],[128,13,128,15],[128,17,128,18],[128,19,128,29],[129,3,129,8],[129,9,129,11],[129,13,129,15],[124,0,124,2],[124,3,124,8],[124,9,124,11],[124,13,124,15],[124,17,124,18],[124,19,124,29],[123,0,123,2],[123,3,123,8],[123,9,123,12],[123,13,123,16],[123,17,123,18],[123,19,123,29],[119,0,119,17],[119,18,119,22],[119,24,119,29],[121,13,121,29],[122,0,122,16],[122,17,122,22],[122,24,122,29],[118,0,118,5],[118,6,118,11],[118,12,118,14],[118,15,118,17],[118,18,118,22],[118,24,118,27],[117,0,117,5],[117,6,117,11],[117,12,117,14],[117,15,117,17],[117,18,117,22],[117,24,117,27],[116,0,116,5],[116,6,116,11],[116,12,116,14],[116,15,116,17],[116,18,116,22],[116,24,116,27],[115,0,115,5],[115,6,115,11],[115,12,115,14],[115,15,115,17],[115,18,115,22],[115,24,115,27],[114,0,114,5],[114,6,114,11],[114,12,114,14],[114,15,114,17],[114,18,114,22],[114,24,114,27],[113,0,113,5],[113,6,113,11],[113,12,113,14],[113,15,113,17],[113,18,113,22],[113,24,113,27],[112,0,112,5],[112,6,112,11],[112,12,112,14],[112,15,112,17],[112,18,112,22],[112,24,112,27],[111,0,111,5],[111,6,111,11],[111,12,111,14],[111,15,111,17],[111,18,111,22],[111,24,111,27],[110,0,110,5],[110,6,110,11],[110,12,110,14],[110,15,110,17],[110,18,110,22],[110,24,110,27],[109,0,109,5],[109,6,109,11],[109,12,109,14],[109,15,109,17],[109,18,109,22],[109,24,109,27],[108,0,108,5],[108,6,108,11],[108,12,108,14],[108,15,108,17],[108,18,108,22],[108,24,108,27],[107,0,107,5],[107,6,107,11],[107,12,107,14],[107,15,107,17],[107,18,107,22],[107,24,107,27],[106,0,106,5],[106,6,106,11],[106,12,106,14],[106,15,106,17],[106,18,106,22],[106,24,106,27],[105,0,105,5],[105,6,105,11],[105,12,105,14],[105,15,105,17],[105,18,105,22],[105,24,105,27],[103,6,103,29],[104,0,104,5],[104,6,104,11],[104,12,104,14],[104,15,104,17],[104,18,104,23],[104,24,104,29],[100,1,100,5],[100,6,100,10],[100,13,100,16],[100,18,100,22],[101,0,101,5],[101,6,101,10],[101,12,101,16],[101,18,101,22],[98,1,98,5],[98,6,98,10],[98,13,98,16],[98,18,98,22],[99,1,99,5],[99,6,99,10],[99,13,99,16],[99,18,99,22],[94,17,94,19],[94,20,94,29],[96,0,96,5],[96,6,96,23],[97,0,97,5],[97,6,97,11],[97,12,97,17],[97,18,97,23],[92,0,92,29],[93,0,94,3],[93,4,93,7],[93,8,93,11],[93,12,93,15],[93,17,93,22],[93,23,93,29],[94,4,94,7],[94,8,94,11],[94,12,94,15],[86,1,86,29],[87,1,87,29],[88,1,88,29],[90,0,90,2],[90,25,90,29],[91,0,91,29],[83,24,83,25],[83,26,83,29],[84,5,84,9],[84,11,84,24],[84,26,84,29],[85,1,85,29],[83,5,83,10],[83,11,83,12],[83,14,83,15],[83,16,83,17],[83,19,83,20],[83,21,83,22],[75,1,84,3],[75,4,75,10],[76,5,76,10],[81,24,81,25],[81,26,81,29],[82,5,82,10],[82,11,82,12],[82,14,82,15],[82,16,82,17],[82,19,82,20],[82,21,82,22],[82,24,82,25],[82,26,82,29],[81,5,81,10],[81,11,81,12],[81,14,81,15],[81,16,81,17],[81,19,81,20],[81,21,81,22],[79,24,79,25],[79,26,79,29],[80,5,80,10],[80,11,80,12],[80,14,80,15],[80,16,80,17],[80,19,80,20],[80,21,80,22],[80,24,80,25],[80,26,80,29],[79,5,79,10],[79,11,79,12],[79,14,79,15],[79,16,79,17],[79,19,79,20],[79,21,79,22],[73,15,73,29],[74,15,74,17],[74,18,74,29],[75,11,75,25],[75,26,75,29],[76,11,76,12],[77,24,77,25],[77,26,77,29],[78,5,78,10],[78,11,78,12],[78,14,78,15],[78,16,78,17],[78,19,78,20],[78,21,78,22],[78,24,78,25],[78,26,78,29],[77,5,77,10],[77,11,77,12],[77,14,77,15],[77,16,77,17],[77,19,77,20],[77,21,77,22],[71,26,71,27],[71,28,71,29],[71,31,71,32],[72,1,72,3],[72,4,72,14],[72,15,72,17],[72,18,72,29],[71,0,88,0],[71,1,71,3],[71,4,71,14],[71,15,71,17],[71,18,71,23],[71,24,71,25],[73,1,74,3],[73,4,74,5],[73,6,74,8],[73,9,74,10],[76,14,76,15],[76,16,76,17],[76,19,76,20],[76,21,76,22],[76,24,76,25],[76,26,76,29],[73,11,74,14],[68,1,68,29],[69,0,69,2],[70,0,70,6],[70,7,70,13],[70,14,70,18],[70,19,70,29],[64,5,64,9],[64,11,64,24],[64,26,64,29],[65,1,65,29],[66,1,66,29],[67,1,67,29],[55,1,64,3],[55,4,55,10],[55,11,55,25],[55,26,55,29],[62,24,62,25],[62,26,62,29],[63,5,63,10],[63,11,63,12],[63,14,63,15],[63,16,63,17],[63,19,63,20],[63,21,63,22],[63,24,63,25],[63,26,63,29],[62,5,62,10],[62,11,62,12],[62,14,62,15],[62,16,62,17],[62,19,62,20],[62,21,62,22],[60,24,60,25],[60,26,60,29],[61,5,61,10],[61,11,61,12],[61,14,61,15],[61,16,61,17],[61,19,61,20],[61,21,61,22],[61,24,61,25],[61,26,61,29],[60,5,60,10],[60,11,60,12],[60,14,60,15],[60,16,60,17],[60,19,60,20],[60,21,60,22],[58,24,58,25],[58,26,58,29],[59,5,59,10],[59,11,59,12],[59,14,59,15],[59,16,59,17],[59,19,59,20],[59,21,59,22],[59,24,59,25],[59,26,59,29],[58,5,58,10],[58,11,58,12],[58,14,58,15],[58,16,58,17],[58,19,58,20],[58,21,58,22],[56,24,56,25],[56,26,56,29],[57,5,57,10],[57,11,57,12],[57,14,57,15],[57,16,57,17],[57,19,57,20],[57,21,57,22],[57,24,57,25],[57,26,57,29],[56,5,56,10],[56,11,56,12],[56,14,56,15],[56,16,56,17],[56,19,56,20],[56,21,56,22],[51,31,51,32],[52,1,52,3],[52,4,52,14],[52,15,52,17],[52,18,52,29],[48,1,48,29],[49,1,49,29],[50,1,50,29],[51,0,68,0],[51,1,51,3],[51,4,51,14],[51,15,51,17],[51,18,51,23],[51,24,51,25],[51,26,51,27],[53,1,54,3],[53,4,54,5],[53,6,54,8],[53,9,54,10],[53,11,54,14],[53,15,53,29],[54,15,54,17],[54,18,54,29],[51,28,51,29],[45,24,45,25],[45,26,45,29],[46,5,46,9],[46,11,46,24],[46,26,46,29],[47,1,47,29],[45,5,45,10],[45,11,45,12],[45,14,45,15],[45,16,45,17],[45,19,45,20],[45,21,45,22],[37,1,46,3],[37,4,37,10],[38,5,38,10],[43,24,43,25],[43,26,43,29],[44,5,44,10],[44,11,44,12],[44,14,44,15],[44,16,44,17],[44,19,44,20],[44,21,44,22],[44,24,44,25],[44,26,44,29],[43,5,43,10],[43,11,43,12],[43,14,43,15],[43,16,43,17],[43,19,43,20],[43,21,43,22],[41,24,41,25],[41,26,41,29],[42,5,42,10],[42,11,42,12],[42,14,42,15],[42,16,42,17],[42,19,42,20],[42,21,42,22],[42,24,42,25],[42,26,42,29],[41,5,41,10],[41,11,41,12],[41,14,41,15],[41,16,41,17],[41,19,41,20],[41,21,41,22],[35,15,35,29],[36,15,36,17],[36,18,36,29],[37,11,37,25],[37,26,37,29],[38,11,38,12],[39,24,39,25],[39,26,39,29],[40,5,40,10],[40,11,40,12],[40,14,40,15],[40,16,40,17],[40,19,40,20],[40,21,40,22],[40,24,40,25],[40,26,40,29],[39,5,39,10],[39,11,39,12],[39,14,39,15],[39,16,39,17],[39,19,39,20],[39,21,39,22],[33,26,33,27],[33,28,33,29],[33,31,33,32],[34,1,34,3],[34,4,34,14],[34,15,34,17],[34,18,34,29],[33,0,50,0],[33,1,33,3],[33,4,33,14],[33,15,33,17],[33,18,33,23],[33,24,33,25],[35,1,36,3],[35,4,36,5],[35,6,36,8],[35,9,36,10],[38,14,38,15],[38,16,38,17],[38,19,38,20],[38,21,38,22],[38,24,38,25],[38,26,38,29],[35,11,36,14],[30,0,30,2],[31,0,31,6],[31,7,31,13],[31,14,31,18],[31,19,31,29],[32,0,32,29],[24,0,24,29],[25,0,25,29],[26,0,26,29],[27,0,27,29],[28,0,28,29],[29,0,29,29],[17,4,17,29],[18,4,18,29],[19,0,19,29],[20,0,20,29],[21,0,21,29],[22,0,22,29],[11,0,11,29],[12,4,12,29],[13,4,13,29],[14,4,14,29],[15,4,15,29],[16,4,16,29],[9,0,9,4],[9,5,9,14],[9,15,9,19],[9,20,9,25],[9,26,9,29],[10,0,10,29],[7,0,7,4],[7,5,7,14],[7,15,7,19],[7,20,7,29],[8,0,8,4],[8,5,8,7],[8,8,8,14],[8,15,8,19],[8,20,8,29],[5,0,5,4],[5,5,5,14],[5,15,5,19],[5,20,5,29],[6,0,6,4],[6,5,6,13],[6,15,6,19],[6,20,6,29],[0,0,0,2],[1,0,1,29],[2,0,2,29],[4,0,4,4],[4,5,4,14],[4,15,4,19],[4,20,4,29]]}
["様式9",null,null,null,null,null,null,null,null,null,null,null,null,null,null,null,null,null,null,null,null,null,null,null,null,null,"H",null,"（1/3）"]
["令和5年度 文化芸術による子供育成推進事業"]
["（芸術家の派遣事業）実施状況報告書"]
["あ","あ","あ","あ","あ","あ","あ","あ","あ","あ","あ","あ","あ","あ","あ","あ","あ","あ","あ","あ","あ","あ","あ","あ","あ","あ","あ","あ","あ","あ"]
["実施校ID",null,null,null,null,null,null,null,null,null,null,null,null,null,null,"都道府県・\n政令指定都市",null,null,null,null,{"$f":"IF('申【様式１】（共通）'!E4=\"\",\"\",'申【様式１】（共通）'!E4)","v":""}]
["実施校名",null,null,null,null,{"$f":"IF('申【様式１】（共通）'!E8=\"\",\"\",'申【様式１】（共通）'!E8)","v":""},null,null,null,null,null,null,null,null,null,"学校長名",null,null,null,null,{"$f":"IF('申【様式１】（共通）'!W9=\"\",\"\",'申【様式１】（共通）'!W9)","v":""}]
["全校児童生徒数",null,null,null,null,{"$f":"IF('申【様式１】（共通）'!W8=\"\",\"\",'申【様式１】（共通）'!W8)","v":""},null,null,null,null,null,null,null,null,"名","担当者名",null,null,null,null,{"$f":"IF('申【様式１】（共通）'!W10=\"\",\"\",'申【様式１】（共通）'!W10)","v":""}]
["実施会場",null,null,null,null,{"$f":"IF('申【様式３・４】（派遣）'!E8=\"\",\"\",'申【様式３・４】（派遣）'!E8)","v":""},null,null,null,null,null,null,null,null,null,"TEL",null,null,null,null,{"$f":"IF('申【様式１】（共通）'!W11=\"\",\"\",'申【様式１】（共通）'!W11)","v":""}]
["他校との合同\n開催の状況",null,null,null,null,"（学校名）",null,null,{"$f":"IF('申【様式３・４】（派遣）'!W8=\"\",\"\",'申【様式３・４】（派遣）'!W8)","v":""},null,null,null,null,null,null,"メール",null,null,null,null,{"$f":"IF('申【様式１】（共通）'!W12=\"\",\"\",'申【様式１】（共通）'!W12)","v":""}]
["講師氏名※本名",null,null,null,null,{"$f":"IFERROR(IF('申【様式３・４】（派遣）'!E12=\"\",\"\",'申【様式３・４】（派遣）'!E12),\"\")","v":""},null,null,null,null,null,null,null,null,null,"実施回数",null,null,null,null,{"$f":"COUNTA(E34,E52,E72)-SUM(COUNTIF(E34,\"\"),COUNTIF(E52,\"\"),COUNTIF(E72,\"\"))","v":0},null,null,null,null,null,"回"]
["　芸術家の派遣事業実施による効果及び成果　\n　（A : とてもあてはまる　B : ややあてはまる　C: どちらでもない　D : あまりあてはまらない　E : あてはまらない　）"]
[]
[1,"（",null,"）","文化芸術や伝統芸能等への関心を高めることができた。"]
[2,"（",null,"）","豊かな心や感性、創造性をはぐくむことができた。"]
[3,"（",null,"）","コミュニケーションの活性化に役立てることができた。"]
[4,"（",null,"）","ＣＤやDVD等では得られない反応があった。"]
[5,"（",null,"）","学校行事として文化芸術に関する行事が定着するきっかけとなった。"]
[6,"（",null,"）","学校教育の指導方法に役立てることができた。"]
[7,"（",null,"）","子どもたちの個性や能力を発見したり、理解する機会となった。"]
[]
["　芸術家の派遣事業実施による変化や影響が見られたエピソード"]
["　（当てはまる対象に○をつけ、点線以下に具体的なエピソード等を記入してください。）"]
[]
[1,"（",null,"）","児童生徒",null,null,null,2,"（",null,"）","教員",null,null,3,"（",null,"）","学校全体",null,null,null,4,"（",null,"）","その他"]
[]
[]
["　芸術家の派遣事業を実施する魅力"]
[]
["　芸術家の派遣事業をより良くするための意見等　※特に記載事項がない場合「なし」と記入してください。"]
[]
["様式9",null,null,null,null,null,null,null,null,null,null,null,null,null,null,null,null,null,null,null,null,null,null,null,null,null,"H",null,"（2/3）"]
["都道府県・政令指定都市",null,null,null,null,null,null,{"$f":"IF(U5=\"\",\"\",U5)","v":""},null,null,null,null,null,null,"実施校名",null,null,null,null,{"$f":"IF(F6=\"\",\"\",F6)","v":""}]
["※「教科の位置付け」：該当するものを選択し、内訳に詳細を記入してください。\n※「参加児童生徒」：該当するものを選択してください。「学年単位」「その他」を選択した場合は内訳に詳細を記入してください。"]
["第１回","実施日時",null,null,{"$f":"IF('申【様式３・４】（派遣）'!E21=\"\",\"\",'申【様式３・４】（派遣）'!E21)","v":""},null,null,null,null,null,null,null,null,null,null,"実施時間",null,null,{"$f":"IF('申【様式３・４】（派遣）'!S21=\"\",\"\",'申【様式３・４】（派遣）'!S21)","v":""},null,null,null,null,null,"実施\n合計",null,{"$f":"IF('申【様式３・４】（派遣）'!AA21=\"\",\"\",'申【様式３・４】（派遣）'!AA21)","v":""},null,"分",null,null,{"$f":"IF(AA34=\"\",\"0\",IF(AA34>=150,3,IF(AND(AA34<150,AA34>=90),2,IF(AA34=\"\",0,1))))","v":"0"},null,"時間分の謝金計上可"]
[null,"教科の\n位置付け",null,null,{"$f":"IF('申【様式３・４】（派遣）'!E23=\"\",\"\",'申【様式３・４】（派遣）'!E23)","v":""},null,null,null,null,null,null,null,null,null,null,{"$f":"IFERROR(VLOOKUP(E35,選択肢!$Y$2:$Z$6,2,FALSE),\"\")","v":""},null,null,{"$f":"IF('申【様式３・４】（派遣）'!S23=\"\",\"\",'申【様式３・４】（派遣）'!S23)","v":""}]
[null,"参加\n児童生徒",null,null,"合計",null,{"$f":"IF('申【様式３・４】（派遣）'!G25=\"\",\"\",'申【様式３・４】（派遣）'!G25)","v":""},null,null,"人",null,"参加児童\n生徒単位",null,null,null,{"$f":"IF('申【様式３・４】（派遣）'!P25=\"\",\"\",'申【様式３・４】（派遣）'!P25)","v":""}]
[null,null,null,null,null,null,null,null,null,null,null,null,null,null,null,{"$f":"IFERROR(VLOOKUP(P36,選択肢!$AE$3:$AF$5,2,FALSE),\"\")","v":""},null,null,{"$f":"IF('申【様式３・４】（派遣）'!S26=\"\",\"\",'申【様式３・４】（派遣）'!S26)","v":""}]
[null,"補助者",null,null,"氏名   ※本名",null,null,null,null,null,null,"種別・従事時間",null,null,null,null,null,null,null,null,null,null,null,null,null,null,"謝金合計"]
[null,null,null,null,"①",{"$f":"IF('申【様式３・４】（派遣）'!F28=\"\",\"\",'申【様式３・４】（派遣）'!F28)","v":"　"},null,null,null,null,null,"演奏",null,{"$f":"IF('申【様式３・４】（派遣）'!N28=\"\",\"0\",'申【様式３・４】（派遣）'!N28)","v":"0"},"時間",null,"実技指導",null,{"$f":"IF('申【様式３・４】（派遣）'!S28=\"\",\"0\",'申【様式３・４】（派遣）'!S28)","v":"0"},"時間",null,"単純労務",null,{"$f":"IF('申【様式３・４】（派遣）'!X28=\"\",\"0\",'申【様式３・４】（派遣）'!X28)","v":"0"},"時間",null,{"$f":"(IF(N39=\"\",0,N39)*6520)+(IF(S39=\"\",0,S39)*5200)+(IF(X39=\"\",0,X39)*1070)","v":0},null,null,null,null,{"$f":"IF(N39+S39>$AF$34,\"謝金計上可能上限時間を超えています。\",\"\")","v":""}]
[null,null,null,null,"②",{"$f":"IF('申【様式３・４】（派遣）'!F29=\"\",\"\",'申【様式３・４】（派遣）'!F29)","v":"　"},null,null,null,null,null,"演奏",null,{"$f":"IF('申【様式３・４】（派遣）'!N29=\"\",\"0\",'申【様式３・４】（派遣）'!N29)","v":"0"},"時間",null,"実技指導",null,{"$f":"IF('申【様式３・４】（派遣）'!S29=\"\",\"0\",'申【様式３・４】（派遣）'!S29)","v":"0"},"時間",null,"単純労務",null,{"$f":"IF('申【様式３・４】（派遣）'!X29=\"\",\"0\",'申【様式３・４】（派遣）'!X29)","v":"0"},"時間",null,{"$f":"(IF(N40=\"\",0,N40)*6520)+(IF(S40=\"\",0,S40)*5200)+(IF(X40=\"\",0,X40)*1070)","v":0},null,null,null,null,{"$f":"IF(N40+S40>$AF$34,\"謝金計上可能上限時間を超えています。\",\"\")","v":""}]
[null,null,null,null,"③",{"$f":"IF('申【様式３・４】（派遣）'!F30=\"\",\"\",'申【様式３・４】（派遣）'!F30)","v":"　"},null,null,null,null,null,"演奏",null,{"$f":"IF('申【様式３・４】（派遣）'!N30=\"\",\"0\",'申【様式３・４】（派遣）'!N30)","v":"0"},"時間",null,"実技指導",null,{"$f":"IF('申【様式３・４】（派遣）'!S30=\"\",\"0\",'申【様式３・４】（派遣）'!S30)","v":"0"},"時間",null,"単純労務",null,{"$f":"IF('申【様式３・４】（派遣）'!X30=\"\",\"0\",'申【様式３・４】（派遣）'!X30)","v":"0"},"時間",null,{"$f":"(IF(N41=\"\",0,N41)*6520)+(IF(S41=\"\",0,S41)*5200)+(IF(X41=\"\",0,X41)*1070)","v":0},null,null,null,null,""]
[null,null,null,null,"④",{"$f":"IF('申【様式３・４】（派遣）'!F31=\"\",\"\",'申【様式３・４】（派遣）'!F31)","v":"　"},null,null,null,null,null,"演奏",null,{"$f":"IF('申【様式３・４】（派遣）'!N31=\"\",\"0\",'申【様式３・４】（派遣）'!N31)","v":"0"},"時間",null,"実技指導",null,{"$f":"IF('申【様式３・４】（派遣）'!S31=\"\",\"0\",'申【様式３・４】（派遣）'!S31)","v":"0"},"時間",null,"単純労務",null,{"$f":"IF('申【様式３・４】（派遣）'!X31=\"\",\"0\",'申【様式３・４】（派遣）'!X31)","v":"0"},"時間",null,{"$f":"(IF(N42=\"\",0,N42)*6520)+(IF(S42=\"\",0,S42)*5200)+(IF(X42=\"\",0,X42)*1070)","v":0},null,null,null,null,""]
[null,null,null,null,"⑤",{"$f":"IF('申【様式３・４】（派遣）'!F32=\"\",\"\",'申【様式３・４】（派遣）'!F32)","v":"　"},null,null,null,null,null,"演奏",null,{"$f":"IF('申【様式３・４】（派遣）'!N32=\"\",\"0\",'申【様式３・４】（派遣）'!N32)","v":"0"},"時間",null,"実技指導",null,{"$f":"IF('申【様式３・４】（派遣）'!S32=\"\",\"0\",'申【様式３・４】（派遣）'!S32)","v":"0"},"時間",null,"単純労務",null,{"$f":"IF('申【様式３・４】（派遣）'!X32=\"\",\"0\",'申【様式３・４】（派遣）'!X32)","v":"0"},"時間",null,{"$f":"(IF(N43=\"\",0,N43)*6520)+(IF(S43=\"\",0,S43)*5200)+(IF(X43=\"\",0,X43)*1070)","v":0},null,null,null,null,""]
[null,null,null,null,"⑥",{"$f":"IF(OR(OR(AND($F$8=\"文化施設等\",$I$9=\"\"),AND($F$8=\"文化施設等\",$I$9=\"なし\"),$F$8<>\"文化施設等\")),\"\",IF($E$34=\"\",\"\",IF('申【様式３・４】（派遣）'!F33=\"\",\"\",'申【様式３・４】（派遣）'!F33)))","v":""},null,null,null,null,null,"演奏",null,{"$f":"IF('申【様式３・４】（派遣）'!N33=\"\",\"0\",'申【様式３・４】（派遣）'!N33)","v":"0"},"時間",null,"実技指導",null,{"$f":"IF('申【様式３・４】（派遣）'!S33=\"\",\"0\",'申【様式３・４】（派遣）'!S33)","v":"0"},"時間",null,"単純労務",null,{"$f":"IF('申【様式３・４】（派遣）'!X33=\"\",\"0\",'申【様式３・４】（派遣）'!X33)","v":"0"},"時間",null,{"$f":"IF(OR(OR(AND($F$8=\"文化施設等\",$I$9=\"\"),AND($F$8=\"文化施設等\",$I$9=\"なし\"),$F$8<>\"文化施設等\")),0,(IF(N44=\"\",0,N44)*6520)+(IF(S44=\"\",0,S44)*5200)+(IF(X44=\"\",0,X44)*1070))","v":0},null,null,null,null,""]
[null,null,null,null,"⑦",{"$f":"IF(OR(OR(AND($F$8=\"文化施設等\",$I$9=\"\"),AND($F$8=\"文化施設等\",$I$9=\"なし\"),$F$8<>\"文化施設等\")),\"\",IF($E$34=\"\",\"\",IF('申【様式３・４】（派遣）'!F34=\"\",\"\",'申【様式３・４】（派遣）'!F34)))","v":""},null,null,null,null,null,"演奏",null,{"$f":"IF('申【様式３・４】（派遣）'!N34=\"\",\"0\",'申【様式３・４】（派遣）'!N34)","v":"0"},"時間",null,"実技指導",null,{"$f":"IF('申【様式３・４】（派遣）'!S34=\"\",\"0\",'申【様式３・４】（派遣）'!S34)","v":"0"},"時間",null,"単純労務",null,{"$f":"IF('申【様式３・４】（派遣）'!X34=\"\",\"0\",'申【様式３・４】（派遣）'!X34)","v":"0"},"時間",null,{"$f":"IF(OR(OR(AND($F$8=\"文化施設等\",$I$9=\"\"),AND($F$8=\"文化施設等\",$I$9=\"なし\"),$F$8<>\"文化施設等\")),0,(IF(N45=\"\",0,N45)*6520)+(IF(S45=\"\",0,S45)*5200)+(IF(X45=\"\",0,X45)*1070))","v":0},null,null,null,null,""]
[null,null,null,null,"⑧",{"$f":"IF(OR(OR(AND($F$8=\"文化施設等\",$I$9=\"\"),AND($F$8=\"文化施設等\",$I$9=\"なし\"),$F$8<>\"文化施設等\")),\"\",IF($E$34=\"\",\"\",IF('申【様式３・４】（派遣）'!F35=\"\",\"\",'申【様式３・４】（派遣）'!F35)))","v":""},null,null,null,null,null,"演奏",null,{"$f":"IF('申【様式３・４】（派遣）'!N35=\"\",\"0\",'申【様式３・４】（派遣）'!N35)","v":"0"},"時間",null,"実技指導",null,{"$f":"IF('申【様式３・４】（派遣）'!S35=\"\",\"0\",'申【様式３・４】（派遣）'!S35)","v":"0"},"時間",null,"単純労務",null,{"$f":"IF('申【様式３・４】（派遣）'!X35=\"\",\"0\",'申【様式３・４】（派遣）'!X35)","v":"0"},"時間",null,{"$f":"IF(OR(OR(AND($F$8=\"文化施設等\",$I$9=\"\"),AND($F$8=\"文化施設等\",$I$9=\"なし\"),$F$8<>\"文化施設等\")),0,(IF(N46=\"\",0,N46)*6520)+(IF(S46=\"\",0,S46)*5200)+(IF(X46=\"\",0,X46)*1070))","v":0},null,null,null,null,""]
[null,null,null,null,"計",{"$f":"IF(OR(OR(AND($F$8=\"文化施設等\",$I$9=\"\"),AND($F$8=\"文化施設等\",$I$9=\"なし\"),$F$8<>\"文化施設等\")),COUNTIF(F39:F43,\"?*\"),COUNTIF(F39:F46,\"?*\"))","v":5},null,null,null,null,"人","※各1時間当たり　演奏6,520円、実技指導5,200円、単純労務1,070円",null,null,null,null,null,null,null,null,null,null,null,null,null,"計",{"$f":"SUM(AA39:AD46)","v":0}]
[null,"  事業内容  （具体的な内容をお書きください）"]
[null,{"$f":"IF('申【様式３・４】（派遣）'!B38=\"\",\"\",'申【様式３・４】（派遣）'!B38)","v":""}]
[null," 児童生徒の反応等  （具体的な内容をお書きください）"]
[]
["第２回","実施日時",null,null,{"$f":"IF('申【様式３・４】（派遣）'!E39=\"\",\"\",'申【様式３・４】（派遣）'!E39)","v":""},null,null,null,null,null,null,null,null,null,null,"実施時間",null,null,{"$f":"IF('申【様式３・４】（派遣）'!S39=\"\",\"\",'申【様式３・４】（派遣）'!S39)","v":""},null,null,null,null,null,"実施\n合計",null,{"$f":"IF('申【様式３・４】（派遣）'!AA39=\"\",\"\",'申【様式３・４】（派遣）'!AA39)","v":""},null,"分",null,null,{"$f":"IF(AA52=\"\",\"0\",IF(AA52>=150,3,IF(AND(AA52<150,AA52>=90),2,IF(AA52=\"\",0,1))))","v":"0"},null,"時間分の謝金計上可"]
[null,"教科の\n位置付け",null,null,{"$f":"IF('申【様式３・４】（派遣）'!E41=\"\",\"\",'申【様式３・４】（派遣）'!E41)","v":""},null,null,null,null,null,null,null,null,null,null,{"$f":"IFERROR(VLOOKUP(E53,選択肢!$Y$2:$Z$6,2,FALSE),\"\")","v":""},null,null,{"$f":"IF('申【様式３・４】（派遣）'!S41=\"\",\"\",'申【様式３・４】（派遣）'!S41)","v":""}]
[null,"参加\n児童生徒",null,null,"合計",null,{"$f":"IF('申【様式３・４】（派遣）'!G43=\"\",\"\",'申【様式３・４】（派遣）'!G43)","v":""},null,null,"人",null,"参加児童\n生徒単位",null,null,null,{"$f":"IF('申【様式３・４】（派遣）'!P43=\"\",\"\",'申【様式３・４】（派遣）'!P43)","v":""}]
[null,null,null,null,null,null,null,null,null,null,null,null,null,null,null,{"$f":"IFERROR(VLOOKUP(P54,選択肢!$AE$3:$AF$5,2,FALSE),\"\")","v":""},null,null,{"$f":"IF('申【様式３・４】（派遣）'!S44=\"\",\"\",'申【様式３・４】（派遣）'!S44)","v":""}]
[null,"補助者",null,null,"氏名   ※本名",null,null,null,null,null,null,"種別・従事時間",null,null,null,null,null,null,null,null,null,null,null,null,null,null,"謝金合計"]
[null,null,null,null,"①",{"$f":"IF($E$52=\"\",\"\",IF('申【様式３・４】（派遣）'!F46=\"\",\"\",'申【様式３・４】（派遣）'!F46))","v":""},null,null,null,null,null,"演奏",null,{"$f":"IF('申【様式３・４】（派遣）'!N46=\"\",\"0\",'申【様式３・４】（派遣）'!N46)","v":"0"},"時間",null,"実技指導",null,{"$f":"IF('申【様式３・４】（派遣）'!S46=\"\",\"0\",'申【様式３・４】（派遣）'!S46)","v":"0"},"時間",null,"単純労務",null,{"$f":"IF('申【様式３・４】（派遣）'!X46=\"\",\"0\",'申【様式３・４】（派遣）'!X46)","v":"0"},"時間",null,{"$f":"(IF(N57=\"\",0,N57)*6520)+(IF(S57=\"\",0,S57)*5200)+(IF(X57=\"\",0,X57)*1070)","v":0},null,null,null,null,{"$f":"IF(N57+S57>$AF$52,\"謝金計上可能上限時間を超えています。\",\"\")","v":""}]
[null,null,null,null,"②",{"$f":"IF($E$52=\"\",\"\",IF('申【様式３・４】（派遣）'!F47=\"\",\"\",'申【様式３・４】（派遣）'!F47))","v":""},null,null,null,null,null,"演奏",null,{"$f":"IF('申【様式３・４】（派遣）'!N47=\"\",\"0\",'申【様式３・４】（派遣）'!N47)","v":"0"},"時間",null,"実技指導",null,{"$f":"IF('申【様式３・４】（派遣）'!S47=\"\",\"0\",'申【様式３・４】（派遣）'!S47)","v":"0"},"時間",null,"単純労務",null,{"$f":"IF('申【様式３・４】（派遣）'!X47=\"\",\"0\",'申【様式３・４】（派遣）'!X47)","v":"0"},"時間",null,{"$f":"(IF(N58=\"\",0,N58)*6520)+(IF(S58=\"\",0,S58)*5200)+(IF(X58=\"\",0,X58)*1070)","v":0},null,null,null,null,{"$f":"IF(N58+S58>$AF$52,\"謝金計上可能上限時間を超えています。\",\"\")","v":""}]
[null,null,null,null,"③",{"$f":"IF($E$52=\"\",\"\",IF('申【様式３・４】（派遣）'!F48=\"\",\"\",'申【様式３・４】（派遣）'!F48))","v":""},null,null,null,null,null,"演奏",null,{"$f":"IF('申【様式３・４】（派遣）'!N48=\"\",\"0\",'申【様式３・４】（派遣）'!N48)","v":"0"},"時間",null,"実技指導",null,{"$f":"IF('申【様式３・４】（派遣）'!S48=\"\",\"0\",'申【様式３・４】（派遣）'!S48)","v":"0"},"時間",null,"単純労務",null,{"$f":"IF('申【様式３・４】（派遣）'!X48=\"\",\"0\",'申【様式３・４】（派遣）'!X48)","v":"0"},"時間",null,{"$f":"(IF(N59=\"\",0,N59)*6520)+(IF(S59=\"\",0,S59)*5200)+(IF(X59=\"\",0,X59)*1070)","v":0},null,null,null,null,""]
[null,null,null,null,"④",{"$f":"IF($E$52=\"\",\"\",IF('申【様式３・４】（派遣）'!F49=\"\",\"\",'申【様式３・４】（派遣）'!F49))","v":""},null,null,null,null,null,"演奏",null,{"$f":"IF('申【様式３・４】（派遣）'!N49=\"\",\"0\",'申【様式３・４】（派遣）'!N49)","v":"0"},"時間",null,"実技指導",null,{"$f":"IF('申【様式３・４】（派遣）'!S49=\"\",\"0\",'申【様式３・４】（派遣）'!S49)","v":"0"},"時間",null,"単純労務",null,{"$f":"IF('申【様式３・４】（派遣）'!X49=\"\",\"0\",'申【様式３・４】（派遣）'!X49)","v":"0"},"時間",null,{"$f":"(IF(N60=\"\",0,N60)*6520)+(IF(S60=\"\",0,S60)*5200)+(IF(X60=\"\",0,X60)*1070)","v":0},null,null,null,null,""]
[null,null,null,null,"⑤",{"$f":"IF($E$52=\"\",\"\",IF('申【様式３・４】（派遣）'!F50=\"\",\"\",'申【様式３・４】（派遣）'!F50))","v":""},null,null,null,null,null,"演奏",null,{"$f":"IF('申【様式３・４】（派遣）'!N50=\"\",\"0\",'申【様式３・４】（派遣）'!N50)","v":"0"},"時間",null,"実技指導",null,{"$f":"IF('申【様式３・４】（派遣）'!S50=\"\",\"0\",'申【様式３・４】（派遣）'!S50)","v":"0"},"時間",null,"単純労務",null,{"$f":"IF('申【様式３・４】（派遣）'!X50=\"\",\"0\",'申【様式３・４】（派遣）'!X50)","v":"0"},"時間",null,{"$f":"(IF(N61=\"\",0,N61)*6520)+(IF(S61=\"\",0,S61)*5200)+(IF(X61=\"\",0,X61)*1070)","v":0},null,null,null,null,""]
[null,null,null,null,"⑥",{"$f":"IF(OR(OR(AND($F$8=\"文化施設等\",$I$9=\"\"),AND($F$8=\"文化施設等\",$I$9=\"なし\"),$F$8<>\"文化施設等\")),\"\",IF($E$52=\"\",\"\",IF('申【様式３・４】（派遣）'!F51=\"\",\"\",'申【様式３・４】（派遣）'!F51)))","v":""},null,null,null,null,null,"演奏",null,{"$f":"IF('申【様式３・４】（派遣）'!N51=\"\",\"0\",'申【様式３・４】（派遣）'!N51)","v":"0"},"時間",null,"実技指導",null,{"$f":"IF('申【様式３・４】（派遣）'!S51=\"\",\"0\",'申【様式３・４】（派遣）'!S51)","v":"0"},"時間",null,"単純労務",null,{"$f":"IF('申【様式３・４】（派遣）'!X51=\"\",\"0\",'申【様式３・４】（派遣）'!X51)","v":"0"},"時間",null,{"$f":"IF(OR(OR(AND($F$8=\"文化施設等\",$I$9=\"\"),AND($F$8=\"文化施設等\",$I$9=\"なし\"),$F$8<>\"文化施設等\")),0,(IF(N62=\"\",0,N62)*6520)+(IF(S62=\"\",0,S62)*5200)+(IF(X62=\"\",0,X62)*1070))","v":0},null,null,null,null,""]
[null,null,null,null,"⑦",{"$f":"IF(OR(OR(AND($F$8=\"文化施設等\",$I$9=\"\"),AND($F$8=\"文化施設等\",$I$9=\"なし\"),$F$8<>\"文化施設等\")),\"\",IF($E$52=\"\",\"\",IF('申【様式３・４】（派遣）'!F52=\"\",\"\",'申【様式３・４】（派遣）'!F52)))","v":""},null,null,null,null,null,"演奏",null,{"$f":"IF('申【様式３・４】（派遣）'!N52=\"\",\"0\",'申【様式３・４】（派遣）'!N52)","v":"0"},"時間",null,"実技指導",null,{"$f":"IF('申【様式３・４】（派遣）'!S52=\"\",\"0\",'申【様式３・４】（派遣）'!S52)","v":"0"},"時間",null,"単純労務",null,{"$f":"IF('申【様式３・４】（派遣）'!X52=\"\",\"0\",'申【様式３・４】（派遣）'!X52)","v":"0"},"時間",null,{"$f":"IF(OR(OR(AND($F$8=\"文化施設等\",$I$9=\"\"),AND($F$8=\"文化施設等\",$I$9=\"なし\"),$F$8<>\"文化施設等\")),0,(IF(N63=\"\",0,N63)*6520)+(IF(S63=\"\",0,S63)*5200)+(IF(X63=\"\",0,X63)*1070))","v":0},null,null,null,null,""]
[null,null,null,null,"⑧",{"$f":"IF(OR(OR(AND($F$8=\"文化施設等\",$I$9=\"\"),AND($F$8=\"文化施設等\",$I$9=\"なし\"),$F$8<>\"文化施設等\")),\"\",IF($E$52=\"\",\"\",IF('申【様式３・４】（派遣）'!F53=\"\",\"\",'申【様式３・４】（派遣）'!F53)))","v":""},null,null,null,null,null,"演奏",null,{"$f":"IF('申【様式３・４】（派遣）'!N53=\"\",\"0\",'申【様式３・４】（派遣）'!N53)","v":"0"},"時間",null,"実技指導",null,{"$f":"IF('申【様式３・４】（派遣）'!S53=\"\",\"0\",'申【様式３・４】（派遣）'!S53)","v":"0"},"時間",null,"単純労務",null,{"$f":"IF('申【様式３・４】（派遣）'!X53=\"\",\"0\",'申【様式３・４】（派遣）'!X53)","v":"0"},"時間",null,{"$f":"IF(OR(OR(AND($F$8=\"文化施設等\",$I$9=\"\"),AND($F$8=\"文化施設等\",$I$9=\"なし\"),$F$8<>\"文化施設等\")),0,(IF(N64=\"\",0,N64)*6520)+(IF(S64=\"\",0,S64)*5200)+(IF(X64=\"\",0,X64)*1070))","v":0},null,null,null,null,""]
[null,null,null,null,"計",{"$f":"IF(OR(OR(AND($F$8=\"文化施設等\",$I$9=\"\"),AND($F$8=\"文化施設等\",$I$9=\"なし\"),$F$8<>\"文化施設等\")),COUNTIF(F57:F61,\"?*\"),COUNTIF(F57:F64,\"?*\"))","v":0},null,null,null,null,"人","※各1時間当たり　演奏6,520円、実技指導5,200円、単純労務1,070円",null,null,null,null,null,null,null,null,null,null,null,null,null,"計",{"$f":"SUM(AA57:AD64)","v":0}]
[null,"  事業内容  （具体的な内容をお書きください）"]
[null,{"$f":"IF('申【様式３・４】（派遣）'!B56=\"\",\"\",'申【様式３・４】（派遣）'!B56)","v":""}]
[null," 児童生徒の反応等  （具体的な内容をお書きください）"]
[]
["様式9",null,null,null,null,null,null,null,null,null,null,null,null,null,null,null,null,null,null,null,null,null,null,null,null,null,"H",null,"（3/3）"]
["都道府県・政令指定都市",null,null,null,null,null,null,{"$f":"IF(U5=\"\",\"\",U5)","v":""},null,null,null,null,null,null,"実施校名",null,null,null,null,{"$f":"IF(F6=\"\",\"\",F6)","v":""}]
["第３回","実施日時",null,null,{"$f":"IF('申【様式３・４】（派遣）'!E57=\"\",\"\",'申【様式３・４】（派遣）'!E57)","v":""},null,null,null,null,null,null,null,null,null,null,"実施時間",null,null,{"$f":"IF('申【様式３・４】（派遣）'!S57=\"\",\"\",'申【様式３・４】（派遣）'!S57)","v":""},null,null,null,null,null,"実施\n合計",null,{"$f":"IF('申【様式３・４】（派遣）'!AA57=\"\",\"\",'申【様式３・４】（派遣）'!AA57)","v":""},null,"分",null,null,{"$f":"IF(AA72=\"\",\"0\",IF(AA72>=150,3,IF(AND(AA72<150,AA72>=90),2,IF(AA72=\"\",0,1))))","v":"0"},null,"時間分の謝金計上可"]
[null,"教科の\n位置付け",null,null,{"$f":"IF('申【様式３・４】（派遣）'!E59=\"\",\"\",'申【様式３・４】（派遣）'!E59)","v":""},null,null,null,null,null,null,null,null,null,null,{"$f":"IFERROR(VLOOKUP(E73,選択肢!$Y$2:$Z$6,2,FALSE),\"\")","v":""},null,null,{"$f":"IF('申【様式３・４】（派遣）'!S59=\"\",\"\",'申【様式３・４】（派遣）'!S59)","v":""}]
[null,"参加\n児童生徒",null,null,"合計",null,{"$f":"IF('申【様式３・４】（派遣）'!G61=\"\",\"\",'申【様式３・４】（派遣）'!G61)","v":""},null,null,"人",null,"参加児童\n生徒単位",null,null,null,{"$f":"IF('申【様式３・４】（派遣）'!P61=\"\",\"\",'申【様式３・４】（派遣）'!P61)","v":""}]
[null,null,null,null,null,null,null,null,null,null,null,null,null,null,null,{"$f":"IFERROR(VLOOKUP(P74,選択肢!$AE$3:$AF$5,2,FALSE),\"\")","v":""},null,null,{"$f":"IF('申【様式３・４】（派遣）'!S62=\"\",\"\",'申【様式３・４】（派遣）'!S62)","v":""}]
[null,"補助者",null,null,"氏名   ※本名",null,null,null,null,null,null,"種別・従事時間",null,null,null,null,null,null,null,null,null,null,null,null,null,null,"謝金合計"]
[null,null,null,null,"①",{"$f":"IF($E$72=\"\",\"\",IF('申【様式３・４】（派遣）'!F64=\"\",\"\",'申【様式３・４】（派遣）'!F64))","v":""},null,null,null,null,null,"演奏",null,{"$f":"IF('申【様式３・４】（派遣）'!N64=\"\",\"0\",'申【様式３・４】（派遣）'!N64)","v":"0"},"時間",null,"実技指導",null,{"$f":"IF('申【様式３・４】（派遣）'!S64=\"\",\"0\",'申【様式３・４】（派遣）'!S64)","v":"0"},"時間",null,"単純労務",null,{"$f":"IF('申【様式３・４】（派遣）'!X64=\"\",\"0\",'申【様式３・４】（派遣）'!X64)","v":"0"},"時間",null,{"$f":"(IF(N77=\"\",0,N77)*6520)+(IF(S77=\"\",0,S77)*5200)+(IF(X77=\"\",0,X77)*1070)","v":0},null,null,null,null,{"$f":"IF(N77+S77>$AF$72,\"謝金計上可能上限時間を超えています。\",\"\")","v":""}]
[null,null,null,null,"②",{"$f":"IF($E$72=\"\",\"\",IF('申【様式３・４】（派遣）'!F65=\"\",\"\",'申【様式３・４】（派遣）'!F65))","v":""},null,null,null,null,null,"演奏",null,{"$f":"IF('申【様式３・４】（派遣）'!N65=\"\",\"0\",'申【様式３・４】（派遣）'!N65)","v":"0"},"時間",null,"実技指導",null,{"$f":"IF('申【様式３・４】（派遣）'!S65=\"\",\"0\",'申【様式３・４】（派遣）'!S65)","v":"0"},"時間",null,"単純労務",null,{"$f":"IF('申【様式３・４】（派遣）'!X65=\"\",\"0\",'申【様式３・４】（派遣）'!X65)","v":"0"},"時間",null,{"$f":"(IF(N78=\"\",0,N78)*6520)+(IF(S78=\"\",0,S78)*5200)+(IF(X78=\"\",0,X78)*1070)","v":0},null,null,null,null,{"$f":"IF(N78+S78>$AF$72,\"謝金計上可能上限時間を超えています。\",\"\")","v":""}]
[null,null,null,null,"③",{"$f":"IF($E$72=\"\",\"\",IF('申【様式３・４】（派遣）'!F66=\"\",\"\",'申【様式３・４】（派遣）'!F66))","v":""},null,null,null,null,null,"演奏",null,{"$f":"IF('申【様式３・４】（派遣）'!N66=\"\",\"0\",'申【様式３・４】（派遣）'!N66)","v":"0"},"時間",null,"実技指導",null,{"$f":"IF('申【様式３・４】（派遣）'!S66=\"\",\"0\",'申【様式３・４】（派遣）'!S66)","v":"0"},"時間",null,"単純労務",null,{"$f":"IF('申【様式３・４】（派遣）'!X66=\"\",\"0\",'申【様式３・４】（派遣）'!X66)","v":"0"},"時間",null,{"$f":"(IF(N79=\"\",0,N79)*6520)+(IF(S79=\"\",0,S79)*5200)+(IF(X79=\"\",0,X79)*1070)","v":0},null,null,null,null,""]
[null,null,null,null,"④",{"$f":"IF($E$72=\"\",\"\",IF('申【様式３・４】（派遣）'!F67=\"\",\"\",'申【様式３・４】（派遣）'!F67))","v":""},null,null,null,null,null,"演奏",null,{"$f":"IF('申【様式３・４】（派遣）'!N67=\"\",\"0\",'申【様式３・４】（派遣）'!N67)","v":"0"},"時間",null,"実技指導",null,{"$f":"IF('申【様式３・４】（派遣）'!S67=\"\",\"0\",'申【様式３・４】（派遣）'!S67)","v":"0"},"時間",null,"単純労務",null,{"$f":"IF('申【様式３・４】（派遣）'!X67=\"\",\"0\",'申【様式３・４】（派遣）'!X67)","v":"0"},"時間",null,{"$f":"(IF(N80=\"\",0,N80)*6520)+(IF(S80=\"\",0,S80)*5200)+(IF(X80=\"\",0,X80)*1070)","v":0},null,null,null,null,""]
[null,null,null,null,"⑤",{"$f":"IF($E$72=\"\",\"\",IF('申【様式３・４】（派遣）'!F68=\"\",\"\",'申【様式３・４】（派遣）'!F68))","v":""},null,null,null,null,null,"演奏",null,{"$f":"IF('申【様式３・４】（派遣）'!N68=\"\",\"0\",'申【様式３・４】（派遣）'!N68)","v":"0"},"時間",null,"実技指導",null,{"$f":"IF('申【様式３・４】（派遣）'!S68=\"\",\"0\",'申【様式３・４】（派遣）'!S68)","v":"0"},"時間",null,"単純労務",null,{"$f":"IF('申【様式３・４】（派遣）'!X68=\"\",\"0\",'申【様式３・４】（派遣）'!X68)","v":"0"},"時間",null,{"$f":"(IF(N81=\"\",0,N81)*6520)+(IF(S81=\"\",0,S81)*5200)+(IF(X81=\"\",0,X81)*1070)","v":0},null,null,null,null,""]
[null,null,null,null,"⑥",{"$f":"IF(OR(OR(AND($F$8=\"文化施設等\",$I$9=\"\"),AND($F$8=\"文化施設等\",$I$9=\"なし\"),$F$8<>\"文化施設等\")),\"\",IF($E$72=\"\",\"\",IF('申【様式３・４】（派遣）'!F69=\"\",\"\",'申【様式３・４】（派遣）'!F69)))","v":""},null,null,null,null,null,"演奏",null,{"$f":"IF('申【様式３・４】（派遣）'!N69=\"\",\"0\",'申【様式３・４】（派遣）'!N69)","v":"0"},"時間",null,"実技指導",null,{"$f":"IF('申【様式３・４】（派遣）'!S69=\"\",\"0\",'申【様式３・４】（派遣）'!S69)","v":"0"},"時間",null,"単純労務",null,{"$f":"IF('申【様式３・４】（派遣）'!X69=\"\",\"0\",'申【様式３・４】（派遣）'!X69)","v":"0"},"時間",null,{"$f":"IF(OR(OR(AND($F$8=\"文化施設等\",$I$9=\"\"),AND($F$8=\"文化施設等\",$I$9=\"なし\"),$F$8<>\"文化施設等\")),0,(IF(N82=\"\",0,N82)*6520)+(IF(S82=\"\",0,S82)*5200)+(IF(X82=\"\",0,X82)*1070))","v":0},null,null,null,null,""]
[null,null,null,null,"⑦",{"$f":"IF(OR(OR(AND($F$8=\"文化施設等\",$I$9=\"\"),AND($F$8=\"文化施設等\",$I$9=\"なし\"),$F$8<>\"文化施設等\")),\"\",IF($E$72=\"\",\"\",IF('申【様式３・４】（派遣）'!F70=\"\",\"\",'申【様式３・４】（派遣）'!F70)))","v":""},null,null,null,null,null,"演奏",null,{"$f":"IF('申【様式３・４】（派遣）'!N70=\"\",\"0\",'申【様式３・４】（派遣）'!N70)","v":"0"},"時間",null,"実技指導",null,{"$f":"IF('申【様式３・４】（派遣）'!S70=\"\",\"0\",'申【様式３・４】（派遣）'!S70)","v":"0"},"時間",null,"単純労務",null,{"$f":"IF('申【様式３・４】（派遣）'!X70=\"\",\"0\",'申【様式３・４】（派遣）'!X70)","v":"0"},"時間",null,{"$f":"IF(OR(OR(AND($F$8=\"文化施設等\",$I$9=\"\"),AND($F$8=\"文化施設等\",$I$9=\"なし\"),$F$8<>\"文化施設等\")),0,(IF(N83=\"\",0,N83)*6520)+(IF(S83=\"\",0,S83)*5200)+(IF(X83=\"\",0,X83)*1070))","v":0},null,null,null,null,""]
[null,null,null,null,"⑧",{"$f":"IF(OR(OR(AND($F$8=\"文化施設等\",$I$9=\"\"),AND($F$8=\"文化施設等\",$I$9=\"なし\"),$F$8<>\"文化施設等\")),\"\",IF($E$72=\"\",\"\",IF('申【様式３・４】（派遣）'!F71=\"\",\"\",'申【様式３・４】（派遣）'!F71)))","v":""},null,null,null,null,null,"演奏",null,{"$f":"IF('申【様式３・４】（派遣）'!N71=\"\",\"0\",'申【様式３・４】（派遣）'!N71)","v":"0"},"時間",null,"実技指導",null,{"$f":"IF('申【様式３・４】（派遣）'!S71=\"\",\"0\",'申【様式３・４】（派遣）'!S71)","v":"0"},"時間",null,"単純労務",null,{"$f":"IF('申【様式３・４】（派遣）'!X71=\"\",\"0\",'申【様式３・４】（派遣）'!X71)","v":"0"},"時間",null,{"$f":"IF(OR(OR(AND($F$8=\"文化施設等\",$I$9=\"\"),AND($F$8=\"文化施設等\",$I$9=\"なし\"),$F$8<>\"文化施設等\")),0,(IF(N84=\"\",0,N84)*6520)+(IF(S84=\"\",0,S84)*5200)+(IF(X84=\"\",0,X84)*1070))","v":0},null,null,null,null,""]
[null,null,null,null,"計",{"$f":"IF(OR(OR(AND($F$8=\"文化施設等\",$I$9=\"\"),AND($F$8=\"文化施設等\",$I$9=\"なし\"),$F$8<>\"文化施設等\")),COUNTIF(F77:F81,\"?*\"),COUNTIF(F77:F84,\"?*\"))","v":0},null,null,null,null,"人","※各1時間当たり　演奏6,520円、実技指導5,200円、単純労務1,070円",null,null,null,null,null,null,null,null,null,null,null,null,null,"計",{"$f":"SUM(AA77:AD84)","v":0}]
[null,"  事業内容  （具体的な内容をお書きください）"]
[null,{"$f":"IF('申【様式３・４】（派遣）'!B74=\"\",\"\",'申【様式３・４】（派遣）'!B74)","v":""}]
[null," 児童生徒の反応等  （具体的な内容をお書きください）"]
[]
[]
["様式10",null,null,null,null,null,null,null,null,null,null,null,null,null,null,null,null,null,null,null,null,null,null,null,"実施校ID",{"$f":"IF(F5=\"\",\"\",F5)","v":""}]
["令和5年度 文化芸術による子供育成推進事業（芸術家の派遣事業）"]
["経費報告書兼支払依頼書"]
["実施日",null,null,null,"第１回",null,null,null,"第２回",null,null,null,"第３回",null,null,null,null,"都道府県・政令指定都市",null,null,null,null,null,{"$f":"IF(U5=\"\",\"\",U5)","v":""}]
[null,null,null,null,{"$f":"IF(E34=\"\",\"\",E34)","v":""},null,null,null,{"$f":"IF(E52=\"\",\"\",E52)","v":""},null,null,null,{"$f":"IF(E72=\"\",\"\",E72)","v":""},null,null,null,null,"実施校名",null,null,{"$f":"IF(F6=\"\",\"\",F6)","v":""}]
[]
["【決算総括表】",null,null,null,null,null,"※決定額：決定通知の金額が反映されます。"]
["区分",null,null,null,null,null,"決定額（予算額）",null,null,null,null,null,"決算額",null,null,null,null,null,"差額（決算額－予算額）"]
["①","謝金",null,null,null,null,{"$f":"'申【様式３・４】（派遣）'!M100","v":0},null,null,null,null,"円","a",{"$f":"S120","v":0},null,null,null,"円",{"$f":"N99-G99","v":0},null,null,null,null,"円"]
["②","旅費",null,null,null,null,{"$f":"'申【様式３・４】（派遣）'!S100","v":0},null,null,null,null,"円","b",{"$f":"N139","v":0},null,null,null,"円",{"$f":"N100-G100","v":0},null,null,null,null,"円"]
["③","講演等諸雑費",null,null,null,null,{"$f":"'申【様式３・４】（派遣）'!Y115","v":0},null,null,null,null,"円","c",{"$f":"Y150","v":0},null,null,null,"円",{"$f":"N101-G101","v":0},null,null,null,null,"円"]
["合計",null,null,null,null,null,{"$f":"SUM(G99:K101)","v":0},null,null,null,null,"円",{"$f":"SUM(N99:Q101)","v":0},null,null,null,null,"円",{"$f":"SUM(S99:W101)","v":0},null,null,null,null,"円"]
[]
["【①謝金】",null,null,null,null,null,"※補助者氏名が自動反映されない場合は、氏名欄の▼プルダウンリストから選択してください。\n※Bank ID（取引先ID）について、各従事者に確認の上、「4桁-1桁」の数字を記入してください。"]
["種別",null,null,null,null,null,"氏名　※本名",null,null,null,null,null,"発注年月日",null,null,"引取年月日",null,null,"謝金",null,null,null,null,null,"Bank ID（取引先ID）"]
["講師",null,null,null,null,null,{"$f":"IF(F10=\"\",\"　\",F10)","v":"　"},null,null,null,null,null,{"$f":"IF(COUNTIF(G106,\"　\")=0,\"決定通知記載日\",\"\")","v":""},null,null,null,null,null,{"$f":"IF(G106=\"\",\"0\",U10*35650)","v":0},null,null,null,null,"円",null,null,null,null,"-"]
["補助者①",null,null,null,null,null,{"$f":"IF(F39=\"\",\"　\",F39)","v":"　"},null,null,null,null,null,{"$f":"IF(COUNTIF(G107,\"　\")=0,\"決定通知記載日\",\"\")","v":""},null,null,null,null,null,{"$f":"SUM(IFERROR(VLOOKUP(G107,$F$39:$AD$46,22,FALSE),0),IFERROR(VLOOKUP(G107,$F$57:$AD$64,22,FALSE),0),IFERROR(VLOOKUP(G107,$F$77:$AD$84,22,FALSE),0))","v":0},null,null,null,null,"円",null,null,null,null,"-"]
["補助者②",null,null,null,null,null,"　",null,null,null,null,null,"",null,null,null,null,null,{"$f":"SUM(IFERROR(VLOOKUP(G108,$F$39:$AD$46,22,FALSE),0),IFERROR(VLOOKUP(G108,$F$57:$AD$64,22,FALSE),0),IFERROR(VLOOKUP(G108,$F$77:$AD$84,22,FALSE),0))","v":0},null,null,null,null,"円",null,null,null,null,"-"]
["補助者③",null,null,null,null,null,"　",null,null,null,null,null,"",null,null,null,null,null,0,null,null,null,null,"円",null,null,null,null,"-"]
["補助者④",null,null,null,null,null,"　",null,null,null,null,null,"",null,null,null,null,null,0,null,null,null,null,"円",null,null,null,null,"-"]
["補助者⑤",null,null,null,null,null,"　",null,null,null,null,null,"",null,null,null,null,null,0,null,null,null,null,"円",null,null,null,null,"-"]
["補助者⑥",null,null,null,null,null,"　",null,null,null,null,null,"",null,null,null,null,null,0,null,null,null,null,"円",null,null,null,null,"-"]
["補助者⑦",null,null,null,null,null,"　",null,null,null,null,null,"",null,null,null,null,null,0,null,null,null,null,"円",null,null,null,null,"-"]
["補助者⑧",null,null,null,null,null,"　",null,null,null,null,null,"",null,null,null,null,null,0,null,null,null,null,"円",null,null,null,null,"-"]
["補助者⑨",null,null,null,null,null,"　",null,null,null,null,null,"",null,null,null,null,null,0,null,null,null,null,"円",null,null,null,null,"-"]
["補助者⑩",null,null,null,null,null,"　",null,null,null,null,null,"",null,null,null,null,null,{"$f":"SUM(IFERROR(VLOOKUP(G116,$F$39:$AD$46,22,FALSE),0),IFERROR(VLOOKUP(G116,$F$57:$AD$64,22,FALSE),0),IFERROR(VLOOKUP(G116,$F$77:$AD$84,22,FALSE),0))","v":0},null,null,null,null,"円",null,null,null,null,"-"]
["補助者⑪",null,null,null,null,null,"　",null,null,null,null,null,"",null,null,null,null,null,0,null,null,null,null,"円",null,null,null,null,"-"]
["補助者⑫",null,null,null,null,null,"　",null,null,null,null,null,"",null,null,null,null,null,0,null,null,null,null,"円",null,null,null,null,"-"]
["補助者⑬",null,null,null,null,null,"　",null,null,null,null,null,"",null,null,null,null,null,0,null,null,null,null,"円",null,null,null,null,"-"]
["謝金合計（ａ）",null,null,null,null,null,null,null,null,null,null,null,null,null,null,null,null,null,{"$f":"SUM(S106:W119)","v":0},null,null,null,null,"円"]
[]
["【②旅費】",null,null,null,null,null,null,null,null,null,null,null,null,"※様式7をもとに記入してください。\n※備考欄について、記入が必要な場合のみ記入欄が白になります。"]
["下記の額の対象期間",null,null,null,null,null,null,null,null,null,null,null,null,null,null,null,null,"第1回",null,null,null,null,null,"～",{"$f":"\"第\"&U10&\"回\"","v":"第0回"}]
["種別",null,null,"氏名　※本名",null,null,null,null,null,"決定額（予算額）",null,null,null,"旅費支払額",null,null,null,"行程\n変更",null,"備考／（予算額からの変更・行程変更有の場合）変更理由"]
["講師",null,null,{"$f":"IF(G106=\"\",\"　\",G106)","v":"　"},null,null,null,null,null,{"$f":"IFERROR(IF(D125=\"　\",\"\",VLOOKUP(D125,'申【様式３・４】（派遣）'!$G$86:$W$99,13,FALSE)),0)","v":""},null,null,"円",null,null,null,"円"]
["補助者",null,"①","　",null,null,null,null,null,{"$f":"IFERROR(IF(D126=\"　\",\"\",VLOOKUP(D126,'申【様式３・４】（派遣）'!$G$86:$W$99,13,FALSE)),0)","v":""},null,null,"円",null,null,null,"円"]
[null,null,"②","　",null,null,null,null,null,{"$f":"IFERROR(IF(D127=\"　\",\"\",VLOOKUP(D127,'申【様式３・４】（派遣）'!$G$86:$W$99,13,FALSE)),0)","v":""},null,null,"円",null,null,null,"円"]
[null,null,"③","　",null,null,null,null,null,{"$f":"IFERROR(IF(D128=\"　\",\"\",VLOOKUP(D128,'申【様式３・４】（派遣）'!$G$86:$W$99,13,FALSE)),0)","v":""},null,null,"円",null,null,null,"円"]
[null,null,"④","　",null,null,null,null,null,{"$f":"IFERROR(IF(D129=\"　\",\"\",VLOOKUP(D129,'申【様式３・４】（派遣）'!$G$86:$W$99,13,FALSE)),0)","v":""},null,null,"円",null,null,null,"円"]
[null,null,"⑤","　",null,null,null,null,null,{"$f":"IFERROR(IF(D130=\"　\",\"\",VLOOKUP(D130,'申【様式３・４】（派遣）'!$G$86:$W$99,13,FALSE)),0)","v":""},null,null,"円",null,null,null,"円"]
[null,null,"⑥","　",null,null,null,null,null,{"$f":"IFERROR(IF(D131=\"　\",\"\",VLOOKUP(D131,'申【様式３・４】（派遣）'!$G$86:$W$99,13,FALSE)),0)","v":""},null,null,"円",null,null,null,"円"]
[null,null,"⑦","　",null,null,null,null,null,{"$f":"IFERROR(IF(D132=\"　\",\"\",VLOOKUP(D132,'申【様式３・４】（派遣）'!$G$86:$W$99,13,FALSE)),0)","v":""},null,null,"円",null,null,null,"円"]
[null,null,"⑧","　",null,null,null,null,null,{"$f":"IFERROR(IF(D133=\"　\",\"\",VLOOKUP(D133,'申【様式３・４】（派遣）'!$G$86:$W$99,13,FALSE)),0)","v":""},null,null,"円",null,null,null,"円"]
[null,null,"⑨","　",null,null,null,null,null,{"$f":"IFERROR(IF(D134=\"　\",\"\",VLOOKUP(D134,'申【様式３・４】（派遣）'!$G$86:$W$99,13,FALSE)),0)","v":""},null,null,"円",null,null,null,"円"]
[null,null,"⑩","　",null,null,null,null,null,{"$f":"IFERROR(IF(D135=\"　\",\"\",VLOOKUP(D135,'申【様式３・４】（派遣）'!$G$86:$W$99,13,FALSE)),0)","v":""},null,null,"円",null,null,null,"円"]
[null,null,"⑪","　",null,null,null,null,null,{"$f":"IFERROR(IF(D136=\"　\",\"\",VLOOKUP(D136,'申【様式３・４】（派遣）'!$G$86:$W$99,13,FALSE)),0)","v":""},null,null,"円",null,null,null,"円"]
[null,null,"⑫","　",null,null,null,null,null,{"$f":"IFERROR(IF(D137=\"　\",\"\",VLOOKUP(D137,'申【様式３・４】（派遣）'!$G$86:$W$99,13,FALSE)),0)","v":""},null,null,"円",null,null,null,"円"]
[null,null,"⑬","　",null,null,null,null,null,{"$f":"IFERROR(IF(D138=\"　\",\"\",VLOOKUP(D138,'申【様式３・４】（派遣）'!$G$86:$W$99,13,FALSE)),0)","v":""},null,null,"円",null,null,null,"円"]
["旅費合計（ｂ）",null,null,null,null,null,null,null,null,null,null,null,null,{"$f":"SUM(N125:P138)","v":0},null,null,"円"]
[]
["③【講演等諸雑費】"]
["種別",null,null,null,"項目または業者名",null,null,null,null,"単価",null,null,null,null,"数量",null,"（単位）",null,"発注年月日",null,null,"引取年月日",null,null,"合計"]
[{"$f":"IF('申【様式３・４】（派遣）'!A108=\"\",\"\",'申【様式３・４】（派遣）'!A108)","v":""},null,null,null,{"$f":"IF('申【様式３・４】（派遣）'!G108=\"\",\"\",'申【様式３・４】（派遣）'!G108)","v":""},null,null,null,null,{"$f":"IF('申【様式３・４】（派遣）'!M108=\"\",\"\",'申【様式３・４】（派遣）'!M108)","v":""},null,null,null,"円",{"$f":"IF('申【様式３・４】（派遣）'!S108=\"\",\"\",'申【様式３・４】（派遣）'!S108)","v":""},null,{"$f":"IF('申【様式３・４】（派遣）'!W108=\"\",\"\",'申【様式３・４】（派遣）'!W108)","v":""},null,{"$f":"IF(COUNTIF(A143,\"?*\")=1,\"決定通知記載日\",\"\")","v":""},null,null,null,null,null,{"$f":"IF(J143=\"\",\"\",J143*O143)","v":""},null,null,null,null,"円"]
[{"$f":"IF('申【様式３・４】（派遣）'!A109=\"\",\"\",'申【様式３・４】（派遣）'!A109)","v":""},null,null,null,{"$f":"IF('申【様式３・４】（派遣）'!G109=\"\",\"\",'申【様式３・４】（派遣）'!G109)","v":""},null,null,null,null,{"$f":"IF('申【様式３・４】（派遣）'!M109=\"\",\"\",'申【様式３・４】（派遣）'!M109)","v":""},null,null,null,"円",{"$f":"IF('申【様式３・４】（派遣）'!S109=\"\",\"\",'申【様式３・４】（派遣）'!S109)","v":""},null,{"$f":"IF('申【様式３・４】（派遣）'!W109=\"\",\"\",'申【様式３・４】（派遣）'!W109)","v":""},null,{"$f":"IF(COUNTIF(A144,\"?*\")=1,\"決定通知記載日\",\"\")","v":""},null,null,null,null,null,{"$f":"IF(J144=\"\",\"\",J144*O144)","v":""},null,null,null,null,"円"]
[{"$f":"IF('申【様式３・４】（派遣）'!A110=\"\",\"\",'申【様式３・４】（派遣）'!A110)","v":""},null,null,null,{"$f":"IF('申【様式３・４】（派遣）'!G110=\"\",\"\",'申【様式３・４】（派遣）'!G110)","v":""},null,null,null,null,{"$f":"IF('申【様式３・４】（派遣）'!M110=\"\",\"\",'申【様式３・４】（派遣）'!M110)","v":""},null,null,null,"円",{"$f":"IF('申【様式３・４】（派遣）'!S110=\"\",\"\",'申【様式３・４】（派遣）'!S110)","v":""},null,{"$f":"IF('申【様式３・４】（派遣）'!W110=\"\",\"\",'申【様式３・４】（派遣）'!W110)","v":""},null,"",null,null,null,null,null,"",null,null,null,null,"円"]
[{"$f":"IF('申【様式３・４】（派遣）'!A111=\"\",\"\",'申【様式３・４】（派遣）'!A111)","v":""},null,null,null,{"$f":"IF('申【様式３・４】（派遣）'!G111=\"\",\"\",'申【様式３・４】（派遣）'!G111)","v":""},null,null,null,null,{"$f":"IF('申【様式３・４】（派遣）'!M111=\"\",\"\",'申【様式３・４】（派遣）'!M111)","v":""},null,null,null,"円",{"$f":"IF('申【様式３・４】（派遣）'!S111=\"\",\"\",'申【様式３・４】（派遣）'!S111)","v":""},null,{"$f":"IF('申【様式３・４】（派遣）'!W111=\"\",\"\",'申【様式３・４】（派遣）'!W111)","v":""},null,"",null,null,null,null,null,"",null,null,null,null,"円"]
[{"$f":"IF('申【様式３・４】（派遣）'!A112=\"\",\"\",'申【様式３・４】（派遣）'!A112)","v":""},null,null,null,{"$f":"IF('申【様式３・４】（派遣）'!G112=\"\",\"\",'申【様式３・４】（派遣）'!G112)","v":""},null,null,null,null,{"$f":"IF('申【様式３・４】（派遣）'!M112=\"\",\"\",'申【様式３・４】（派遣）'!M112)","v":""},null,null,null,"円",{"$f":"IF('申【様式３・４】（派遣）'!S112=\"\",\"\",'申【様式３・４】（派遣）'!S112)","v":""},null,{"$f":"IF('申【様式３・４】（派遣）'!W112=\"\",\"\",'申【様式３・４】（派遣）'!W112)","v":""},null,"",null,null,null,null,null,"",null,null,null,null,"円"]
[{"$f":"IF('申【様式３・４】（派遣）'!A113=\"\",\"\",'申【様式３・４】（派遣）'!A113)","v":""},null,null,null,{"$f":"IF('申【様式３・４】（派遣）'!G113=\"\",\"\",'申【様式３・４】（派遣）'!G113)","v":""},null,null,null,null,{"$f":"IF('申【様式３・４】（派遣）'!M113=\"\",\"\",'申【様式３・４】（派遣）'!M113)","v":""},null,null,null,"円",{"$f":"IF('申【様式３・４】（派遣）'!S113=\"\",\"\",'申【様式３・４】（派遣）'!S113)","v":""},null,{"$f":"IF('申【様式３・４】（派遣）'!W113=\"\",\"\",'申【様式３・４】（派遣）'!W113)","v":""},null,"",null,null,null,null,null,"",null,null,null,null,"円"]
[{"$f":"IF('申【様式３・４】（派遣）'!A114=\"\",\"\",'申【様式３・４】（派遣）'!A114)","v":""},null,null,null,{"$f":"IF('申【様式３・４】（派遣）'!G114=\"\",\"\",'申【様式３・４】（派遣）'!G114)","v":""},null,null,null,null,{"$f":"IF('申【様式３・４】（派遣）'!M114=\"\",\"\",'申【様式３・４】（派遣）'!M114)","v":""},null,null,null,"円",{"$f":"IF('申【様式３・４】（派遣）'!S114=\"\",\"\",'申【様式３・４】（派遣）'!S114)","v":""},null,{"$f":"IF('申【様式３・４】（派遣）'!W114=\"\",\"\",'申【様式３・４】（派遣）'!W114)","v":""},null,"",null,null,null,null,null,"",null,null,null,null,"円"]
["講演等諸雑費合計（ｃ）",null,null,null,null,null,null,null,null,null,null,null,null,null,null,null,null,null,null,null,null,null,null,null,{"$f":"SUM(Y143:AC149)","v":0},null,null,null,null,"円"]

{"sheet":"申【様式５・６】（コミュ）","index":8,"n_rows":163,"n_cols":32,"rows_kept":163,"cut":false,"hidden":true,"merged":[[20,18,20,19],[20,20,20,21],[20,22,20,23],[20,24,20,25],[20,26,20,27],[20,28,20,29],[21,20,21,21],[19,14,19,15],[19,16,19,17],[19,18,19,19],[19,20,19,21],[20,16,20,17],[21,18,21,19],[20,4,20,5],[21,4,21,5],[20,6,20,7],[20,8,20,9],[20,10,20,11],[20,12,20,13],[20,14,20,15],[10,15,10,17],[10,5,10,6],[10,8,10,14],[21,6,21,7],[21,8,21,9],[21,10,21,11],[19,6,19,7],[19,8,19,9],[19,10,19,11],[19,12,19,13],[13,0,13,29],[14,0,14,21],[14,22,14,26],[14,27,14,29],[15,0,15,29],[16,0,16,29],[17,0,17,29],[155,0,155,23],[155,24,155,28],[153,0,153,5],[153,6,153,11],[153,12,153,16],[153,18,153,21],[153,22,153,23],[153,24,153,28],[152,0,152,5],[152,6,152,11],[152,12,152,16],[152,18,152,21],[152,22,152,23],[152,24,152,28],[151,0,151,5],[151,6,151,11],[151,12,151,16],[19,0,21,3],[160,0,160,17],[160,18,160,26],[160,27,160,29],[154,0,154,5],[154,6,154,11],[154,12,154,16],[154,18,154,21],[154,22,154,23],[154,24,154,28],[151,18,151,21],[151,22,151,23],[151,24,151,28],[150,0,150,5],[150,6,150,11],[150,12,150,16],[150,18,150,21],[150,22,150,23],[150,24,150,28],[147,0,147,5],[147,6,147,11],[147,12,147,17],[147,18,147,21],[147,22,147,23],[147,24,147,29],[149,0,149,5],[149,6,149,11],[149,12,149,16],[149,18,149,21],[149,22,149,23],[149,24,149,28],[148,0,148,5],[148,6,148,11],[148,12,148,16],[148,18,148,21],[148,22,148,23],[148,24,148,28],[139,0,139,5],[139,6,139,11],[139,12,139,16],[139,18,139,22],[139,24,139,28],[140,0,140,11],[140,12,140,16],[140,18,140,22],[140,24,140,28],[137,0,137,5],[137,6,137,11],[137,12,137,16],[137,18,137,22],[137,24,137,28],[138,0,138,5],[138,6,138,11],[138,12,138,16],[138,18,138,22],[138,24,138,28],[135,0,135,5],[135,6,135,11],[135,12,135,16],[135,18,135,22],[135,24,135,28],[136,0,136,5],[136,6,136,11],[136,12,136,16],[136,18,136,22],[136,24,136,28],[133,0,133,5],[133,6,133,11],[133,12,133,16],[133,18,133,22],[133,24,133,28],[134,0,134,5],[134,6,134,11],[134,12,134,16],[134,18,134,22],[134,24,134,28],[131,0,131,5],[131,6,131,11],[131,12,131,16],[131,18,131,22],[131,24,131,28],[132,0,132,5],[132,6,132,11],[132,12,132,16],[132,18,132,22],[132,24,132,28],[129,0,129,5],[129,6,129,11],[129,12,129,16],[129,18,129,22],[129,24,129,28],[130,0,130,5],[130,6,130,11],[130,12,130,16],[130,18,130,22],[130,24,130,28],[127,0,127,5],[127,6,127,11],[127,12,127,16],[127,18,127,22],[127,24,127,28],[128,0,128,5],[128,6,128,11],[128,12,128,16],[128,18,128,22],[128,24,128,28],[125,0,125,5],[125,6,125,11],[125,12,125,16],[125,18,125,22],[125,24,125,28],[126,0,126,5],[126,6,126,11],[126,12,126,16],[126,18,126,22],[126,24,126,28],[120,6,120,9],[120,10,120,13],[120,14,120,17],[120,18,120,21],[120,22,120,25],[120,26,120,29],[124,0,124,5],[124,6,124,11],[124,12,124,17],[124,18,124,23],[124,24,124,29],[118,22,118,25],[118,26,118,29],[119,6,119,9],[119,10,119,13],[119,14,119,17],[119,18,119,21],[119,22,119,25],[119,26,119,29],[113,0,113,29],[115,17,115,22],[115,23,115,29],[116,17,116,19],[116,20,116,29],[118,0,121,5],[118,6,118,9],[118,10,118,13],[118,14,118,17],[118,18,118,21],[121,6,121,9],[121,10,121,13],[121,14,121,17],[121,18,121,21],[121,22,121,25],[121,26,121,29],[111,0,111,29],[112,0,112,2],[106,1,107,3],[106,4,107,5],[106,6,107,8],[106,9,107,10],[106,11,107,14],[106,15,106,29],[107,15,107,17],[107,18,107,29],[104,0,108,0],[104,26,104,27],[104,28,104,29],[105,1,105,3],[105,4,105,14],[105,15,105,17],[105,18,105,29],[104,1,104,3],[104,4,104,14],[104,15,104,17],[104,18,104,23],[104,24,104,25],[108,1,108,3],[108,4,108,29],[109,0,109,29],[110,0,110,29],[99,0,103,0],[99,1,99,3],[99,4,99,14],[99,15,99,17],[99,18,99,23],[99,24,99,25],[99,26,99,27],[99,28,99,29],[103,1,103,3],[103,4,103,29],[98,0,98,29],[100,1,100,3],[100,4,100,14],[100,15,100,17],[100,18,100,29],[101,1,102,3],[101,4,102,5],[101,6,102,8],[101,9,102,10],[101,11,102,14],[101,15,101,29],[102,15,102,17],[102,18,102,29],[91,0,95,0],[91,1,91,3],[91,4,91,14],[91,15,91,17],[91,18,91,23],[91,24,91,25],[93,1,94,3],[93,4,94,5],[93,6,94,8],[93,9,94,10],[93,11,94,14],[93,15,93,29],[94,15,94,17],[94,18,94,29],[91,26,91,27],[91,28,91,29],[92,1,92,3],[92,4,92,14],[92,15,92,17],[92,18,92,29],[95,1,95,3],[95,4,95,29],[86,0,90,0],[86,1,86,3],[86,4,86,14],[86,15,86,17],[86,18,86,23],[86,24,86,25],[86,26,86,27],[86,28,86,29],[87,1,87,3],[87,4,87,14],[87,15,87,17],[87,18,87,29],[88,1,89,3],[88,4,89,5],[88,6,89,8],[88,9,89,10],[88,11,89,14],[88,15,88,29],[89,15,89,17],[89,18,89,29],[90,1,90,3],[90,4,90,29],[81,0,85,0],[81,1,81,3],[81,4,81,14],[81,15,81,17],[81,18,81,23],[81,24,81,25],[83,1,84,3],[83,4,84,5],[83,6,84,8],[83,9,84,10],[83,11,84,14],[83,15,83,29],[84,15,84,17],[84,18,84,29],[81,26,81,27],[81,28,81,29],[82,1,82,3],[82,4,82,14],[82,15,82,17],[82,18,82,29],[85,1,85,3],[85,4,85,29],[76,0,80,0],[76,1,76,3],[76,4,76,14],[76,15,76,17],[76,18,76,23],[76,24,76,25],[76,26,76,27],[76,28,76,29],[77,1,77,3],[77,4,77,14],[77,15,77,17],[77,18,77,29],[78,1,79,3],[78,4,79,5],[78,6,79,8],[78,9,79,10],[78,11,79,14],[78,15,78,29],[79,15,79,17],[79,18,79,29],[80,1,80,3],[80,4,80,29],[71,0,75,0],[71,1,71,3],[71,4,71,14],[71,15,71,17],[71,18,71,23],[71,24,71,25],[73,1,74,3],[73,4,74,5],[73,6,74,8],[73,9,74,10],[73,11,74,14],[73,15,73,29],[74,15,74,17],[74,18,74,29],[71,26,71,27],[71,28,71,29],[72,1,72,3],[72,4,72,14],[72,15,72,17],[72,18,72,29],[75,1,75,3],[75,4,75,29],[63,0,67,0],[63,1,63,3],[63,4,63,14],[63,15,63,17],[63,18,63,23],[63,24,63,25],[63,26,63,27],[63,28,63,29],[64,1,64,3],[64,4,64,14],[64,15,64,17],[64,18,64,29],[65,1,66,3],[65,4,66,5],[65,6,66,8],[65,9,66,10],[65,11,66,14],[65,15,65,29],[66,15,66,17],[66,18,66,29],[67,1,67,3],[67,4,67,29],[58,0,62,0],[58,1,58,3],[58,4,58,14],[58,15,58,17],[58,18,58,23],[58,24,58,25],[60,1,61,3],[60,4,61,5],[60,6,61,8],[60,9,61,10],[60,11,61,14],[60,15,60,29],[61,15,61,17],[61,18,61,29],[58,26,58,27],[58,28,58,29],[59,1,59,3],[59,4,59,14],[59,15,59,17],[59,18,59,29],[62,1,62,3],[62,4,62,29],[52,4,52,29],[53,0,57,0],[53,1,53,3],[53,4,53,14],[53,15,53,17],[53,18,53,23],[53,24,53,25],[53,26,53,27],[53,28,53,29],[54,1,54,3],[54,4,54,14],[54,15,54,17],[54,18,54,29],[55,1,56,3],[55,4,56,5],[55,6,56,8],[55,9,56,10],[55,11,56,14],[55,15,55,29],[56,15,56,17],[56,18,56,29],[57,1,57,3],[57,4,57,29],[46,18,46,29],[47,1,47,3],[47,4,47,29],[48,0,52,0],[48,1,48,3],[48,4,48,14],[48,15,48,17],[48,18,48,23],[48,24,48,25],[50,1,51,3],[50,4,51,5],[50,6,51,8],[50,9,51,10],[50,11,51,14],[50,15,50,29],[51,15,51,17],[51,18,51,29],[48,26,48,27],[48,28,48,29],[49,1,49,3],[49,4,49,14],[49,15,49,17],[49,18,49,29],[52,1,52,3],[35,1,35,5],[35,6,35,7],[35,8,35,9],[35,10,35,11],[35,12,35,13],[35,14,35,15],[40,0,40,2],[42,0,42,29],[41,0,41,6],[41,7,41,13],[41,14,41,18],[36,1,36,5],[36,6,36,7],[36,8,36,9],[36,10,36,11],[36,12,36,13],[36,26,36,27],[36,28,36,29],[36,14,36,15],[36,16,36,17],[36,18,36,19],[36,20,36,21],[36,22,36,23],[36,24,36,25],[35,16,35,17],[35,18,35,19],[34,14,34,15],[34,16,34,17],[34,18,34,19],[33,22,33,23],[33,24,33,25],[33,26,33,27],[33,28,33,29],[35,20,35,21],[35,22,35,23],[35,24,35,25],[35,26,35,27],[35,28,35,29],[34,1,34,5],[34,6,34,7],[34,8,34,9],[34,10,34,11],[34,12,34,13],[34,26,34,27],[34,28,34,29],[34,20,34,21],[34,22,34,23],[34,24,34,25],[33,1,33,5],[33,6,33,7],[33,8,33,9],[33,10,33,11],[33,12,33,13],[33,14,33,15],[33,16,33,17],[33,18,33,19],[33,20,33,21],[31,22,31,23],[31,24,31,25],[31,26,31,27],[31,28,31,29],[32,1,32,5],[32,6,32,7],[32,8,32,9],[32,10,32,11],[32,12,32,13],[32,14,32,15],[32,28,32,29],[32,16,32,17],[32,18,32,19],[32,20,32,21],[32,22,32,23],[32,24,32,25],[32,26,32,27],[31,1,31,5],[31,6,31,7],[31,8,31,9],[31,10,31,11],[31,12,31,13],[31,14,31,15],[31,16,31,17],[31,18,31,19],[31,20,31,21],[29,22,29,23],[29,24,29,25],[29,26,29,27],[29,28,29,29],[30,1,30,5],[30,6,30,7],[30,8,30,9],[30,10,30,11],[30,12,30,13],[30,14,30,15],[30,28,30,29],[30,16,30,17],[30,18,30,19],[30,20,30,21],[30,22,30,23],[30,24,30,25],[30,26,30,27],[29,1,29,5],[29,6,29,7],[29,8,29,9],[29,10,29,11],[29,12,29,13],[29,14,29,15],[29,16,29,17],[29,18,29,19],[29,20,29,21],[27,22,27,23],[27,24,27,25],[27,26,27,27],[27,28,27,29],[28,1,28,5],[28,6,28,7],[28,8,28,9],[28,10,28,11],[28,12,28,13],[28,14,28,15],[28,28,28,29],[28,16,28,17],[28,18,28,19],[28,20,28,21],[28,22,28,23],[28,24,28,25],[28,26,28,27],[27,1,27,5],[27,6,27,7],[27,8,27,9],[27,10,27,11],[27,12,27,13],[27,14,27,15],[27,16,27,17],[27,18,27,19],[27,20,27,21],[25,22,25,23],[25,24,25,25],[25,26,25,27],[25,28,25,29],[26,1,26,5],[26,6,26,7],[26,8,26,9],[26,10,26,11],[26,12,26,13],[26,14,26,15],[26,28,26,29],[26,16,26,17],[26,18,26,19],[26,20,26,21],[26,22,26,23],[26,24,26,25],[26,26,26,27],[25,1,25,5],[25,6,25,7],[25,8,25,9],[25,10,25,11],[25,12,25,13],[25,14,25,15],[25,16,25,17],[25,18,25,19],[25,20,25,21],[23,28,23,29],[24,1,24,5],[24,6,24,7],[24,8,24,9],[24,10,24,11],[24,12,24,13],[24,14,24,15],[24,28,24,29],[24,16,24,17],[24,18,24,19],[24,20,24,21],[24,22,24,23],[24,24,24,25],[24,26,24,27],[23,1,23,5],[23,6,23,7],[23,8,23,9],[23,10,23,11],[23,12,23,13],[23,14,23,15],[23,16,23,17],[22,20,22,21],[22,22,22,23],[22,24,22,25],[22,26,22,27],[21,12,21,13],[21,14,21,15],[21,16,21,17],[23,22,23,23],[23,24,23,25],[23,26,23,27],[7,0,7,3],[7,4,7,14],[7,15,7,18],[7,19,7,21],[19,26,19,27],[10,19,10,29],[19,4,19,5],[23,18,23,19],[23,20,23,21],[19,22,19,23],[19,24,19,25],[21,22,21,23],[21,24,21,25],[21,26,21,27],[21,28,21,29],[22,1,22,5],[22,6,22,7],[22,8,22,9],[22,10,22,11],[22,12,22,13],[22,14,22,15],[22,28,22,29],[22,16,22,17],[22,18,22,19],[18,0,18,29],[19,28,19,29],[0,0,0,2],[0,24,0,26],[0,27,0,28],[1,0,1,29],[2,0,2,29],[3,0,3,3],[3,4,3,12],[3,13,3,29],[12,0,12,29],[8,0,9,3],[8,4,8,7],[8,8,8,11],[8,12,8,29],[9,4,9,7],[9,8,9,11],[9,12,9,29],[5,0,5,3],[5,4,5,29],[6,0,6,3],[6,4,6,29],[7,22,7,29],[10,0,10,3],[11,0,11,3],[11,4,11,29],[41,19,41,29],[68,0,68,2],[69,0,69,6],[69,7,69,13],[69,14,69,18],[69,19,69,29],[37,6,37,7],[37,8,37,9],[37,10,37,11],[37,12,37,13],[37,14,37,15],[37,16,37,17],[37,18,37,19],[37,20,37,21],[37,22,37,23],[37,24,37,25],[37,26,37,27],[37,28,37,29],[39,16,39,17],[39,18,39,19],[39,20,39,21],[37,0,37,5],[38,0,38,5],[39,0,39,5],[70,0,70,29],[96,0,96,2],[97,0,97,6],[97,7,97,13],[97,14,97,18],[97,19,97,29],[43,0,47,0],[43,1,43,3],[43,4,43,14],[43,15,43,17],[43,18,43,23],[43,24,43,25],[43,26,43,27],[43,28,43,29],[45,1,46,3],[45,4,46,5],[45,6,46,8],[45,9,46,10],[44,1,44,3],[44,4,44,14],[44,15,44,17],[44,18,44,29],[45,11,46,14],[45,15,45,29],[39,22,39,23],[39,24,39,25],[39,26,39,27],[39,28,39,29],[38,6,38,7],[38,8,38,9],[38,10,38,11],[38,12,38,13],[38,14,38,15],[38,16,38,17],[38,18,38,19],[38,20,38,21],[38,22,38,23],[38,24,38,25],[38,26,38,27],[38,28,38,29],[39,6,39,7],[39,8,39,9],[39,10,39,11],[39,12,39,13],[39,14,39,15],[46,15,46,17]]}
["様式5",null,null,null,null,null,null,null,null,null,null,null,null,null,null,null,null,null,null,null,null,null,null,null,"応募No.",null,null,null,null,"番"]
[]
["令和5年度文化芸術による子供育成推進事業（コミュニケーション能力向上事業）　実施希望調書"]
["都道府県・\n政令指定都市名",null,null,null,{"$f":"IF('申【様式１】（共通）'!E4=\"\",\"\",'申【様式１】（共通）'!E4)","v":""}]
[null,null,null,null,null,null,null,null,null,null,null,null,null,null,null,null,null,null,null,null,null,null,null,null,null,null,null,null,null,"※オレンジセル横の▼をクリックすると選択肢が表示されますので該当するものを選択してください。"]
["ふりがな",null,null,null,{"$f":"IF('申【様式１】（共通）'!E7=\"\",\"\",'申【様式１】（共通）'!E7)","v":""}]
["実施校名",null,null,null,{"$f":"IF('申【様式１】（共通）'!E8=\"\",\"\",'申【様式１】（共通）'!E8)","v":""}]
["実施会場",null,null,null,null,null,null,null,null,null,null,null,null,null,null,"他校との合同\n開催の状況",null,null,null,"参加学校名"]
["実施分野",null,null,null,"大項目",null,null,null,"中項目",null,null,null,{"$f":"IF(COUNTIF(I10,\"*その他\")=1,\"中項目の「その他」について、下記に具体的な実施分野を記入してください。\",\"\")","v":""}]
[]
["実施回数",null,null,null,"全",{"$f":"COUNTA(E44,E49,E54,E59,E64,E72,E77,E82,E87,E92,E100,E105)","v":0},null,"回","のべ参加被派遣者数",null,null,null,null,null,null,{"$f":"SUM(G40:AD40)","v":0},null,null,"名"]
["所属団体",null,null,null,{"$f":"IF('申報【様式２】（共通）'!I10=\"\",\"\",'申報【様式２】（共通）'!I10)","v":""}]
["■ 令和５年度の申請で４年連続での同一分野または講師による申請を行う学校は下記について回答をお願いします。"]
["1.　次の確認事項をお読みになり、了承したら右側の「確認済み」を選択してください。"]
["本校は他の分野・講師による実施についても検討した上で、本申請内容にて申請しています。",null,null,null,null,null,null,null,null,null,null,null,null,null,null,null,null,null,null,null,null,null,"確認したら選択→"]
["2.　前年度と同一分野・講師で実施する理由として最も当てはまる項目を選択してください。"]
[]
["3.　具体的な理由を記してください。（100文字以上250文字以内）"]
[]
["被派遣者\n氏名",null,null,null,"回",null,"第１回",null,"第２回",null,"第３回",null,"第４回",null,"第５回",null,"第６回",null,"第７回",null,"第８回",null,"第９回",null,"第10回",null,"第11回",null,"第12回"]
[null,null,null,null,"日付",null,{"$f":"IF(E44=\"\",\"\",E44)","v":""},null,{"$f":"IF(E49=\"\",\"\",E49)","v":""},null,{"$f":"IF(E54=\"\",\"\",E54)","v":""},null,{"$f":"IF(E59=\"\",\"\",E59)","v":""},null,{"$f":"IF(E64=\"\",\"\",E64)","v":""},null,{"$f":"IF(E72=\"\",\"\",E72)","v":""},null,{"$f":"IF(E77=\"\",\"\",E77)","v":""},null,{"$f":"IF(E82=\"\",\"\",E82)","v":""},null,{"$f":"IF(E87=\"\",\"\",E87)","v":""},null,{"$f":"IF(E92=\"\",\"\",E92)","v":""},null,{"$f":"IF(E100=\"\",\"\",E100)","v":""},null,{"$f":"IF(E105=\"\",\"\",E105)","v":""}]
[null,null,null,null,"時間",null,{"$f":"IF(AA44>=150,3,IF(AND(AA44<150,AA44>=90),2,IF(AA44=\"\",0,1)))","v":0},null,{"$f":"IF(AA49>=150,3,IF(AND(AA49<150,AA49>=90),2,IF(AA49=\"\",0,1)))","v":0},null,{"$f":"IF(AA54>=150,3,IF(AND(AA54<150,AA54>=90),2,IF(AA54=\"\",0,1)))","v":0},null,{"$f":"IF(AA59>=150,3,IF(AND(AA59<150,AA59>=90),2,IF(AA59=\"\",0,1)))","v":0},null,{"$f":"IF(AA64>=150,3,IF(AND(AA64<150,AA64>=90),2,IF(AA64=\"\",0,1)))","v":0},null,{"$f":"IF(AA72>=150,3,IF(AND(AA72<150,AA72>=90),2,IF(AA72=\"\",0,1)))","v":0},null,{"$f":"IF(AA77>=150,3,IF(AND(AA77<150,AA77>=90),2,IF(AA77=\"\",0,1)))","v":0},null,{"$f":"IF(AA82>=150,3,IF(AND(AA82<150,AA82>=90),2,IF(AA82=\"\",0,1)))","v":0},null,{"$f":"IF(AA87>=150,3,IF(AND(AA87<150,AA87>=90),2,IF(AA87=\"\",0,1)))","v":0},null,{"$f":"IF(AA92>=150,3,IF(AND(AA92<150,AA92>=90),2,IF(AA92=\"\",0,1)))","v":0},null,{"$f":"IF(AA100>=150,3,IF(AND(AA100<150,AA100>=90),2,IF(AA100=\"\",0,1)))","v":0},null,{"$f":"IF(AA105>=150,3,IF(AND(AA105<150,AA105>=90),2,IF(AA105=\"\",0,1)))","v":0}]
["①",{"$f":"IF('申報【様式２】（共通）'!D15=\"\",\"　\",'申報【様式２】（共通）'!D15)","v":"　"}]
["②",{"$f":"IF('申報【様式２】（共通）'!D16=\"\",\"　\",'申報【様式２】（共通）'!D16)","v":"　"}]
["③",{"$f":"IF('申報【様式２】（共通）'!D17=\"\",\"　\",'申報【様式２】（共通）'!D17)","v":"　"}]
["④",{"$f":"IF('申報【様式２】（共通）'!D18=\"\",\"　\",'申報【様式２】（共通）'!D18)","v":"　"}]
["⑤",{"$f":"IF('申報【様式２】（共通）'!D19=\"\",\"　\",'申報【様式２】（共通）'!D19)","v":"　"}]
["⑥",{"$f":"IF('申報【様式２】（共通）'!D20=\"\",\"　\",'申報【様式２】（共通）'!D20)","v":"　"}]
["⑦",{"$f":"IF('申報【様式２】（共通）'!D21=\"\",\"　\",'申報【様式２】（共通）'!D21)","v":"　"}]
["⑧",{"$f":"IF('申報【様式２】（共通）'!D22=\"\",\"　\",'申報【様式２】（共通）'!D22)","v":"　"}]
["⑨",{"$f":"IF('申報【様式２】（共通）'!D23=\"\",\"　\",'申報【様式２】（共通）'!D23)","v":"　"}]
["⑩",{"$f":"IF('申報【様式２】（共通）'!D24=\"\",\"　\",'申報【様式２】（共通）'!D24)","v":"　"}]
["⑪",{"$f":"IF('申報【様式２】（共通）'!D25=\"\",\"　\",'申報【様式２】（共通）'!D25)","v":"　"}]
["⑫",{"$f":"IF('申報【様式２】（共通）'!D26=\"\",\"　\",'申報【様式２】（共通）'!D26)","v":"　"}]
["⑬",{"$f":"IF('申報【様式２】（共通）'!D27=\"\",\"　\",'申報【様式２】（共通）'!D27)","v":"　"}]
["⑭",{"$f":"IF('申報【様式２】（共通）'!D28=\"\",\"　\",'申報【様式２】（共通）'!D28)","v":"　"}]
["⑮",{"$f":"IF('申報【様式２】（共通）'!D29=\"\",\"　\",'申報【様式２】（共通）'!D29)","v":"　"}]
["講師",null,null,null,null,null,{"$f":"COUNTIF(G$23:H$37,$A$38)","v":0},null,{"$f":"COUNTIF(I$23:J$37,$A$38)","v":0},null,{"$f":"COUNTIF(K$23:L$37,$A$38)","v":0},null,{"$f":"COUNTIF(M$23:N$37,$A$38)","v":0},null,{"$f":"COUNTIF(O$23:P$37,$A$38)","v":0},null,{"$f":"COUNTIF(Q$23:R$37,$A$38)","v":0},null,{"$f":"COUNTIF(S$23:T$37,$A$38)","v":0},null,{"$f":"COUNTIF(U$23:V$37,$A$38)","v":0},null,{"$f":"COUNTIF(W$23:X$37,$A$38)","v":0},null,{"$f":"COUNTIF(Y$23:Z$37,$A$38)","v":0},null,{"$f":"COUNTIF(AA$23:AB$37,$A$38)","v":0},null,{"$f":"COUNTIF(AC$23:AD$37,$A$38)","v":0}]
["補助者",null,null,null,null,null,{"$f":"COUNTIF(G$23:H$37,\"実技\")+COUNTIF(G$23:H$37,\"単労\")","v":0},null,{"$f":"COUNTIF(I$23:J$37,\"実技\")+COUNTIF(I$23:J$37,\"単労\")","v":0},null,{"$f":"COUNTIF(K$23:L$37,\"実技\")+COUNTIF(K$23:L$37,\"単労\")","v":0},null,{"$f":"COUNTIF(M$23:N$37,\"実技\")+COUNTIF(M$23:N$37,\"単労\")","v":0},null,{"$f":"COUNTIF(O$23:P$37,\"実技\")+COUNTIF(O$23:P$37,\"単労\")","v":0},null,{"$f":"COUNTIF(Q$23:R$37,\"実技\")+COUNTIF(Q$23:R$37,\"単労\")","v":0},null,{"$f":"COUNTIF(S$23:T$37,\"実技\")+COUNTIF(S$23:T$37,\"単労\")","v":0},null,{"$f":"COUNTIF(U$23:V$37,\"実技\")+COUNTIF(U$23:V$37,\"単労\")","v":0},null,{"$f":"COUNTIF(W$23:X$37,\"実技\")+COUNTIF(W$23:X$37,\"単労\")","v":0},null,{"$f":"COUNTIF(Y$23:Z$37,\"実技\")+COUNTIF(Y$23:Z$37,\"単労\")","v":0},null,{"$f":"COUNTIF(AA$23:AB$37,\"実技\")+COUNTIF(AA$23:AB$37,\"単労\")","v":0},null,{"$f":"COUNTIF(AC$23:AD$37,\"実技\")+COUNTIF(AC$23:AD$37,\"単労\")","v":0}]
["被派遣者計",null,null,null,null,null,{"$f":"SUM(G38:H39)","v":0},null,{"$f":"SUM(I38:J39)","v":0},null,{"$f":"SUM(K38:L39)","v":0},null,{"$f":"SUM(M38:N39)","v":0},null,{"$f":"SUM(O38:P39)","v":0},null,{"$f":"SUM(Q38:R39)","v":0},null,{"$f":"SUM(S38:T39)","v":0},null,{"$f":"SUM(U38:V39)","v":0},null,{"$f":"SUM(W38:X39)","v":0},null,{"$f":"SUM(Y38:Z39)","v":0},null,{"$f":"SUM(AA38:AB39)","v":0},null,{"$f":"SUM(AC38:AD39)","v":0}]
["様式5",null,null,null,null,null,null,null,null,null,null,null,null,null,null,null,null,null,null,null,null,null,null,null,null,null,null,null,null,"c(2/4)"]
["都道府県・政令指定都市",null,null,null,null,null,null,{"$f":"IF($E$4=\"\",\"\",$E$4)","v":""},null,null,null,null,null,null,"実施校名",null,null,null,null,{"$f":"IF($E$7=\"\",\"\",$E$7)","v":""}]
[]
["第１回","実施日時",null,null,null,null,null,null,null,null,null,null,null,null,null,"実施時間",null,null,null,null,null,null,null,null,"実施\n合計",null,null,null,"分"]
[null,"教科の\n位置付け",null,null,null,null,null,null,null,null,null,null,null,null,null,{"$f":"IFERROR(VLOOKUP(E45,選択肢!$Y$2:$Z$6,2,FALSE),\"\")","v":""}]
[null,"参加\n児童生徒",null,null,"合計",null,null,null,null,"人",null,"参加児童\n生徒単位"]
[null,null,null,null,null,null,null,null,null,null,null,null,null,null,null,{"$f":"IFERROR(VLOOKUP(P46,選択肢!$AE$3:$AF$5,2,FALSE),\"\")","v":""}]
[null,"実施内容"]
["第２回","実施日時",null,null,null,null,null,null,null,null,null,null,null,null,null,"実施時間",null,null,null,null,null,null,null,null,"実施\n合計",null,null,null,"分"]
[null,"教科の\n位置付け",null,null,null,null,null,null,null,null,null,null,null,null,null,{"$f":"IFERROR(VLOOKUP(E50,選択肢!$Y$2:$Z$6,2,FALSE),\"\")","v":""}]
[null,"参加\n児童生徒",null,null,"合計",null,null,null,null,"人",null,"参加児童\n生徒単位"]
[null,null,null,null,null,null,null,null,null,null,null,null,null,null,null,{"$f":"IFERROR(VLOOKUP(P51,選択肢!$AE$3:$AF$5,2,FALSE),\"\")","v":""}]
[null,"実施内容"]
["第３回","実施日時",null,null,null,null,null,null,null,null,null,null,null,null,null,"実施時間",null,null,null,null,null,null,null,null,"実施\n合計",null,null,null,"分"]
[null,"教科の\n位置付け",null,null,null,null,null,null,null,null,null,null,null,null,null,{"$f":"IFERROR(VLOOKUP(E55,選択肢!$Y$2:$Z$6,2,FALSE),\"\")","v":""}]
[null,"参加\n児童生徒",null,null,"合計",null,null,null,null,"人",null,"参加児童\n生徒単位"]
[null,null,null,null,null,null,null,null,null,null,null,null,null,null,null,{"$f":"IFERROR(VLOOKUP(P56,選択肢!$AE$3:$AF$5,2,FALSE),\"\")","v":""}]
[null,"実施内容"]
["第４回","実施日時",null,null,null,null,null,null,null,null,null,null,null,null,null,"実施時間",null,null,null,null,null,null,null,null,"実施\n合計",null,null,null,"分"]
[null,"教科の\n位置付け",null,null,null,null,null,null,null,null,null,null,null,null,null,{"$f":"IFERROR(VLOOKUP(E60,選択肢!$Y$2:$Z$6,2,FALSE),\"\")","v":""}]
[null,"参加\n児童生徒",null,null,"合計",null,null,null,null,"人",null,"参加児童\n生徒単位"]
[null,null,null,null,null,null,null,null,null,null,null,null,null,null,null,{"$f":"IFERROR(VLOOKUP(P61,選択肢!$AE$3:$AF$5,2,FALSE),\"\")","v":""}]
[null,"実施内容"]
["第５回","実施日時",null,null,null,null,null,null,null,null,null,null,null,null,null,"実施時間",null,null,null,null,null,null,null,null,"実施\n合計",null,null,null,"分"]
[null,"教科の\n位置付け",null,null,null,null,null,null,null,null,null,null,null,null,null,{"$f":"IFERROR(VLOOKUP(E65,選択肢!$Y$2:$Z$6,2,FALSE),\"\")","v":""}]
[null,"参加\n児童生徒",null,null,"合計",null,null,null,null,"人",null,"参加児童\n生徒単位"]
[null,null,null,null,null,null,null,null,null,null,null,null,null,null,null,{"$f":"IFERROR(VLOOKUP(P66,選択肢!$AE$3:$AF$5,2,FALSE),\"\")","v":""}]
[null,"実施内容"]
["様式5",null,null,null,null,null,null,null,null,null,null,null,null,null,null,null,null,null,null,null,null,null,null,null,null,null,null,null,null,"c(3/4)"]
["都道府県・政令指定都市",null,null,null,null,null,null,{"$f":"IF($E$4=\"\",\"\",$E$4)","v":""},null,null,null,null,null,null,"実施校名",null,null,null,null,{"$f":"IF($E$7=\"\",\"\",$E$7)","v":""}]
[]
["第６回","実施日時",null,null,null,null,null,null,null,null,null,null,null,null,null,"実施時間",null,null,null,null,null,null,null,null,"実施\n合計",null,null,null,"分"]
[null,"教科の\n位置付け",null,null,null,null,null,null,null,null,null,null,null,null,null,{"$f":"IFERROR(VLOOKUP(E73,選択肢!$Y$2:$Z$6,2,FALSE),\"\")","v":""}]
[null,"参加\n児童生徒",null,null,"合計",null,null,null,null,"人",null,"参加児童\n生徒単位"]
[null,null,null,null,null,null,null,null,null,null,null,null,null,null,null,{"$f":"IFERROR(VLOOKUP(P74,選択肢!$AE$3:$AF$5,2,FALSE),\"\")","v":""}]
[null,"実施内容"]
["第７回","実施日時",null,null,null,null,null,null,null,null,null,null,null,null,null,"実施時間",null,null,null,null,null,null,null,null,"実施\n合計",null,null,null,"分"]
[null,"教科の\n位置付け",null,null,null,null,null,null,null,null,null,null,null,null,null,{"$f":"IFERROR(VLOOKUP(E78,選択肢!$Y$2:$Z$6,2,FALSE),\"\")","v":""}]
[null,"参加\n児童生徒",null,null,"合計",null,null,null,null,"人",null,"参加児童\n生徒単位"]
[null,null,null,null,null,null,null,null,null,null,null,null,null,null,null,{"$f":"IFERROR(VLOOKUP(P79,選択肢!$AE$3:$AF$5,2,FALSE),\"\")","v":""}]
[null,"実施内容"]
["第８回","実施日時",null,null,null,null,null,null,null,null,null,null,null,null,null,"実施時間",null,null,null,null,null,null,null,null,"実施\n合計",null,null,null,"分"]
[null,"教科の\n位置付け",null,null,null,null,null,null,null,null,null,null,null,null,null,{"$f":"IFERROR(VLOOKUP(E83,選択肢!$Y$2:$Z$6,2,FALSE),\"\")","v":""}]
[null,"参加\n児童生徒",null,null,"合計",null,null,null,null,"人",null,"参加児童\n生徒単位"]
[null,null,null,null,null,null,null,null,null,null,null,null,null,null,null,{"$f":"IFERROR(VLOOKUP(P84,選択肢!$AE$3:$AF$5,2,FALSE),\"\")","v":""}]
[null,"実施内容"]
["第９回","実施日時",null,null,null,null,null,null,null,null,null,null,null,null,null,"実施時間",null,null,null,null,null,null,null,null,"実施\n合計",null,null,null,"分"]
[null,"教科の\n位置付け",null,null,null,null,null,null,null,null,null,null,null,null,null,{"$f":"IFERROR(VLOOKUP(E88,選択肢!$Y$2:$Z$6,2,FALSE),\"\")","v":""}]
[null,"参加\n児童生徒",null,null,"合計",null,null,null,null,"人",null,"参加児童\n生徒単位"]
[null,null,null,null,null,null,null,null,null,null,null,null,null,null,null,{"$f":"IFERROR(VLOOKUP(P89,選択肢!$AE$3:$AF$5,2,FALSE),\"\")","v":""}]
[null,"実施内容"]
["第１０回","実施日時",null,null,null,null,null,null,null,null,null,null,null,null,null,"実施時間",null,null,null,null,null,null,null,null,"実施\n合計",null,null,null,"分"]
[null,"教科の\n位置付け",null,null,null,null,null,null,null,null,null,null,null,null,null,{"$f":"IFERROR(VLOOKUP(E93,選択肢!$Y$2:$Z$6,2,FALSE),\"\")","v":""}]
[null,"参加\n児童生徒",null,null,"合計",null,null,null,null,"人",null,"参加児童\n生徒単位"]
[null,null,null,null,null,null,null,null,null,null,null,null,null,null,null,{"$f":"IFERROR(VLOOKUP(P94,選択肢!$AE$3:$AF$5,2,FALSE),\"\")","v":""}]
[null,"実施内容"]
["様式5",null,null,null,null,null,null,null,null,null,null,null,null,null,null,null,null,null,null,null,null,null,null,null,null,null,null,null,null,"c(4/4)"]
["都道府県・政令指定都市",null,null,null,null,null,null,{"$f":"IF($E$4=\"\",\"\",$E$4)","v":""},null,null,null,null,null,null,"実施校名",null,null,null,null,{"$f":"IF($E$7=\"\",\"\",$E$7)","v":""}]
[]
["第１１回","実施日時",null,null,null,null,null,null,null,null,null,null,null,null,null,"実施時間",null,null,null,null,null,null,null,null,"実施\n合計",null,null,null,"分"]
[null,"教科の\n位置付け",null,null,null,null,null,null,null,null,null,null,null,null,null,{"$f":"IFERROR(VLOOKUP(E101,選択肢!$Y$2:$Z$6,2,FALSE),\"\")","v":""}]
[null,"参加\n児童生徒",null,null,"合計",null,null,null,null,"人",null,"参加児童\n生徒単位"]
[null,null,null,null,null,null,null,null,null,null,null,null,null,null,null,{"$f":"IFERROR(VLOOKUP(P102,選択肢!$AE$3:$AF$5,2,FALSE),\"\")","v":""}]
[null,"実施内容"]
["第１２回","実施日時",null,null,null,null,null,null,null,null,null,null,null,null,null,"実施時間",null,null,null,null,null,null,null,null,"実施\n合計",null,null,null,"分"]
[null,"教科の\n位置付け",null,null,null,null,null,null,null,null,null,null,null,null,null,{"$f":"IFERROR(VLOOKUP(E106,選択肢!$Y$2:$Z$6,2,FALSE),\"\")","v":""}]
[null,"参加\n児童生徒",null,null,"合計",null,null,null,null,"人",null,"参加児童\n生徒単位"]
[null,null,null,null,null,null,null,null,null,null,null,null,null,null,null,{"$f":"IFERROR(VLOOKUP(P107,選択肢!$AE$3:$AF$5,2,FALSE),\"\")","v":""}]
[null,"実施内容"]
["※様式の枠内に収まらない場合は、別紙を作成し添付してください。"]
["※本事業で得た個人情報は、本事業内のみで使用します。"]
["※本事業の専用ウェブページにあるに同意していただいたものとします。"]
["様式6"]
["令和5年度文化芸術による子供育成推進事業（コミュニケーション能力向上事業） 経費計画書"]
[]
[null,null,null,null,null,null,null,null,null,null,null,null,null,null,null,null,null,"都道府県・政令指定都市",null,null,null,null,null,{"$f":"IF(E4=\"\",\"\",E4)","v":""}]
[null,null,null,null,null,null,null,null,null,null,null,null,null,null,null,null,null,"実施校名",null,null,{"$f":"IF(E7=\"\",\"\",E7)","v":""}]
[]
["実施日",null,null,null,null,null,"第１回",null,null,null,"第２回",null,null,null,"第３回",null,null,null,"第４回",null,null,null,"第５回",null,null,null,"第６回"]
[null,null,null,null,null,null,{"$f":"IF(E44=\"\",\"\",E44)","v":""},null,null,null,{"$f":"IF(E49=\"\",\"\",E49)","v":""},null,null,null,{"$f":"IF(E54=\"\",\"\",E54)","v":""},null,null,null,{"$f":"IF(E59=\"\",\"\",E59)","v":""},null,null,null,{"$f":"IF(E64=\"\",\"\",E64)","v":""},null,null,null,{"$f":"IF(E72=\"\",\"\",E72)","v":""}]
[null,null,null,null,null,null,"第7回",null,null,null,"第8回",null,null,null,"第9回",null,null,null,"第10回",null,null,null,"第11回",null,null,null,"第12回"]
[null,null,null,null,null,null,{"$f":"IF(E77=\"\",\"\",E77)","v":""},null,null,null,{"$f":"IF(E82=\"\",\"\",E82)","v":""},null,null,null,{"$f":"IF(E87=\"\",\"\",E87)","v":""},null,null,null,{"$f":"IF(E92=\"\",\"\",E92)","v":""},null,null,null,{"$f":"IF(E100=\"\",\"\",E100)","v":""},null,null,null,{"$f":"IF(E105=\"\",\"\",E105)","v":""}]
[]
["【謝金・旅費】",null,null,null,null,null,"※補助者氏名が自動反映されない場合は、氏名欄の▼プルダウンリストから選択してください。"]
["種別",null,null,null,null,null,"氏名　※本名",null,null,null,null,null,"謝金（a）",null,null,null,null,null,"旅費（ｂ）",null,null,null,null,null,"合計"]
["被派遣者①",null,null,null,null,null,{"$f":"B23","v":"　"},null,null,null,null,null,{"$f":"IF(G126=\"\",\"\",VLOOKUP(G126,'【様式５・６】（コミュ）計算シート'!B:C,2,FALSE))","v":0},null,null,null,null,"円",null,null,null,null,null,"円",{"$f":"IFERROR(M126+S126,0)","v":0},null,null,null,null,"円"]
["被派遣者②",null,null,null,null,null,"　",null,null,null,null,null,{"$f":"IF(G127=\"\",\"\",VLOOKUP(G127,'【様式５・６】（コミュ）計算シート'!B:C,2,FALSE))","v":0},null,null,null,null,"円",null,null,null,null,null,"円",0,null,null,null,null,"円"]
["被派遣者③",null,null,null,null,null,"　",null,null,null,null,null,{"$f":"IF(G128=\"\",\"\",VLOOKUP(G128,'【様式５・６】（コミュ）計算シート'!B:C,2,FALSE))","v":0},null,null,null,null,"円",null,null,null,null,null,"円",0,null,null,null,null,"円"]
["被派遣者④",null,null,null,null,null,"　",null,null,null,null,null,{"$f":"IF(G129=\"\",\"\",VLOOKUP(G129,'【様式５・６】（コミュ）計算シート'!B:C,2,FALSE))","v":0},null,null,null,null,"円",null,null,null,null,null,"円",0,null,null,null,null,"円"]
["被派遣者⑤",null,null,null,null,null,"　",null,null,null,null,null,{"$f":"IF(G130=\"\",\"\",VLOOKUP(G130,'【様式５・６】（コミュ）計算シート'!B:C,2,FALSE))","v":0},null,null,null,null,"円",null,null,null,null,null,"円",0,null,null,null,null,"円"]
["被派遣者⑥",null,null,null,null,null,"　",null,null,null,null,null,{"$f":"IF(G131=\"\",\"\",VLOOKUP(G131,'【様式５・６】（コミュ）計算シート'!B:C,2,FALSE))","v":0},null,null,null,null,"円",null,null,null,null,null,"円",0,null,null,null,null,"円"]
["被派遣者⑦",null,null,null,null,null,"　",null,null,null,null,null,{"$f":"IF(G132=\"\",\"\",VLOOKUP(G132,'【様式５・６】（コミュ）計算シート'!B:C,2,FALSE))","v":0},null,null,null,null,"円",null,null,null,null,null,"円",0,null,null,null,null,"円"]
["被派遣者⑧",null,null,null,null,null,"　",null,null,null,null,null,{"$f":"IF(G133=\"\",\"\",VLOOKUP(G133,'【様式５・６】（コミュ）計算シート'!B:C,2,FALSE))","v":0},null,null,null,null,"円",null,null,null,null,null,"円",0,null,null,null,null,"円"]
["被派遣者⑨",null,null,null,null,null,"　",null,null,null,null,null,{"$f":"IF(G134=\"\",\"\",VLOOKUP(G134,'【様式５・６】（コミュ）計算シート'!B:C,2,FALSE))","v":0},null,null,null,null,"円",null,null,null,null,null,"円",0,null,null,null,null,"円"]
["被派遣者⑩",null,null,null,null,null,"　",null,null,null,null,null,{"$f":"IF(G135=\"\",\"\",VLOOKUP(G135,'【様式５・６】（コミュ）計算シート'!B:C,2,FALSE))","v":0},null,null,null,null,"円",null,null,null,null,null,"円",0,null,null,null,null,"円"]
["被派遣者⑪",null,null,null,null,null,"　",null,null,null,null,null,{"$f":"IF(G136=\"\",\"\",VLOOKUP(G136,'【様式５・６】（コミュ）計算シート'!B:C,2,FALSE))","v":0},null,null,null,null,"円",null,null,null,null,null,"円",0,null,null,null,null,"円"]
["被派遣者⑫",null,null,null,null,null,"　",null,null,null,null,null,{"$f":"IF(G137=\"\",\"\",VLOOKUP(G137,'【様式５・６】（コミュ）計算シート'!B:C,2,FALSE))","v":0},null,null,null,null,"円",null,null,null,null,null,"円",0,null,null,null,null,"円"]
["被派遣者⑬",null,null,null,null,null,"　",null,null,null,null,null,{"$f":"IF(G138=\"\",\"\",VLOOKUP(G138,'【様式５・６】（コミュ）計算シート'!B:C,2,FALSE))","v":0},null,null,null,null,"円",null,null,null,null,null,"円",0,null,null,null,null,"円"]
["被派遣者⑭",null,null,null,null,null,"　",null,null,null,null,null,{"$f":"IF(G139=\"\",\"\",VLOOKUP(G139,'【様式５・６】（コミュ）計算シート'!B:C,2,FALSE))","v":0},null,null,null,null,"円",null,null,null,null,null,"円",0,null,null,null,null,"円"]
["被派遣者⑮",null,null,null,null,null,"　",null,null,null,null,null,{"$f":"IF(G140=\"\",\"\",VLOOKUP(G140,'【様式５・６】（コミュ）計算シート'!B:C,2,FALSE))","v":0},null,null,null,null,"円",null,null,null,null,null,"円",0,null,null,null,null,"円"]
["謝金合計（ａ）＋旅費合計（ｂ）",null,null,null,null,null,null,null,null,null,null,null,{"$f":"SUM(M126:Q140)","v":0},null,null,null,null,"円",{"$f":"SUM(S126:W140)","v":0},null,null,null,null,"円",{"$f":"SUM(Y126:AC140)","v":0},null,null,null,null,"円"]
["※講師謝金は1回あたり35,650円で自動計算・反映されます。"]
["※補助者謝金は1時間当たり　実技指導5,200円、単純労務1,070円　で自動計算・反映されます。"]
["※被派遣者毎に、【様式7】旅費計算書の合計金額を記入してください。"]
["※旅費が0円の場合も記入してください。"]
[]
["【講演等諸雑費】"]
["種別",null,null,null,null,null,"項目または業者名",null,null,null,null,null,"単価",null,null,null,null,null,"数量",null,null,null,"（単位）",null,"合計"]
[null,null,null,null,null,null,null,null,null,null,null,null,null,null,null,null,null,"円",null,null,null,null,null,null,{"$f":"M149*S149","v":0},null,null,null,null,"円"]
[null,null,null,null,null,null,null,null,null,null,null,null,null,null,null,null,null,"円",null,null,null,null,null,null,0,null,null,null,null,"円"]
[null,null,null,null,null,null,null,null,null,null,null,null,null,null,null,null,null,"円",null,null,null,null,null,null,0,null,null,null,null,"円"]
[null,null,null,null,null,null,null,null,null,null,null,null,null,null,null,null,null,"円",null,null,null,null,null,null,0,null,null,null,null,"円"]
[null,null,null,null,null,null,null,null,null,null,null,null,null,null,null,null,null,"円",null,null,null,null,null,null,0,null,null,null,null,"円"]
[null,null,null,null,null,null,null,null,null,null,null,null,null,null,null,null,null,"円",null,null,null,null,null,null,0,null,null,null,null,"円"]
[null,null,null,null,null,null,null,null,null,null,null,null,null,null,null,null,null,"円",null,null,null,null,null,null,0,null,null,null,null,"円"]
["講演等諸雑費合計（ｃ）",null,null,null,null,null,null,null,null,null,null,null,null,null,null,null,null,null,null,null,null,null,null,null,{"$f":"SUM(Y149:AC155)","v":0},null,null,null,null,"円",null,{"$f":"IF(SUMIF(A149:F155,\"<>感染症対策費\",Y149:AC155)>150000,\"諸雑費の上限金額を超えています。\",\"\")","v":""}]
["※種別：「運搬費」「消耗品」「レンタル費」「著作権使用料」「感染症対策費」のいずれかを選択してください。"]
["※金額の根拠書類（業者からの見積書）を添付してください。"]
["※決定通知以降の項目変更や、見積業者からの変更は認められません。"]
[]
["総合計（ａ＋ｂ＋ｃ）",null,null,null,null,null,null,null,null,null,null,null,null,null,null,null,null,null,{"$f":"Y141+Y156","v":0},null,null,null,null,null,null,null,null,"円"]
["※本事業で得た個人情報は、本事業内のみで使用します。"]
["※本事業の専用ウェブページにあるに同意していただいたものとします。"]

{"sheet":"報【様式１１・１２】 （コミュ）","index":9,"n_rows":188,"n_cols":30,"rows_kept":188,"cut":false,"hidden":true,"merged":[[34,22,34,23],[34,24,34,25],[34,26,34,27],[34,28,34,29],[33,0,35,3],[33,4,33,5],[34,4,34,5],[35,4,35,5],[33,22,33,23],[33,24,33,25],[35,22,35,23],[35,24,35,25],[35,26,35,27],[35,28,35,29],[34,6,34,7],[34,8,34,9],[34,10,34,11],[34,12,34,13],[34,14,34,15],[35,6,35,7],[35,8,35,9],[35,10,35,11],[35,12,35,13],[35,14,35,15],[187,0,187,23],[187,24,187,28],[185,21,185,23],[185,24,185,28],[186,0,186,3],[186,4,186,8],[186,9,186,12],[186,14,186,15],[186,16,186,17],[186,18,186,20],[186,21,186,23],[186,24,186,28],[185,0,185,3],[185,4,185,8],[185,9,185,12],[185,14,185,15],[185,16,185,17],[185,18,185,20],[183,21,183,23],[183,24,183,28],[184,0,184,3],[184,4,184,8],[184,9,184,12],[184,14,184,15],[184,16,184,17],[184,18,184,20],[184,21,184,23],[184,24,184,28],[183,0,183,3],[183,4,183,8],[183,9,183,12],[183,14,183,15],[183,16,183,17],[183,18,183,20],[182,0,182,3],[182,4,182,8],[182,9,182,12],[182,14,182,15],[182,16,182,17],[182,18,182,20],[182,21,182,23],[182,24,182,28],[181,0,181,3],[181,4,181,8],[181,9,181,12],[181,14,181,15],[181,16,181,17],[181,18,181,20],[180,0,180,3],[180,4,180,8],[180,9,180,12],[180,14,180,15],[180,16,180,17],[180,18,180,20],[180,21,180,23],[180,24,180,28],[181,21,181,23],[181,24,181,28],[176,0,176,12],[176,13,176,15],[176,17,176,29],[179,0,179,3],[179,4,179,8],[179,9,179,13],[179,14,179,15],[179,16,179,17],[179,18,179,20],[179,21,179,23],[179,24,179,29],[174,3,174,8],[174,9,174,11],[174,13,174,15],[174,17,174,18],[174,19,174,29],[175,3,175,8],[175,9,175,11],[175,13,175,15],[175,17,175,18],[175,19,175,29],[172,3,172,8],[172,9,172,11],[172,13,172,15],[172,17,172,18],[172,19,172,29],[173,3,173,8],[173,9,173,11],[173,13,173,15],[173,17,173,18],[173,19,173,29],[170,3,170,8],[170,9,170,11],[170,13,170,15],[170,17,170,18],[170,19,170,29],[171,3,171,8],[171,9,171,11],[171,13,171,15],[171,17,171,18],[171,19,171,29],[168,3,168,8],[168,9,168,11],[168,13,168,15],[168,17,168,18],[168,19,168,29],[169,3,169,8],[169,9,169,11],[169,13,169,15],[169,17,169,18],[169,19,169,29],[165,17,165,18],[165,19,165,29],[166,3,166,8],[166,9,166,11],[166,13,166,15],[166,17,166,18],[166,19,166,29],[167,3,167,8],[167,9,167,11],[167,13,167,15],[167,17,167,18],[167,19,167,29],[162,19,162,29],[163,3,163,8],[163,9,163,11],[163,13,163,15],[163,17,163,18],[163,19,163,29],[161,0,175,1],[161,3,161,8],[161,9,161,11],[161,13,161,15],[161,17,161,18],[161,19,161,29],[162,3,162,8],[162,9,162,11],[162,13,162,15],[162,17,162,18],[164,3,164,8],[164,9,164,11],[164,13,164,15],[164,17,164,18],[164,19,164,29],[165,3,165,8],[165,9,165,11],[165,13,165,15],[160,0,160,2],[160,3,160,8],[160,9,160,12],[160,13,160,16],[160,17,160,18],[160,19,160,29],[156,0,156,17],[156,18,156,22],[156,24,156,29],[158,13,158,29],[159,0,159,16],[159,17,159,22],[159,24,159,29],[155,0,155,5],[155,6,155,11],[155,12,155,14],[155,15,155,17],[155,18,155,22],[155,24,155,27],[154,0,154,5],[154,6,154,11],[154,12,154,14],[154,15,154,17],[154,18,154,22],[154,24,154,27],[153,0,153,5],[153,6,153,11],[153,12,153,14],[153,15,153,17],[153,18,153,22],[153,24,153,27],[152,0,152,5],[152,6,152,11],[152,12,152,14],[152,15,152,17],[152,18,152,22],[152,24,152,27],[151,0,151,5],[151,6,151,11],[151,12,151,14],[151,15,151,17],[151,18,151,22],[151,24,151,27],[150,0,150,5],[150,6,150,11],[150,12,150,14],[150,15,150,17],[150,18,150,22],[150,24,150,27],[149,0,149,5],[149,6,149,11],[149,12,149,14],[149,15,149,17],[149,18,149,22],[149,24,149,27],[148,0,148,5],[148,6,148,11],[148,12,148,14],[148,15,148,17],[148,18,148,22],[148,24,148,27],[147,0,147,5],[147,6,147,11],[147,12,147,14],[147,15,147,17],[147,18,147,22],[147,24,147,27],[146,0,146,5],[146,6,146,11],[146,12,146,14],[146,15,146,17],[146,18,146,22],[146,24,146,27],[145,0,145,5],[145,6,145,11],[145,12,145,14],[145,15,145,17],[145,18,145,22],[145,24,145,27],[144,0,144,5],[144,6,144,11],[144,12,144,14],[144,15,144,17],[144,18,144,22],[144,24,144,27],[143,0,143,5],[143,6,143,11],[143,12,143,14],[143,15,143,17],[143,18,143,22],[143,24,143,27],[142,0,142,5],[142,6,142,11],[142,12,142,14],[142,15,142,17],[142,18,142,22],[142,24,142,27],[141,0,141,5],[141,6,141,11],[141,12,141,14],[141,15,141,17],[141,18,141,22],[141,24,141,27],[139,6,139,29],[140,0,140,5],[140,6,140,11],[140,12,140,14],[140,15,140,17],[140,18,140,23],[140,24,140,29],[136,1,136,5],[136,6,136,10],[136,13,136,16],[136,18,136,22],[137,0,137,5],[137,6,137,10],[137,12,137,16],[137,18,137,22],[134,1,134,5],[134,6,134,10],[134,13,134,16],[134,18,134,22],[135,1,135,5],[135,6,135,10],[135,13,135,16],[135,18,135,22],[132,0,132,5],[132,6,132,23],[133,0,133,5],[133,6,133,11],[133,12,133,17],[133,18,133,23],[130,6,130,9],[130,10,130,13],[130,14,130,17],[130,18,130,21],[130,22,130,25],[124,17,124,22],[124,23,124,29],[125,17,125,19],[125,20,125,29],[127,0,130,5],[127,6,127,9],[127,10,127,13],[127,14,127,17],[127,18,127,21],[127,22,127,25],[130,26,130,29],[129,6,129,9],[129,10,129,13],[129,14,129,17],[129,18,129,21],[129,22,129,25],[129,26,129,29],[127,26,127,29],[128,6,128,9],[128,10,128,13],[128,14,128,17],[128,18,128,21],[128,22,128,25],[128,26,128,29],[121,0,121,2],[121,25,121,29],[122,0,122,29],[123,0,123,29],[117,1,118,3],[117,4,118,5],[117,6,118,8],[117,9,118,10],[117,11,118,14],[117,15,117,29],[118,15,118,17],[118,18,118,29],[115,0,119,0],[115,26,115,27],[115,28,115,29],[116,1,116,3],[116,4,116,14],[116,15,116,17],[116,18,116,29],[113,18,113,29],[114,1,114,3],[114,4,114,29],[115,1,115,3],[115,4,115,14],[115,15,115,17],[115,18,115,23],[115,24,115,25],[119,1,119,3],[119,4,119,29],[110,0,114,0],[110,1,110,3],[110,4,110,14],[110,15,110,17],[110,18,110,23],[110,24,110,25],[110,26,110,27],[110,28,110,29],[107,0,107,2],[108,0,108,6],[108,7,108,13],[108,14,108,18],[108,19,108,29],[111,1,111,3],[111,4,111,14],[111,15,111,17],[111,18,111,29],[112,1,113,3],[112,4,113,5],[112,6,113,8],[112,9,113,10],[112,11,113,14],[112,15,112,29],[113,15,113,17],[101,4,101,29],[102,0,106,0],[102,1,102,3],[102,4,102,14],[102,15,102,17],[102,18,102,23],[102,24,102,25],[104,1,105,3],[104,4,105,5],[104,6,105,8],[104,9,105,10],[104,11,105,14],[104,15,104,29],[105,15,105,17],[105,18,105,29],[102,26,102,27],[102,28,102,29],[103,1,103,3],[103,4,103,14],[103,15,103,17],[103,18,103,29],[106,1,106,3],[106,4,106,29],[93,18,93,29],[96,1,96,3],[96,4,96,29],[97,0,101,0],[97,1,97,3],[97,4,97,14],[97,15,97,17],[97,18,97,23],[97,24,97,25],[97,26,97,27],[97,28,97,29],[98,1,98,3],[98,4,98,14],[98,15,98,17],[98,18,98,29],[99,1,100,3],[99,4,100,5],[99,6,100,8],[99,9,100,10],[99,11,100,14],[99,15,99,29],[100,15,100,17],[100,18,100,29],[101,1,101,3],[79,0,79,2],[80,0,80,6],[80,7,80,13],[80,14,80,18],[80,19,80,29],[92,0,96,0],[92,1,92,3],[92,4,92,14],[92,15,92,17],[92,18,92,23],[94,1,95,3],[94,4,95,5],[94,6,95,8],[94,9,95,10],[94,11,95,14],[94,15,94,29],[95,15,95,17],[95,18,95,29],[92,24,92,25],[92,26,92,27],[92,28,92,29],[93,1,93,3],[93,4,93,14],[93,15,93,17],[87,0,91,0],[87,1,87,3],[87,4,87,14],[87,15,87,17],[87,18,87,23],[87,24,87,25],[89,1,90,3],[89,4,90,5],[89,6,90,8],[89,9,90,10],[89,11,90,14],[89,15,89,29],[90,15,90,17],[90,18,90,29],[91,1,91,3],[91,4,91,29],[87,26,87,27],[87,28,87,29],[88,1,88,3],[88,4,88,14],[88,15,88,17],[88,18,88,29],[82,0,86,0],[82,1,82,3],[82,4,82,14],[82,15,82,17],[82,18,82,23],[82,24,82,25],[84,1,85,3],[84,4,85,5],[84,6,85,8],[84,9,85,10],[84,11,85,14],[84,15,84,29],[85,15,85,17],[85,18,85,29],[86,1,86,3],[86,4,86,29],[82,26,82,27],[82,28,82,29],[83,1,83,3],[83,4,83,14],[83,15,83,17],[83,18,83,29],[74,0,78,0],[74,1,74,3],[74,4,74,14],[74,15,74,17],[74,18,74,23],[74,24,74,25],[76,1,77,3],[76,4,77,5],[76,6,77,8],[76,9,77,10],[76,11,77,14],[76,15,76,29],[77,15,77,17],[77,18,77,29],[78,1,78,3],[78,4,78,29],[74,26,74,27],[74,28,74,29],[75,1,75,3],[75,4,75,14],[75,15,75,17],[75,18,75,29],[69,0,73,0],[69,1,69,3],[69,4,69,14],[69,15,69,17],[69,18,69,23],[69,24,69,25],[71,1,72,3],[71,4,72,5],[71,6,72,8],[71,9,72,10],[71,11,72,14],[71,15,71,29],[72,15,72,17],[72,18,72,29],[73,1,73,3],[73,4,73,29],[69,26,69,27],[69,28,69,29],[70,1,70,3],[70,4,70,14],[70,15,70,17],[70,18,70,29],[64,0,68,0],[64,1,64,3],[64,4,64,14],[64,15,64,17],[64,18,64,23],[64,24,64,25],[66,1,67,3],[66,4,67,5],[66,6,67,8],[66,9,67,10],[66,11,67,14],[66,15,66,29],[67,15,67,17],[67,18,67,29],[68,1,68,3],[68,4,68,29],[64,26,64,27],[64,28,64,29],[65,1,65,3],[65,4,65,14],[65,15,65,17],[65,18,65,29],[63,1,63,3],[63,4,63,29],[51,0,51,2],[52,0,52,6],[52,7,52,13],[52,14,52,18],[52,19,52,29],[61,1,62,3],[61,4,62,5],[61,6,62,8],[61,9,62,10],[61,11,62,14],[61,15,61,29],[62,15,62,17],[62,18,62,29],[59,0,63,0],[59,26,59,27],[59,28,59,29],[60,1,60,3],[60,4,60,14],[60,15,60,17],[60,18,60,29],[57,15,57,17],[57,18,57,29],[58,1,58,3],[58,4,58,29],[59,1,59,3],[59,4,59,14],[59,15,59,17],[59,18,59,23],[59,24,59,25],[53,0,53,29],[54,0,58,0],[54,1,54,3],[54,4,54,14],[54,15,54,17],[54,18,54,23],[54,24,54,25],[54,26,54,27],[54,28,54,29],[55,1,55,3],[55,4,55,14],[55,15,55,17],[55,18,55,29],[56,1,57,3],[56,4,57,5],[56,6,57,8],[56,9,57,10],[56,11,57,14],[56,15,56,29],[49,22,49,23],[49,24,49,25],[49,26,49,27],[49,28,49,29],[50,1,50,5],[50,6,50,7],[50,8,50,9],[50,10,50,11],[50,12,50,13],[50,14,50,15],[50,28,50,29],[50,16,50,17],[50,18,50,19],[50,20,50,21],[50,22,50,23],[50,24,50,25],[50,26,50,27],[49,1,49,5],[49,6,49,7],[49,8,49,9],[49,10,49,11],[49,12,49,13],[49,14,49,15],[49,16,49,17],[49,18,49,19],[49,20,49,21],[47,22,47,23],[47,24,47,25],[47,26,47,27],[47,28,47,29],[48,1,48,5],[48,6,48,7],[48,8,48,9],[48,10,48,11],[48,12,48,13],[48,14,48,15],[48,28,48,29],[48,16,48,17],[48,18,48,19],[48,20,48,21],[48,22,48,23],[48,24,48,25],[48,26,48,27],[47,1,47,5],[47,6,47,7],[47,8,47,9],[47,10,47,11],[47,12,47,13],[47,14,47,15],[47,16,47,17],[47,18,47,19],[47,20,47,21],[45,22,45,23],[45,24,45,25],[45,26,45,27],[45,28,45,29],[46,1,46,5],[46,6,46,7],[46,8,46,9],[46,10,46,11],[46,12,46,13],[46,14,46,15],[46,28,46,29],[46,16,46,17],[46,18,46,19],[46,20,46,21],[46,22,46,23],[46,24,46,25],[46,26,46,27],[45,1,45,5],[45,6,45,7],[45,8,45,9],[45,10,45,11],[45,12,45,13],[45,14,45,15],[45,16,45,17],[45,18,45,19],[45,20,45,21],[43,22,43,23],[43,24,43,25],[43,26,43,27],[43,28,43,29],[44,1,44,5],[44,6,44,7],[44,8,44,9],[44,10,44,11],[44,12,44,13],[44,14,44,15],[44,28,44,29],[44,16,44,17],[44,18,44,19],[44,20,44,21],[44,22,44,23],[44,24,44,25],[44,26,44,27],[43,1,43,5],[43,6,43,7],[43,8,43,9],[43,10,43,11],[43,12,43,13],[43,14,43,15],[43,16,43,17],[43,18,43,19],[43,20,43,21],[41,22,41,23],[41,24,41,25],[41,26,41,27],[41,28,41,29],[42,1,42,5],[42,6,42,7],[42,8,42,9],[42,10,42,11],[42,12,42,13],[42,14,42,15],[42,28,42,29],[42,16,42,17],[42,18,42,19],[42,20,42,21],[42,22,42,23],[42,24,42,25],[42,26,42,27],[41,1,41,5],[41,6,41,7],[41,8,41,9],[41,10,41,11],[41,12,41,13],[41,14,41,15],[41,16,41,17],[41,18,41,19],[41,20,41,21],[39,22,39,23],[39,24,39,25],[39,26,39,27],[39,28,39,29],[40,1,40,5],[40,6,40,7],[40,8,40,9],[40,10,40,11],[40,12,40,13],[40,14,40,15],[40,28,40,29],[40,16,40,17],[40,18,40,19],[40,20,40,21],[40,22,40,23],[40,24,40,25],[40,26,40,27],[39,1,39,5],[39,6,39,7],[39,8,39,9],[39,10,39,11],[39,12,39,13],[39,14,39,15],[39,16,39,17],[39,18,39,19],[39,20,39,21],[37,22,37,23],[37,24,37,25],[37,26,37,27],[37,28,37,29],[38,1,38,5],[38,6,38,7],[38,8,38,9],[38,10,38,11],[38,12,38,13],[38,14,38,15],[38,28,38,29],[38,16,38,17],[38,18,38,19],[38,20,38,21],[38,22,38,23],[38,24,38,25],[38,26,38,27],[37,1,37,5],[37,6,37,7],[37,8,37,9],[37,10,37,11],[37,12,37,13],[37,14,37,15],[37,16,37,17],[37,18,37,19],[37,20,37,21],[36,1,36,5],[36,6,36,7],[36,8,36,9],[36,10,36,11],[36,12,36,13],[36,14,36,15],[36,28,36,29],[36,16,36,17],[36,18,36,19],[36,20,36,21],[36,22,36,23],[36,24,36,25],[36,26,36,27],[30,0,30,2],[31,0,31,6],[31,7,31,13],[31,14,31,18],[31,19,31,29],[33,6,33,7],[33,8,33,9],[33,10,33,11],[33,12,33,13],[33,26,33,27],[33,28,33,29],[35,16,35,17],[35,18,35,19],[35,20,35,21],[33,14,33,15],[33,16,33,17],[33,18,33,19],[33,20,33,21],[34,16,34,17],[34,18,34,19],[34,20,34,21],[24,0,24,29],[25,0,25,29],[26,0,26,29],[27,0,27,29],[28,0,28,29],[29,0,29,29],[17,4,17,29],[18,4,18,29],[19,0,19,29],[20,0,20,29],[21,0,21,29],[22,0,22,29],[11,0,11,29],[12,4,12,29],[13,4,13,29],[14,4,14,29],[15,4,15,29],[16,4,16,29],[9,0,9,4],[9,5,9,14],[9,15,9,19],[9,20,9,25],[9,26,9,29],[10,0,10,29],[7,0,7,4],[7,5,7,14],[7,15,7,19],[7,20,7,29],[8,0,8,4],[8,5,8,7],[8,8,8,14],[8,15,8,19],[8,20,8,29],[5,0,5,4],[5,5,5,14],[5,15,5,19],[5,20,5,29],[6,0,6,4],[6,5,6,13],[6,15,6,19],[6,20,6,29],[0,0,0,2],[1,0,1,29],[2,0,2,29],[4,0,4,4],[4,5,4,14],[4,15,4,19],[4,20,4,29]]}
["様式11",null,null,null,null,null,null,null,null,null,null,null,null,null,null,null,null,null,null,null,null,null,null,null,null,null,"C",null,"（1/4）"]
["令和5年度 文化芸術による子供育成推進事業"]
["（コミュニケーション能力向上事業）実施状況報告書"]
["あ","あ","あ","あ","あ","あ","あ","あ","あ","あ","あ","あ","あ","あ","あ","あ","あ","あ","あ","あ","あ","あ","あ","あ","あ","あ","あ","あ","あ","あ"]
["実施校ID",null,null,null,null,null,null,null,null,null,null,null,null,null,null,"都道府県・\n政令指定都市",null,null,null,null,{"$f":"IF('申【様式３・４】（派遣）'!E4=\"\",\"\",'申【様式３・４】（派遣）'!E4)","v":""}]
["実施校名",null,null,null,null,{"$f":"IF('申【様式１】（共通）'!E8=\"\",\"\",'申【様式１】（共通）'!E8)","v":""},null,null,null,null,null,null,null,null,null,"学校長名",null,null,null,null,{"$f":"IF('申【様式１】（共通）'!W9=\"\",\"\",'申【様式１】（共通）'!W9)","v":""}]
["全校児童生徒数",null,null,null,null,{"$f":"IF('申【様式１】（共通）'!W8=\"\",\"\",'申【様式１】（共通）'!W8)","v":""},null,null,null,null,null,null,null,null,"名","担当者名",null,null,null,null,{"$f":"IF('申【様式１】（共通）'!W10=\"\",\"\",'申【様式１】（共通）'!W10)","v":""}]
["実施会場",null,null,null,null,{"$f":"IF('申【様式５・６】（コミュ）'!E8=\"\",\"\",'申【様式５・６】（コミュ）'!E8)","v":""},null,null,null,null,null,null,null,null,null,"TEL",null,null,null,null,{"$f":"IF('申【様式１】（共通）'!W11=\"\",\"\",'申【様式１】（共通）'!W11)","v":""}]
["他校との合同\n開催の状況",null,null,null,null,"（学校名）",null,null,{"$f":"IF('申【様式５・６】（コミュ）'!W8=\"\",\"\",'申【様式５・６】（コミュ）'!W8)","v":""},null,null,null,null,null,null,"メール",null,null,null,null,{"$f":"IF('申【様式１】（共通）'!W12=\"\",\"\",'申【様式１】（共通）'!W12)","v":""}]
["講師氏名※本名",null,null,null,null,{"$f":"IF('申【様式５・６】（コミュ）'!E12=\"\",\"\",'申【様式５・６】（コミュ）'!E12)","v":""},null,null,null,null,null,null,null,null,null,"実施回数",null,null,null,null,{"$f":"COUNTIF(G36:AD36,\">\"&0)","v":0},null,null,null,null,null,"回"]
["　コミュニケーション能力向上事業実施による効果及び成果　\n　（A : とてもあてはまる　B : ややあてはまる　C: どちらでもない　D : あまりあてはまらない　E : あてはまらない　）"]
[]
[1,"（",null,"）","文化芸術や伝統芸能等への関心を高めることができた。"]
[2,"（",null,"）","豊かな心や感性、創造性をはぐくむことができた。"]
[3,"（",null,"）","コミュニケーションの活性化に役立てることができた。"]
[4,"（",null,"）","ＣＤやDVD等では得られない反応があった。"]
[5,"（",null,"）","学校行事として文化芸術に関する行事が定着するきっかけとなった。"]
[6,"（",null,"）","学校教育の指導方法に役立てることができた。"]
[7,"（",null,"）","子どもたちの個性や能力を発見したり、理解する機会となった。"]
[]
["  コミュニケーション能力向上事業実施による変化や影響が見られたエピソード"]
["　（当てはまる対象に○をつけ、点線以下に具体的なエピソード等を記入してください。）"]
[]
[1,"（",null,"）","児童生徒",null,null,null,2,"（",null,"）","教員",null,null,3,"（",null,"）","学校全体",null,null,null,4,"（",null,"）","その他"]
[]
[]
["　コミュニケーション能力向上事業を実施する魅力"]
[]
["　コミュニケーション能力向上事業をより良くするための意見等　※特に記載事項がない場合「なし」と記入してください"]
[]
["様式11",null,null,null,null,null,null,null,null,null,null,null,null,null,null,null,null,null,null,null,null,null,null,null,null,null,"C",null,"（2/4）"]
["都道府県・政令指定都市",null,null,null,null,null,null,{"$f":"IF($U$5=\"\",\"\",$U$5)","v":""},null,null,null,null,null,null,"実施校名",null,null,null,null,{"$f":"IF($F$6=\"\",\"\",$F$6)","v":""}]
[]
["被派遣者\n氏名",null,null,null,"回",null,"第１回",null,"第２回",null,"第３回",null,"第４回",null,"第５回",null,"第６回",null,"第７回",null,"第８回",null,"第９回",null,"第10回",null,"第11回",null,"第12回"]
[null,null,null,null,"日付",null,{"$f":"IF(E55=\"\",\"\",E55)","v":""},null,{"$f":"IF(E60=\"\",\"\",E60)","v":""},null,{"$f":"IF(E65=\"\",\"\",E65)","v":""},null,{"$f":"IF(E70=\"\",\"\",E70)","v":""},null,{"$f":"IF(E75=\"\",\"\",E75)","v":""},null,{"$f":"IF(E83=\"\",\"\",E83)","v":""},null,{"$f":"IF(E88=\"\",\"\",E88)","v":""},null,{"$f":"IF(E93=\"\",\"\",E93)","v":""},null,{"$f":"IF(E98=\"\",\"\",E98)","v":""},null,{"$f":"IF(E103=\"\",\"\",E103)","v":""},null,{"$f":"IF(E111=\"\",\"\",E111)","v":""},null,{"$f":"IF(E116=\"\",\"\",E116)","v":""}]
[null,null,null,null,"時間",null,{"$f":"IF(AA55=\"\",\"\",IF(AA55>=150,3,IF(AND(AA55<150,AA55>=90),2,IF(AA55=\"\",0,1))))","v":""},null,{"$f":"IF(AA60=\"\",\"\",IF(AA60>=150,3,IF(AND(AA60<150,AA60>=90),2,IF(AA60=\"\",0,1))))","v":""},null,{"$f":"IF(AA65=\"\",\"\",IF(AA65>=150,3,IF(AND(AA65<150,AA65>=90),2,IF(AA65=\"\",0,1))))","v":""},null,{"$f":"IF(AA70=\"\",\"\",IF(AA70>=150,3,IF(AND(AA70<150,AA70>=90),2,IF(AA70=\"\",0,1))))","v":""},null,{"$f":"IF(AA75=\"\",\"\",IF(AA75>=150,3,IF(AND(AA75<150,AA75>=90),2,IF(AA75=\"\",0,1))))","v":""},null,{"$f":"IF(AA83=\"\",\"\",IF(AA83>=150,3,IF(AND(AA83<150,AA83>=90),2,IF(AA83=\"\",0,1))))","v":""},null,{"$f":"IF(AA88=\"\",\"\",IF(AA88>=150,3,IF(AND(AA88<150,AA88>=90),2,IF(AA88=\"\",0,1))))","v":""},null,{"$f":"IF(AA93=\"\",\"\",IF(AA93>=150,3,IF(AND(AA93<150,AA93>=90),2,IF(AA93=\"\",0,1))))","v":""},null,{"$f":"IF(AA98=\"\",\"\",IF(AA98>=150,3,IF(AND(AA98<150,AA98>=90),2,IF(AA98=\"\",0,1))))","v":""},null,{"$f":"IF(AA103=\"\",\"\",IF(AA103>=150,3,IF(AND(AA103<150,AA103>=90),2,IF(AA103=\"\",0,1))))","v":""},null,{"$f":"IF(AA111=\"\",\"\",IF(AA111>=150,3,IF(AND(AA111<150,AA111>=90),2,IF(AA111=\"\",0,1))))","v":""},null,{"$f":"IF(AA116=\"\",\"\",IF(AA116>=150,3,IF(AND(AA116<150,AA116>=90),2,IF(AA116=\"\",0,1))))","v":""}]
["①",{"$f":"IF('申報【様式２】（共通）'!D15=\"\",\"\",'申報【様式２】（共通）'!D15)","v":""},null,null,null,null,{"$f":"IF('申【様式５・６】（コミュ）'!G23=\"\",\"\",'申【様式５・６】（コミュ）'!G23)","v":""},null,{"$f":"IF('申【様式５・６】（コミュ）'!I23=\"\",\"\",'申【様式５・６】（コミュ）'!I23)","v":""},null,{"$f":"IF('申【様式５・６】（コミュ）'!K23=\"\",\"\",'申【様式５・６】（コミュ）'!K23)","v":""},null,{"$f":"IF('申【様式５・６】（コミュ）'!M23=\"\",\"\",'申【様式５・６】（コミュ）'!M23)","v":""},null,{"$f":"IF('申【様式５・６】（コミュ）'!O23=\"\",\"\",'申【様式５・６】（コミュ）'!O23)","v":""},null,{"$f":"IF('申【様式５・６】（コミュ）'!Q23=\"\",\"\",'申【様式５・６】（コミュ）'!Q23)","v":""},null,{"$f":"IF('申【様式５・６】（コミュ）'!S23=\"\",\"\",'申【様式５・６】（コミュ）'!S23)","v":""},null,{"$f":"IF('申【様式５・６】（コミュ）'!U23=\"\",\"\",'申【様式５・６】（コミュ）'!U23)","v":""},null,{"$f":"IF('申【様式５・６】（コミュ）'!W23=\"\",\"\",'申【様式５・６】（コミュ）'!W23)","v":""},null,{"$f":"IF('申【様式５・６】（コミュ）'!Y23=\"\",\"\",'申【様式５・６】（コミュ）'!Y23)","v":""},null,{"$f":"IF('申【様式５・６】（コミュ）'!AA23=\"\",\"\",'申【様式５・６】（コミュ）'!AA23)","v":""},null,{"$f":"IF('申【様式５・６】（コミュ）'!AC23=\"\",\"\",'申【様式５・６】（コミュ）'!AC23)","v":""}]
["②",{"$f":"IF('申報【様式２】（共通）'!D16=\"\",\"\",'申報【様式２】（共通）'!D16)","v":""},null,null,null,null,{"$f":"IF('申【様式５・６】（コミュ）'!G24=\"\",\"\",'申【様式５・６】（コミュ）'!G24)","v":""},null,{"$f":"IF('申【様式５・６】（コミュ）'!I24=\"\",\"\",'申【様式５・６】（コミュ）'!I24)","v":""},null,{"$f":"IF('申【様式５・６】（コミュ）'!K24=\"\",\"\",'申【様式５・６】（コミュ）'!K24)","v":""},null,{"$f":"IF('申【様式５・６】（コミュ）'!M24=\"\",\"\",'申【様式５・６】（コミュ）'!M24)","v":""},null,{"$f":"IF('申【様式５・６】（コミュ）'!O24=\"\",\"\",'申【様式５・６】（コミュ）'!O24)","v":""},null,{"$f":"IF('申【様式５・６】（コミュ）'!Q24=\"\",\"\",'申【様式５・６】（コミュ）'!Q24)","v":""},null,{"$f":"IF('申【様式５・６】（コミュ）'!S24=\"\",\"\",'申【様式５・６】（コミュ）'!S24)","v":""},null,{"$f":"IF('申【様式５・６】（コミュ）'!U24=\"\",\"\",'申【様式５・６】（コミュ）'!U24)","v":""},null,{"$f":"IF('申【様式５・６】（コミュ）'!W24=\"\",\"\",'申【様式５・６】（コミュ）'!W24)","v":""},null,{"$f":"IF('申【様式５・６】（コミュ）'!Y24=\"\",\"\",'申【様式５・６】（コミュ）'!Y24)","v":""},null,{"$f":"IF('申【様式５・６】（コミュ）'!AA24=\"\",\"\",'申【様式５・６】（コミュ）'!AA24)","v":""},null,{"$f":"IF('申【様式５・６】（コミュ）'!AC24=\"\",\"\",'申【様式５・６】（コミュ）'!AC24)","v":""}]
["③",{"$f":"IF('申報【様式２】（共通）'!D17=\"\",\"\",'申報【様式２】（共通）'!D17)","v":""},null,null,null,null,{"$f":"IF('申【様式５・６】（コミュ）'!G25=\"\",\"\",'申【様式５・６】（コミュ）'!G25)","v":""},null,{"$f":"IF('申【様式５・６】（コミュ）'!I25=\"\",\"\",'申【様式５・６】（コミュ）'!I25)","v":""},null,{"$f":"IF('申【様式５・６】（コミュ）'!K25=\"\",\"\",'申【様式５・６】（コミュ）'!K25)","v":""},null,{"$f":"IF('申【様式５・６】（コミュ）'!M25=\"\",\"\",'申【様式５・６】（コミュ）'!M25)","v":""},null,{"$f":"IF('申【様式５・６】（コミュ）'!O25=\"\",\"\",'申【様式５・６】（コミュ）'!O25)","v":""},null,{"$f":"IF('申【様式５・６】（コミュ）'!Q25=\"\",\"\",'申【様式５・６】（コミュ）'!Q25)","v":""},null,{"$f":"IF('申【様式５・６】（コミュ）'!S25=\"\",\"\",'申【様式５・６】（コミュ）'!S25)","v":""},null,{"$f":"IF('申【様式５・６】（コミュ）'!U25=\"\",\"\",'申【様式５・６】（コミュ）'!U25)","v":""},null,{"$f":"IF('申【様式５・６】（コミュ）'!W25=\"\",\"\",'申【様式５・６】（コミュ）'!W25)","v":""},null,{"$f":"IF('申【様式５・６】（コミュ）'!Y25=\"\",\"\",'申【様式５・６】（コミュ）'!Y25)","v":""},null,{"$f":"IF('申【様式５・６】（コミュ）'!AA25=\"\",\"\",'申【様式５・６】（コミュ）'!AA25)","v":""},null,{"$f":"IF('申【様式５・６】（コミュ）'!AC25=\"\",\"\",'申【様式５・６】（コミュ）'!AC25)","v":""}]
["④",{"$f":"IF('申報【様式２】（共通）'!D18=\"\",\"\",'申報【様式２】（共通）'!D18)","v":""},null,null,null,null,{"$f":"IF('申【様式５・６】（コミュ）'!G26=\"\",\"\",'申【様式５・６】（コミュ）'!G26)","v":""},null,{"$f":"IF('申【様式５・６】（コミュ）'!I26=\"\",\"\",'申【様式５・６】（コミュ）'!I26)","v":""},null,{"$f":"IF('申【様式５・６】（コミュ）'!K26=\"\",\"\",'申【様式５・６】（コミュ）'!K26)","v":""},null,{"$f":"IF('申【様式５・６】（コミュ）'!M26=\"\",\"\",'申【様式５・６】（コミュ）'!M26)","v":""},null,{"$f":"IF('申【様式５・６】（コミュ）'!O26=\"\",\"\",'申【様式５・６】（コミュ）'!O26)","v":""},null,{"$f":"IF('申【様式５・６】（コミュ）'!Q26=\"\",\"\",'申【様式５・６】（コミュ）'!Q26)","v":""},null,{"$f":"IF('申【様式５・６】（コミュ）'!S26=\"\",\"\",'申【様式５・６】（コミュ）'!S26)","v":""},null,{"$f":"IF('申【様式５・６】（コミュ）'!U26=\"\",\"\",'申【様式５・６】（コミュ）'!U26)","v":""},null,{"$f":"IF('申【様式５・６】（コミュ）'!W26=\"\",\"\",'申【様式５・６】（コミュ）'!W26)","v":""},null,{"$f":"IF('申【様式５・６】（コミュ）'!Y26=\"\",\"\",'申【様式５・６】（コミュ）'!Y26)","v":""},null,{"$f":"IF('申【様式５・６】（コミュ）'!AA26=\"\",\"\",'申【様式５・６】（コミュ）'!AA26)","v":""},null,{"$f":"IF('申【様式５・６】（コミュ）'!AC26=\"\",\"\",'申【様式５・６】（コミュ）'!AC26)","v":""}]
["⑤",{"$f":"IF('申報【様式２】（共通）'!D19=\"\",\"\",'申報【様式２】（共通）'!D19)","v":""},null,null,null,null,{"$f":"IF('申【様式５・６】（コミュ）'!G27=\"\",\"\",'申【様式５・６】（コミュ）'!G27)","v":""},null,{"$f":"IF('申【様式５・６】（コミュ）'!I27=\"\",\"\",'申【様式５・６】（コミュ）'!I27)","v":""},null,{"$f":"IF('申【様式５・６】（コミュ）'!K27=\"\",\"\",'申【様式５・６】（コミュ）'!K27)","v":""},null,{"$f":"IF('申【様式５・６】（コミュ）'!M27=\"\",\"\",'申【様式５・６】（コミュ）'!M27)","v":""},null,{"$f":"IF('申【様式５・６】（コミュ）'!O27=\"\",\"\",'申【様式５・６】（コミュ）'!O27)","v":""},null,{"$f":"IF('申【様式５・６】（コミュ）'!Q27=\"\",\"\",'申【様式５・６】（コミュ）'!Q27)","v":""},null,{"$f":"IF('申【様式５・６】（コミュ）'!S27=\"\",\"\",'申【様式５・６】（コミュ）'!S27)","v":""},null,{"$f":"IF('申【様式５・６】（コミュ）'!U27=\"\",\"\",'申【様式５・６】（コミュ）'!U27)","v":""},null,{"$f":"IF('申【様式５・６】（コミュ）'!W27=\"\",\"\",'申【様式５・６】（コミュ）'!W27)","v":""},null,{"$f":"IF('申【様式５・６】（コミュ）'!Y27=\"\",\"\",'申【様式５・６】（コミュ）'!Y27)","v":""},null,{"$f":"IF('申【様式５・６】（コミュ）'!AA27=\"\",\"\",'申【様式５・６】（コミュ）'!AA27)","v":""},null,{"$f":"IF('申【様式５・６】（コミュ）'!AC27=\"\",\"\",'申【様式５・６】（コミュ）'!AC27)","v":""}]
["⑥",{"$f":"IF('申報【様式２】（共通）'!D20=\"\",\"\",'申報【様式２】（共通）'!D20)","v":""},null,null,null,null,{"$f":"IF('申【様式５・６】（コミュ）'!G28=\"\",\"\",'申【様式５・６】（コミュ）'!G28)","v":""},null,{"$f":"IF('申【様式５・６】（コミュ）'!I28=\"\",\"\",'申【様式５・６】（コミュ）'!I28)","v":""},null,{"$f":"IF('申【様式５・６】（コミュ）'!K28=\"\",\"\",'申【様式５・６】（コミュ）'!K28)","v":""},null,{"$f":"IF('申【様式５・６】（コミュ）'!M28=\"\",\"\",'申【様式５・６】（コミュ）'!M28)","v":""},null,{"$f":"IF('申【様式５・６】（コミュ）'!O28=\"\",\"\",'申【様式５・６】（コミュ）'!O28)","v":""},null,{"$f":"IF('申【様式５・６】（コミュ）'!Q28=\"\",\"\",'申【様式５・６】（コミュ）'!Q28)","v":""},null,{"$f":"IF('申【様式５・６】（コミュ）'!S28=\"\",\"\",'申【様式５・６】（コミュ）'!S28)","v":""},null,{"$f":"IF('申【様式５・６】（コミュ）'!U28=\"\",\"\",'申【様式５・６】（コミュ）'!U28)","v":""},null,{"$f":"IF('申【様式５・６】（コミュ）'!W28=\"\",\"\",'申【様式５・６】（コミュ）'!W28)","v":""},null,{"$f":"IF('申【様式５・６】（コミュ）'!Y28=\"\",\"\",'申【様式５・６】（コミュ）'!Y28)","v":""},null,{"$f":"IF('申【様式５・６】（コミュ）'!AA28=\"\",\"\",'申【様式５・６】（コミュ）'!AA28)","v":""},null,{"$f":"IF('申【様式５・６】（コミュ）'!AC28=\"\",\"\",'申【様式５・６】（コミュ）'!AC28)","v":""}]
["⑦",{"$f":"IF('申報【様式２】（共通）'!D21=\"\",\"\",'申報【様式２】（共通）'!D21)","v":""},null,null,null,null,{"$f":"IF('申【様式５・６】（コミュ）'!G29=\"\",\"\",'申【様式５・６】（コミュ）'!G29)","v":""},null,{"$f":"IF('申【様式５・６】（コミュ）'!I29=\"\",\"\",'申【様式５・６】（コミュ）'!I29)","v":""},null,{"$f":"IF('申【様式５・６】（コミュ）'!K29=\"\",\"\",'申【様式５・６】（コミュ）'!K29)","v":""},null,{"$f":"IF('申【様式５・６】（コミュ）'!M29=\"\",\"\",'申【様式５・６】（コミュ）'!M29)","v":""},null,{"$f":"IF('申【様式５・６】（コミュ）'!O29=\"\",\"\",'申【様式５・６】（コミュ）'!O29)","v":""},null,{"$f":"IF('申【様式５・６】（コミュ）'!Q29=\"\",\"\",'申【様式５・６】（コミュ）'!Q29)","v":""},null,{"$f":"IF('申【様式５・６】（コミュ）'!S29=\"\",\"\",'申【様式５・６】（コミュ）'!S29)","v":""},null,{"$f":"IF('申【様式５・６】（コミュ）'!U29=\"\",\"\",'申【様式５・６】（コミュ）'!U29)","v":""},null,{"$f":"IF('申【様式５・６】（コミュ）'!W29=\"\",\"\",'申【様式５・６】（コミュ）'!W29)","v":""},null,{"$f":"IF('申【様式５・６】（コミュ）'!Y29=\"\",\"\",'申【様式５・６】（コミュ）'!Y29)","v":""},null,{"$f":"IF('申【様式５・６】（コミュ）'!AA29=\"\",\"\",'申【様式５・６】（コミュ）'!AA29)","v":""},null,{"$f":"IF('申【様式５・６】（コミュ）'!AC29=\"\",\"\",'申【様式５・６】（コミュ）'!AC29)","v":""}]
["⑧",{"$f":"IF('申報【様式２】（共通）'!D22=\"\",\"\",'申報【様式２】（共通）'!D22)","v":""},null,null,null,null,{"$f":"IF('申【様式５・６】（コミュ）'!G30=\"\",\"\",'申【様式５・６】（コミュ）'!G30)","v":""},null,{"$f":"IF('申【様式５・６】（コミュ）'!I30=\"\",\"\",'申【様式５・６】（コミュ）'!I30)","v":""},null,{"$f":"IF('申【様式５・６】（コミュ）'!K30=\"\",\"\",'申【様式５・６】（コミュ）'!K30)","v":""},null,{"$f":"IF('申【様式５・６】（コミュ）'!M30=\"\",\"\",'申【様式５・６】（コミュ）'!M30)","v":""},null,{"$f":"IF('申【様式５・６】（コミュ）'!O30=\"\",\"\",'申【様式５・６】（コミュ）'!O30)","v":""},null,{"$f":"IF('申【様式５・６】（コミュ）'!Q30=\"\",\"\",'申【様式５・６】（コミュ）'!Q30)","v":""},null,{"$f":"IF('申【様式５・６】（コミュ）'!S30=\"\",\"\",'申【様式５・６】（コミュ）'!S30)","v":""},null,{"$f":"IF('申【様式５・６】（コミュ）'!U30=\"\",\"\",'申【様式５・６】（コミュ）'!U30)","v":""},null,{"$f":"IF('申【様式５・６】（コミュ）'!W30=\"\",\"\",'申【様式５・６】（コミュ）'!W30)","v":""},null,{"$f":"IF('申【様式５・６】（コミュ）'!Y30=\"\",\"\",'申【様式５・６】（コミュ）'!Y30)","v":""},null,{"$f":"IF('申【様式５・６】（コミュ）'!AA30=\"\",\"\",'申【様式５・６】（コミュ）'!AA30)","v":""},null,{"$f":"IF('申【様式５・６】（コミュ）'!AC30=\"\",\"\",'申【様式５・６】（コミュ）'!AC30)","v":""}]
["⑨",{"$f":"IF('申報【様式２】（共通）'!D23=\"\",\"\",'申報【様式２】（共通）'!D23)","v":""},null,null,null,null,{"$f":"IF('申【様式５・６】（コミュ）'!G31=\"\",\"\",'申【様式５・６】（コミュ）'!G31)","v":""},null,{"$f":"IF('申【様式５・６】（コミュ）'!I31=\"\",\"\",'申【様式５・６】（コミュ）'!I31)","v":""},null,{"$f":"IF('申【様式５・６】（コミュ）'!K31=\"\",\"\",'申【様式５・６】（コミュ）'!K31)","v":""},null,{"$f":"IF('申【様式５・６】（コミュ）'!M31=\"\",\"\",'申【様式５・６】（コミュ）'!M31)","v":""},null,{"$f":"IF('申【様式５・６】（コミュ）'!O31=\"\",\"\",'申【様式５・６】（コミュ）'!O31)","v":""},null,{"$f":"IF('申【様式５・６】（コミュ）'!Q31=\"\",\"\",'申【様式５・６】（コミュ）'!Q31)","v":""},null,{"$f":"IF('申【様式５・６】（コミュ）'!S31=\"\",\"\",'申【様式５・６】（コミュ）'!S31)","v":""},null,{"$f":"IF('申【様式５・６】（コミュ）'!U31=\"\",\"\",'申【様式５・６】（コミュ）'!U31)","v":""},null,{"$f":"IF('申【様式５・６】（コミュ）'!W31=\"\",\"\",'申【様式５・６】（コミュ）'!W31)","v":""},null,{"$f":"IF('申【様式５・６】（コミュ）'!Y31=\"\",\"\",'申【様式５・６】（コミュ）'!Y31)","v":""},null,{"$f":"IF('申【様式５・６】（コミュ）'!AA31=\"\",\"\",'申【様式５・６】（コミュ）'!AA31)","v":""},null,{"$f":"IF('申【様式５・６】（コミュ）'!AC31=\"\",\"\",'申【様式５・６】（コミュ）'!AC31)","v":""}]
["⑩",{"$f":"IF('申報【様式２】（共通）'!D24=\"\",\"\",'申報【様式２】（共通）'!D24)","v":""},null,null,null,null,{"$f":"IF('申【様式５・６】（コミュ）'!G32=\"\",\"\",'申【様式５・６】（コミュ）'!G32)","v":""},null,{"$f":"IF('申【様式５・６】（コミュ）'!I32=\"\",\"\",'申【様式５・６】（コミュ）'!I32)","v":""},null,{"$f":"IF('申【様式５・６】（コミュ）'!K32=\"\",\"\",'申【様式５・６】（コミュ）'!K32)","v":""},null,{"$f":"IF('申【様式５・６】（コミュ）'!M32=\"\",\"\",'申【様式５・６】（コミュ）'!M32)","v":""},null,{"$f":"IF('申【様式５・６】（コミュ）'!O32=\"\",\"\",'申【様式５・６】（コミュ）'!O32)","v":""},null,{"$f":"IF('申【様式５・６】（コミュ）'!Q32=\"\",\"\",'申【様式５・６】（コミュ）'!Q32)","v":""},null,{"$f":"IF('申【様式５・６】（コミュ）'!S32=\"\",\"\",'申【様式５・６】（コミュ）'!S32)","v":""},null,{"$f":"IF('申【様式５・６】（コミュ）'!U32=\"\",\"\",'申【様式５・６】（コミュ）'!U32)","v":""},null,{"$f":"IF('申【様式５・６】（コミュ）'!W32=\"\",\"\",'申【様式５・６】（コミュ）'!W32)","v":""},null,{"$f":"IF('申【様式５・６】（コミュ）'!Y32=\"\",\"\",'申【様式５・６】（コミュ）'!Y32)","v":""},null,{"$f":"IF('申【様式５・６】（コミュ）'!AA32=\"\",\"\",'申【様式５・６】（コミュ）'!AA32)","v":""},null,{"$f":"IF('申【様式５・６】（コミュ）'!AC32=\"\",\"\",'申【様式５・６】（コミュ）'!AC32)","v":""}]
["⑪",{"$f":"IF('申報【様式２】（共通）'!D25=\"\",\"\",'申報【様式２】（共通）'!D25)","v":""},null,null,null,null,{"$f":"IF('申【様式５・６】（コミュ）'!G33=\"\",\"\",'申【様式５・６】（コミュ）'!G33)","v":""},null,{"$f":"IF('申【様式５・６】（コミュ）'!I33=\"\",\"\",'申【様式５・６】（コミュ）'!I33)","v":""},null,{"$f":"IF('申【様式５・６】（コミュ）'!K33=\"\",\"\",'申【様式５・６】（コミュ）'!K33)","v":""},null,{"$f":"IF('申【様式５・６】（コミュ）'!M33=\"\",\"\",'申【様式５・６】（コミュ）'!M33)","v":""},null,{"$f":"IF('申【様式５・６】（コミュ）'!O33=\"\",\"\",'申【様式５・６】（コミュ）'!O33)","v":""},null,{"$f":"IF('申【様式５・６】（コミュ）'!Q33=\"\",\"\",'申【様式５・６】（コミュ）'!Q33)","v":""},null,{"$f":"IF('申【様式５・６】（コミュ）'!S33=\"\",\"\",'申【様式５・６】（コミュ）'!S33)","v":""},null,{"$f":"IF('申【様式５・６】（コミュ）'!U33=\"\",\"\",'申【様式５・６】（コミュ）'!U33)","v":""},null,{"$f":"IF('申【様式５・６】（コミュ）'!W33=\"\",\"\",'申【様式５・６】（コミュ）'!W33)","v":""},null,{"$f":"IF('申【様式５・６】（コミュ）'!Y33=\"\",\"\",'申【様式５・６】（コミュ）'!Y33)","v":""},null,{"$f":"IF('申【様式５・６】（コミュ）'!AA33=\"\",\"\",'申【様式５・６】（コミュ）'!AA33)","v":""},null,{"$f":"IF('申【様式５・６】（コミュ）'!AC33=\"\",\"\",'申【様式５・６】（コミュ）'!AC33)","v":""}]
["⑫",{"$f":"IF('申報【様式２】（共通）'!D26=\"\",\"\",'申報【様式２】（共通）'!D26)","v":""},null,null,null,null,{"$f":"IF('申【様式５・６】（コミュ）'!G34=\"\",\"\",'申【様式５・６】（コミュ）'!G34)","v":""},null,{"$f":"IF('申【様式５・６】（コミュ）'!I34=\"\",\"\",'申【様式５・６】（コミュ）'!I34)","v":""},null,{"$f":"IF('申【様式５・６】（コミュ）'!K34=\"\",\"\",'申【様式５・６】（コミュ）'!K34)","v":""},null,{"$f":"IF('申【様式５・６】（コミュ）'!M34=\"\",\"\",'申【様式５・６】（コミュ）'!M34)","v":""},null,{"$f":"IF('申【様式５・６】（コミュ）'!O34=\"\",\"\",'申【様式５・６】（コミュ）'!O34)","v":""},null,{"$f":"IF('申【様式５・６】（コミュ）'!Q34=\"\",\"\",'申【様式５・６】（コミュ）'!Q34)","v":""},null,{"$f":"IF('申【様式５・６】（コミュ）'!S34=\"\",\"\",'申【様式５・６】（コミュ）'!S34)","v":""},null,{"$f":"IF('申【様式５・６】（コミュ）'!U34=\"\",\"\",'申【様式５・６】（コミュ）'!U34)","v":""},null,{"$f":"IF('申【様式５・６】（コミュ）'!W34=\"\",\"\",'申【様式５・６】（コミュ）'!W34)","v":""},null,{"$f":"IF('申【様式５・６】（コミュ）'!Y34=\"\",\"\",'申【様式５・６】（コミュ）'!Y34)","v":""},null,{"$f":"IF('申【様式５・６】（コミュ）'!AA34=\"\",\"\",'申【様式５・６】（コミュ）'!AA34)","v":""},null,{"$f":"IF('申【様式５・６】（コミュ）'!AC34=\"\",\"\",'申【様式５・６】（コミュ）'!AC34)","v":""}]
["⑬",{"$f":"IF('申報【様式２】（共通）'!D27=\"\",\"\",'申報【様式２】（共通）'!D27)","v":""},null,null,null,null,{"$f":"IF('申【様式５・６】（コミュ）'!G35=\"\",\"\",'申【様式５・６】（コミュ）'!G35)","v":""},null,{"$f":"IF('申【様式５・６】（コミュ）'!I35=\"\",\"\",'申【様式５・６】（コミュ）'!I35)","v":""},null,{"$f":"IF('申【様式５・６】（コミュ）'!K35=\"\",\"\",'申【様式５・６】（コミュ）'!K35)","v":""},null,{"$f":"IF('申【様式５・６】（コミュ）'!M35=\"\",\"\",'申【様式５・６】（コミュ）'!M35)","v":""},null,{"$f":"IF('申【様式５・６】（コミュ）'!O35=\"\",\"\",'申【様式５・６】（コミュ）'!O35)","v":""},null,{"$f":"IF('申【様式５・６】（コミュ）'!Q35=\"\",\"\",'申【様式５・６】（コミュ）'!Q35)","v":""},null,{"$f":"IF('申【様式５・６】（コミュ）'!S35=\"\",\"\",'申【様式５・６】（コミュ）'!S35)","v":""},null,{"$f":"IF('申【様式５・６】（コミュ）'!U35=\"\",\"\",'申【様式５・６】（コミュ）'!U35)","v":""},null,{"$f":"IF('申【様式５・６】（コミュ）'!W35=\"\",\"\",'申【様式５・６】（コミュ）'!W35)","v":""},null,{"$f":"IF('申【様式５・６】（コミュ）'!Y35=\"\",\"\",'申【様式５・６】（コミュ）'!Y35)","v":""},null,{"$f":"IF('申【様式５・６】（コミュ）'!AA35=\"\",\"\",'申【様式５・６】（コミュ）'!AA35)","v":""},null,{"$f":"IF('申【様式５・６】（コミュ）'!AC35=\"\",\"\",'申【様式５・６】（コミュ）'!AC35)","v":""}]
["⑭",{"$f":"IF('申報【様式２】（共通）'!D28=\"\",\"\",'申報【様式２】（共通）'!D28)","v":""},null,null,null,null,{"$f":"IF('申【様式５・６】（コミュ）'!G36=\"\",\"\",'申【様式５・６】（コミュ）'!G36)","v":""},null,{"$f":"IF('申【様式５・６】（コミュ）'!I36=\"\",\"\",'申【様式５・６】（コミュ）'!I36)","v":""},null,{"$f":"IF('申【様式５・６】（コミュ）'!K36=\"\",\"\",'申【様式５・６】（コミュ）'!K36)","v":""},null,{"$f":"IF('申【様式５・６】（コミュ）'!M36=\"\",\"\",'申【様式５・６】（コミュ）'!M36)","v":""},null,{"$f":"IF('申【様式５・６】（コミュ）'!O36=\"\",\"\",'申【様式５・６】（コミュ）'!O36)","v":""},null,{"$f":"IF('申【様式５・６】（コミュ）'!Q36=\"\",\"\",'申【様式５・６】（コミュ）'!Q36)","v":""},null,{"$f":"IF('申【様式５・６】（コミュ）'!S36=\"\",\"\",'申【様式５・６】（コミュ）'!S36)","v":""},null,{"$f":"IF('申【様式５・６】（コミュ）'!U36=\"\",\"\",'申【様式５・６】（コミュ）'!U36)","v":""},null,{"$f":"IF('申【様式５・６】（コミュ）'!W36=\"\",\"\",'申【様式５・６】（コミュ）'!W36)","v":""},null,{"$f":"IF('申【様式５・６】（コミュ）'!Y36=\"\",\"\",'申【様式５・６】（コミュ）'!Y36)","v":""},null,{"$f":"IF('申【様式５・６】（コミュ）'!AA36=\"\",\"\",'申【様式５・６】（コミュ）'!AA36)","v":""},null,{"$f":"IF('申【様式５・６】（コミュ）'!AC36=\"\",\"\",'申【様式５・６】（コミュ）'!AC36)","v":""}]
["⑮",{"$f":"IF('申報【様式２】（共通）'!D29=\"\",\"\",'申報【様式２】（共通）'!D29)","v":""},null,null,null,null,{"$f":"IF('申【様式５・６】（コミュ）'!G37=\"\",\"\",'申【様式５・６】（コミュ）'!G37)","v":""},null,{"$f":"IF('申【様式５・６】（コミュ）'!I37=\"\",\"\",'申【様式５・６】（コミュ）'!I37)","v":""},null,{"$f":"IF('申【様式５・６】（コミュ）'!K37=\"\",\"\",'申【様式５・６】（コミュ）'!K37)","v":""},null,{"$f":"IF('申【様式５・６】（コミュ）'!M37=\"\",\"\",'申【様式５・６】（コミュ）'!M37)","v":""},null,{"$f":"IF('申【様式５・６】（コミュ）'!O37=\"\",\"\",'申【様式５・６】（コミュ）'!O37)","v":""},null,{"$f":"IF('申【様式５・６】（コミュ）'!Q37=\"\",\"\",'申【様式５・６】（コミュ）'!Q37)","v":""},null,{"$f":"IF('申【様式５・６】（コミュ）'!S37=\"\",\"\",'申【様式５・６】（コミュ）'!S37)","v":""},null,{"$f":"IF('申【様式５・６】（コミュ）'!U37=\"\",\"\",'申【様式５・６】（コミュ）'!U37)","v":""},null,{"$f":"IF('申【様式５・６】（コミュ）'!W37=\"\",\"\",'申【様式５・６】（コミュ）'!W37)","v":""},null,{"$f":"IF('申【様式５・６】（コミュ）'!Y37=\"\",\"\",'申【様式５・６】（コミュ）'!Y37)","v":""},null,{"$f":"IF('申【様式５・６】（コミュ）'!AA37=\"\",\"\",'申【様式５・６】（コミュ）'!AA37)","v":""},null,{"$f":"IF('申【様式５・６】（コミュ）'!AC37=\"\",\"\",'申【様式５・６】（コミュ）'!AC37)","v":""}]
["様式11",null,null,null,null,null,null,null,null,null,null,null,null,null,null,null,null,null,null,null,null,null,null,null,null,null,"C",null,"（3/4）"]
["都道府県・政令指定都市",null,null,null,null,null,null,{"$f":"IF($U$5=\"\",\"\",$U$5)","v":""},null,null,null,null,null,null,"実施校名",null,null,null,null,{"$f":"IF($F$6=\"\",\"\",$F$6)","v":""}]
["※「教科の位置付け」：該当するものを選択し、内訳に詳細を記入してください\n※「参加児童生徒」：該当するものを選択してください。「学年単位」「その他」を選択した場合は内訳に詳細を記入してください"]
["第１回","実施日時",null,null,{"$f":"IF('申【様式５・６】（コミュ）'!E44=\"\",\"\",'申【様式５・６】（コミュ）'!E44)","v":""},null,null,null,null,null,null,null,null,null,null,"実施時間",null,null,{"$f":"IF('申【様式５・６】（コミュ）'!S44=\"\",\"\",'申【様式５・６】（コミュ）'!S44)","v":""},null,null,null,null,null,"実施\n合計",null,{"$f":"IF('申【様式５・６】（コミュ）'!AA44=\"\",\"\",'申【様式５・６】（コミュ）'!AA44)","v":""},null,"分"]
[null,"教科の\n位置付け",null,null,{"$f":"IF('申【様式５・６】（コミュ）'!E45=\"\",\"\",'申【様式５・６】（コミュ）'!E45)","v":""},null,null,null,null,null,null,null,null,null,null,{"$f":"IFERROR(VLOOKUP(E56,選択肢!$Y$2:$Z$6,2,FALSE),\"\")","v":""},null,null,{"$f":"IF('申【様式５・６】（コミュ）'!S45=\"\",\"\",'申【様式５・６】（コミュ）'!S45)","v":""}]
[null,"参加\n児童生徒",null,null,"合計",null,{"$f":"IF('申【様式５・６】（コミュ）'!G46=\"\",\"\",'申【様式５・６】（コミュ）'!G46)","v":""},null,null,"人",null,"参加児童\n生徒単位",null,null,null,{"$f":"IF('申【様式５・６】（コミュ）'!P46=\"\",\"\",'申【様式５・６】（コミュ）'!P46)","v":""}]
[null,null,null,null,null,null,null,null,null,null,null,null,null,null,null,{"$f":"IFERROR(VLOOKUP(P57,選択肢!$AE:$AF,2,FALSE),\"\")","v":""},null,null,{"$f":"IF('申【様式５・６】（コミュ）'!S47=\"\",\"\",'申【様式５・６】（コミュ）'!S47)","v":""}]
[null,"実施内容・\n児童生徒の反応等"]
["第２回","実施日時",null,null,{"$f":"IF('申【様式５・６】（コミュ）'!E49=\"\",\"\",'申【様式５・６】（コミュ）'!E49)","v":""},null,null,null,null,null,null,null,null,null,null,"実施時間",null,null,{"$f":"IF('申【様式５・６】（コミュ）'!S49=\"\",\"\",'申【様式５・６】（コミュ）'!S49)","v":""},null,null,null,null,null,"実施\n合計",null,{"$f":"IF('申【様式５・６】（コミュ）'!AA49=\"\",\"\",'申【様式５・６】（コミュ）'!AA49)","v":""},null,"分"]
[null,"教科の\n位置付け",null,null,{"$f":"IF('申【様式５・６】（コミュ）'!E50=\"\",\"\",'申【様式５・６】（コミュ）'!E50)","v":""},null,null,null,null,null,null,null,null,null,null,{"$f":"IFERROR(VLOOKUP(E61,選択肢!$Y$2:$Z$6,2,FALSE),\"\")","v":""},null,null,{"$f":"IF('申【様式５・６】（コミュ）'!S50=\"\",\"\",'申【様式５・６】（コミュ）'!S50)","v":""}]
[null,"参加\n児童生徒",null,null,"合計",null,{"$f":"IF('申【様式５・６】（コミュ）'!G51=\"\",\"\",'申【様式５・６】（コミュ）'!G51)","v":""},null,null,"人",null,"参加児童\n生徒単位",null,null,null,{"$f":"IF('申【様式５・６】（コミュ）'!P51=\"\",\"\",'申【様式５・６】（コミュ）'!P51)","v":""}]
[null,null,null,null,null,null,null,null,null,null,null,null,null,null,null,{"$f":"IFERROR(VLOOKUP(P62,選択肢!$AE:$AF,2,FALSE),\"\")","v":""},null,null,{"$f":"IF('申【様式５・６】（コミュ）'!S52=\"\",\"\",'申【様式５・６】（コミュ）'!S52)","v":""}]
[null,"実施内容・\n児童生徒の反応等"]
["第３回","実施日時",null,null,{"$f":"IF('申【様式５・６】（コミュ）'!E54=\"\",\"\",'申【様式５・６】（コミュ）'!E54)","v":""},null,null,null,null,null,null,null,null,null,null,"実施時間",null,null,{"$f":"IF('申【様式５・６】（コミュ）'!S54=\"\",\"\",'申【様式５・６】（コミュ）'!S54)","v":""},null,null,null,null,null,"実施\n合計",null,{"$f":"IF('申【様式５・６】（コミュ）'!AA54=\"\",\"\",'申【様式５・６】（コミュ）'!AA54)","v":""},null,"分"]
[null,"教科の\n位置付け",null,null,{"$f":"IF('申【様式５・６】（コミュ）'!E55=\"\",\"\",'申【様式５・６】（コミュ）'!E55)","v":""},null,null,null,null,null,null,null,null,null,null,{"$f":"IFERROR(VLOOKUP(E66,選択肢!$Y$2:$Z$6,2,FALSE),\"\")","v":""},null,null,{"$f":"IF('申【様式５・６】（コミュ）'!S55=\"\",\"\",'申【様式５・６】（コミュ）'!S55)","v":""}]
[null,"参加\n児童生徒",null,null,"合計",null,{"$f":"IF('申【様式５・６】（コミュ）'!G56=\"\",\"\",'申【様式５・６】（コミュ）'!G56)","v":""},null,null,"人",null,"参加児童\n生徒単位",null,null,null,{"$f":"IF('申【様式５・６】（コミュ）'!P56=\"\",\"\",'申【様式５・６】（コミュ）'!P56)","v":""}]
[null,null,null,null,null,null,null,null,null,null,null,null,null,null,null,{"$f":"IFERROR(VLOOKUP(P67,選択肢!$AE:$AF,2,FALSE),\"\")","v":""},null,null,{"$f":"IF('申【様式５・６】（コミュ）'!S57=\"\",\"\",'申【様式５・６】（コミュ）'!S57)","v":""}]
[null,"実施内容・\n児童生徒の反応等"]
["第４回","実施日時",null,null,{"$f":"IF('申【様式５・６】（コミュ）'!E59=\"\",\"\",'申【様式５・６】（コミュ）'!E59)","v":""},null,null,null,null,null,null,null,null,null,null,"実施時間",null,null,{"$f":"IF('申【様式５・６】（コミュ）'!S59=\"\",\"\",'申【様式５・６】（コミュ）'!S59)","v":""},null,null,null,null,null,"実施\n合計",null,{"$f":"IF('申【様式５・６】（コミュ）'!AA59=\"\",\"\",'申【様式５・６】（コミュ）'!AA59)","v":""},null,"分"]
[null,"教科の\n位置付け",null,null,{"$f":"IF('申【様式５・６】（コミュ）'!E60=\"\",\"\",'申【様式５・６】（コミュ）'!E60)","v":""},null,null,null,null,null,null,null,null,null,null,{"$f":"IFERROR(VLOOKUP(E71,選択肢!$Y$2:$Z$6,2,FALSE),\"\")","v":""},null,null,{"$f":"IF('申【様式５・６】（コミュ）'!S60=\"\",\"\",'申【様式５・６】（コミュ）'!S60)","v":""}]
[null,"参加\n児童生徒",null,null,"合計",null,{"$f":"IF('申【様式５・６】（コミュ）'!G61=\"\",\"\",'申【様式５・６】（コミュ）'!G61)","v":""},null,null,"人",null,"参加児童\n生徒単位",null,null,null,{"$f":"IF('申【様式５・６】（コミュ）'!P61=\"\",\"\",'申【様式５・６】（コミュ）'!P61)","v":""}]
[null,null,null,null,null,null,null,null,null,null,null,null,null,null,null,{"$f":"IFERROR(VLOOKUP(P72,選択肢!$AE:$AF,2,FALSE),\"\")","v":""},null,null,{"$f":"IF('申【様式５・６】（コミュ）'!S62=\"\",\"\",'申【様式５・６】（コミュ）'!S62)","v":""}]
[null,"実施内容・\n児童生徒の反応等"]
["第５回","実施日時",null,null,{"$f":"IF('申【様式５・６】（コミュ）'!E64=\"\",\"\",'申【様式５・６】（コミュ）'!E64)","v":""},null,null,null,null,null,null,null,null,null,null,"実施時間",null,null,{"$f":"IF('申【様式５・６】（コミュ）'!S64=\"\",\"\",'申【様式５・６】（コミュ）'!S64)","v":""},null,null,null,null,null,"実施\n合計",null,{"$f":"IF('申【様式５・６】（コミュ）'!AA64=\"\",\"\",'申【様式５・６】（コミュ）'!AA64)","v":""},null,"分"]
[null,"教科の\n位置付け",null,null,{"$f":"IF('申【様式５・６】（コミュ）'!E65=\"\",\"\",'申【様式５・６】（コミュ）'!E65)","v":""},null,null,null,null,null,null,null,null,null,null,{"$f":"IFERROR(VLOOKUP(E76,選択肢!$Y$2:$Z$6,2,FALSE),\"\")","v":""},null,null,{"$f":"IF('申【様式５・６】（コミュ）'!S65=\"\",\"\",'申【様式５・６】（コミュ）'!S65)","v":""}]
[null,"参加\n児童生徒",null,null,"合計",null,{"$f":"IF('申【様式５・６】（コミュ）'!G66=\"\",\"\",'申【様式５・６】（コミュ）'!G66)","v":""},null,null,"人",null,"参加児童\n生徒単位",null,null,null,{"$f":"IF('申【様式５・６】（コミュ）'!P66=\"\",\"\",'申【様式５・６】（コミュ）'!P66)","v":""}]
[null,null,null,null,null,null,null,null,null,null,null,null,null,null,null,{"$f":"IFERROR(VLOOKUP(P77,選択肢!$AE:$AF,2,FALSE),\"\")","v":""},null,null,{"$f":"IF('申【様式５・６】（コミュ）'!S67=\"\",\"\",'申【様式５・６】（コミュ）'!S67)","v":""}]
[null,"実施内容・\n児童生徒の反応等"]
["様式11",null,null,null,null,null,null,null,null,null,null,null,null,null,null,null,null,null,null,null,null,null,null,null,null,null,"C",null,"（4/4）"]
["都道府県・政令指定都市",null,null,null,null,null,null,{"$f":"IF($U$5=\"\",\"\",$U$5)","v":""},null,null,null,null,null,null,"実施校名",null,null,null,null,{"$f":"IF($F$6=\"\",\"\",$F$6)","v":""}]
[]
["第６回","実施日時",null,null,{"$f":"IF('申【様式５・６】（コミュ）'!E72=\"\",\"\",'申【様式５・６】（コミュ）'!E72)","v":""},null,null,null,null,null,null,null,null,null,null,"実施時間",null,null,{"$f":"IF('申【様式５・６】（コミュ）'!S72=\"\",\"\",'申【様式５・６】（コミュ）'!S72)","v":""},null,null,null,null,null,"実施\n合計",null,{"$f":"IF('申【様式５・６】（コミュ）'!AA72=\"\",\"\",'申【様式５・６】（コミュ）'!AA72)","v":""},null,"分"]
[null,"教科の\n位置付け",null,null,{"$f":"IF('申【様式５・６】（コミュ）'!E73=\"\",\"\",'申【様式５・６】（コミュ）'!E73)","v":""},null,null,null,null,null,null,null,null,null,null,{"$f":"IFERROR(VLOOKUP(E84,選択肢!$Y$2:$Z$6,2,FALSE),\"\")","v":""},null,null,{"$f":"IF('申【様式５・６】（コミュ）'!S73=\"\",\"\",'申【様式５・６】（コミュ）'!S73)","v":""}]
[null,"参加\n児童生徒",null,null,"合計",null,{"$f":"IF('申【様式５・６】（コミュ）'!G74=\"\",\"\",'申【様式５・６】（コミュ）'!G74)","v":""},null,null,"人",null,"参加児童\n生徒単位",null,null,null,{"$f":"IF('申【様式５・６】（コミュ）'!P74=\"\",\"\",'申【様式５・６】（コミュ）'!P74)","v":""}]
[null,null,null,null,null,null,null,null,null,null,null,null,null,null,null,{"$f":"IFERROR(VLOOKUP(P85,選択肢!$AE:$AF,2,FALSE),\"\")","v":""},null,null,{"$f":"IF('申【様式５・６】（コミュ）'!S75=\"\",\"\",'申【様式５・６】（コミュ）'!S75)","v":""}]
[null,"実施内容・\n児童生徒の反応等"]
["第７回","実施日時",null,null,{"$f":"IF('申【様式５・６】（コミュ）'!E77=\"\",\"\",'申【様式５・６】（コミュ）'!E77)","v":""},null,null,null,null,null,null,null,null,null,null,"実施時間",null,null,{"$f":"IF('申【様式５・６】（コミュ）'!S77=\"\",\"\",'申【様式５・６】（コミュ）'!S77)","v":""},null,null,null,null,null,"実施\n合計",null,{"$f":"IF('申【様式５・６】（コミュ）'!AA77=\"\",\"\",'申【様式５・６】（コミュ）'!AA77)","v":""},null,"分"]
[null,"教科の\n位置付け",null,null,{"$f":"IF('申【様式５・６】（コミュ）'!E78=\"\",\"\",'申【様式５・６】（コミュ）'!E78)","v":""},null,null,null,null,null,null,null,null,null,null,{"$f":"IFERROR(VLOOKUP(E89,選択肢!$Y$2:$Z$6,2,FALSE),\"\")","v":""},null,null,{"$f":"IF('申【様式５・６】（コミュ）'!S78=\"\",\"\",'申【様式５・６】（コミュ）'!S78)","v":""}]
[null,"参加\n児童生徒",null,null,"合計",null,{"$f":"IF('申【様式５・６】（コミュ）'!G79=\"\",\"\",'申【様式５・６】（コミュ）'!G79)","v":""},null,null,"人",null,"参加児童\n生徒単位",null,null,null,{"$f":"IF('申【様式５・６】（コミュ）'!P79=\"\",\"\",'申【様式５・６】（コミュ）'!P79)","v":""}]
[null,null,null,null,null,null,null,null,null,null,null,null,null,null,null,{"$f":"IFERROR(VLOOKUP(P90,選択肢!$AE:$AF,2,FALSE),\"\")","v":""},null,null,{"$f":"IF('申【様式５・６】（コミュ）'!S80=\"\",\"\",'申【様式５・６】（コミュ）'!S80)","v":""}]
[null,"実施内容・\n児童生徒の反応等"]
["第８回","実施日時",null,null,{"$f":"IF('申【様式５・６】（コミュ）'!E82=\"\",\"\",'申【様式５・６】（コミュ）'!E82)","v":""},null,null,null,null,null,null,null,null,null,null,"実施時間",null,null,{"$f":"IF('申【様式５・６】（コミュ）'!S82=\"\",\"\",'申【様式５・６】（コミュ）'!S82)","v":""},null,null,null,null,null,"実施\n合計",null,{"$f":"IF('申【様式５・６】（コミュ）'!AA82=\"\",\"\",'申【様式５・６】（コミュ）'!AA82)","v":""},null,"分"]
[null,"教科の\n位置付け",null,null,{"$f":"IF('申【様式５・６】（コミュ）'!E83=\"\",\"\",'申【様式５・６】（コミュ）'!E83)","v":""},null,null,null,null,null,null,null,null,null,null,{"$f":"IFERROR(VLOOKUP(E94,選択肢!$Y$2:$Z$6,2,FALSE),\"\")","v":""},null,null,{"$f":"IF('申【様式５・６】（コミュ）'!S83=\"\",\"\",'申【様式５・６】（コミュ）'!S83)","v":""}]
[null,"参加\n児童生徒",null,null,"合計",null,{"$f":"IF('申【様式５・６】（コミュ）'!G84=\"\",\"\",'申【様式５・６】（コミュ）'!G84)","v":""},null,null,"人",null,"参加児童\n生徒単位",null,null,null,{"$f":"IF('申【様式５・６】（コミュ）'!P84=\"\",\"\",'申【様式５・６】（コミュ）'!P84)","v":""}]
[null,null,null,null,null,null,null,null,null,null,null,null,null,null,null,{"$f":"IFERROR(VLOOKUP(P95,選択肢!$AE:$AF,2,FALSE),\"\")","v":""},null,null,{"$f":"IF('申【様式５・６】（コミュ）'!S85=\"\",\"\",'申【様式５・６】（コミュ）'!S85)","v":""}]
[null,"実施内容・\n児童生徒の反応等"]
["第９回","実施日時",null,null,{"$f":"IF('申【様式５・６】（コミュ）'!E87=\"\",\"\",'申【様式５・６】（コミュ）'!E87)","v":""},null,null,null,null,null,null,null,null,null,null,"実施時間",null,null,{"$f":"IF('申【様式５・６】（コミュ）'!S87=\"\",\"\",'申【様式５・６】（コミュ）'!S87)","v":""},null,null,null,null,null,"実施\n合計",null,{"$f":"IF('申【様式５・６】（コミュ）'!AA87=\"\",\"\",'申【様式５・６】（コミュ）'!AA87)","v":""},null,"分"]
[null,"教科の\n位置付け",null,null,{"$f":"IF('申【様式５・６】（コミュ）'!E88=\"\",\"\",'申【様式５・６】（コミュ）'!E88)","v":""},null,null,null,null,null,null,null,null,null,null,{"$f":"IFERROR(VLOOKUP(E99,選択肢!$Y$2:$Z$6,2,FALSE),\"\")","v":""},null,null,{"$f":"IF('申【様式５・６】（コミュ）'!S88=\"\",\"\",'申【様式５・６】（コミュ）'!S88)","v":""}]
[null,"参加\n児童生徒",null,null,"合計",null,{"$f":"IF('申【様式５・６】（コミュ）'!G89=\"\",\"\",'申【様式５・６】（コミュ）'!G89)","v":""},null,null,"人",null,"参加児童\n生徒単位",null,null,null,{"$f":"IF('申【様式５・６】（コミュ）'!P89=\"\",\"\",'申【様式５・６】（コミュ）'!P89)","v":""}]
[null,null,null,null,null,null,null,null,null,null,null,null,null,null,null,{"$f":"IFERROR(VLOOKUP(P100,選択肢!$AE:$AF,2,FALSE),\"\")","v":""},null,null,{"$f":"IF('申【様式５・６】（コミュ）'!S90=\"\",\"\",'申【様式５・６】（コミュ）'!S90)","v":""}]
[null,"実施内容・\n児童生徒の反応等"]
["第１０回","実施日時",null,null,{"$f":"IF('申【様式５・６】（コミュ）'!E92=\"\",\"\",'申【様式５・６】（コミュ）'!E92)","v":""},null,null,null,null,null,null,null,null,null,null,"実施時間",null,null,{"$f":"IF('申【様式５・６】（コミュ）'!S92=\"\",\"\",'申【様式５・６】（コミュ）'!S92)","v":""},null,null,null,null,null,"実施\n合計",null,{"$f":"IF('申【様式５・６】（コミュ）'!AA92=\"\",\"\",'申【様式５・６】（コミュ）'!AA92)","v":""},null,"分"]
[null,"教科の\n位置付け",null,null,{"$f":"IF('申【様式５・６】（コミュ）'!E93=\"\",\"\",'申【様式５・６】（コミュ）'!E93)","v":""},null,null,null,null,null,null,null,null,null,null,{"$f":"IFERROR(VLOOKUP(E104,選択肢!$Y$2:$Z$6,2,FALSE),\"\")","v":""},null,null,{"$f":"IF('申【様式５・６】（コミュ）'!S93=\"\",\"\",'申【様式５・６】（コミュ）'!S93)","v":""}]
[null,"参加\n児童生徒",null,null,"合計",null,{"$f":"IF('申【様式５・６】（コミュ）'!G94=\"\",\"\",'申【様式５・６】（コミュ）'!G94)","v":""},null,null,"人",null,"参加児童\n生徒単位",null,null,null,{"$f":"IF('申【様式５・６】（コミュ）'!P94=\"\",\"\",'申【様式５・６】（コミュ）'!P94)","v":""}]
[null,null,null,null,null,null,null,null,null,null,null,null,null,null,null,{"$f":"IFERROR(VLOOKUP(P105,選択肢!$AE:$AF,2,FALSE),\"\")","v":""},null,null,{"$f":"IF('申【様式５・６】（コミュ）'!S95=\"\",\"\",'申【様式５・６】（コミュ）'!S95)","v":""}]
[null,"実施内容・\n児童生徒の反応等"]
["様式11",null,null,null,null,null,null,null,null,null,null,null,null,null,null,null,null,null,null,null,null,null,null,null,null,null,"C",null,"（4/4）"]
["都道府県・政令指定都市",null,null,null,null,null,null,{"$f":"IF($U$5=\"\",\"\",$U$5)","v":""},null,null,null,null,null,null,"実施校名",null,null,null,null,{"$f":"IF($F$6=\"\",\"\",$F$6)","v":""}]
[]
["第１１回","実施日時",null,null,{"$f":"IF('申【様式５・６】（コミュ）'!E100=\"\",\"\",'申【様式５・６】（コミュ）'!E100)","v":""},null,null,null,null,null,null,null,null,null,null,"実施時間",null,null,{"$f":"IF('申【様式５・６】（コミュ）'!S100=\"\",\"\",'申【様式５・６】（コミュ）'!S100)","v":""},null,null,null,null,null,"実施\n合計",null,{"$f":"IF('申【様式５・６】（コミュ）'!AA100=\"\",\"\",'申【様式５・６】（コミュ）'!AA100)","v":""},null,"分"]
[null,"教科の\n位置付け",null,null,{"$f":"IF('申【様式５・６】（コミュ）'!E101=\"\",\"\",'申【様式５・６】（コミュ）'!E101)","v":""},null,null,null,null,null,null,null,null,null,null,{"$f":"IFERROR(VLOOKUP(E112,選択肢!$Y$2:$Z$6,2,FALSE),\"\")","v":""},null,null,{"$f":"IF('申【様式５・６】（コミュ）'!S101=\"\",\"\",'申【様式５・６】（コミュ）'!S101)","v":""}]
[null,"参加\n児童生徒",null,null,"合計",null,{"$f":"IF('申【様式５・６】（コミュ）'!G102=\"\",\"\",'申【様式５・６】（コミュ）'!G102)","v":""},null,null,"人",null,"参加児童\n生徒単位",null,null,null,{"$f":"IF('申【様式５・６】（コミュ）'!P102=\"\",\"\",'申【様式５・６】（コミュ）'!P102)","v":""}]
[null,null,null,null,null,null,null,null,null,null,null,null,null,null,null,{"$f":"IFERROR(VLOOKUP(P113,選択肢!$AE:$AF,2,FALSE),\"\")","v":""},null,null,{"$f":"IF('申【様式５・６】（コミュ）'!S103=\"\",\"\",'申【様式５・６】（コミュ）'!S103)","v":""}]
[null,"実施内容・\n児童生徒の反応等"]
["第１２回","実施日時",null,null,{"$f":"IF('申【様式５・６】（コミュ）'!E105=\"\",\"\",'申【様式５・６】（コミュ）'!E105)","v":""},null,null,null,null,null,null,null,null,null,null,"実施時間",null,null,{"$f":"IF('申【様式５・６】（コミュ）'!S105=\"\",\"\",'申【様式５・６】（コミュ）'!S105)","v":""},null,null,null,null,null,"実施\n合計",null,{"$f":"IF('申【様式５・６】（コミュ）'!AA105=\"\",\"\",'申【様式５・６】（コミュ）'!AA105)","v":""},null,"分"]
[null,"教科の\n位置付け",null,null,{"$f":"IF('申【様式５・６】（コミュ）'!E106=\"\",\"\",'申【様式５・６】（コミュ）'!E106)","v":""},null,null,null,null,null,null,null,null,null,null,{"$f":"IFERROR(VLOOKUP(E117,選択肢!$Y$2:$Z$6,2,FALSE),\"\")","v":""},null,null,{"$f":"IF('申【様式５・６】（コミュ）'!S106=\"\",\"\",'申【様式５・６】（コミュ）'!S106)","v":""}]
[null,"参加\n児童生徒",null,null,"合計",null,{"$f":"IF('申【様式５・６】（コミュ）'!G107=\"\",\"\",'申【様式５・６】（コミュ）'!G107)","v":""},null,null,"人",null,"参加児童\n生徒単位",null,null,null,{"$f":"IF('申【様式５・６】（コミュ）'!P107=\"\",\"\",'申【様式５・６】（コミュ）'!P107)","v":""}]
[null,null,null,null,null,null,null,null,null,null,null,null,null,null,null,{"$f":"IFERROR(VLOOKUP(P118,選択肢!$AE:$AF,2,FALSE),\"\")","v":""},null,null,{"$f":"IF('申【様式５・６】（コミュ）'!S108=\"\",\"\",'申【様式５・６】（コミュ）'!S108)","v":""}]
[null,"実施内容・\n児童生徒の反応等"]
[]
["様式12",null,null,null,null,null,null,null,null,null,null,null,null,null,null,null,null,null,null,null,null,null,null,null,"実施校ID",{"$f":"IF(F5=\"\",\"\",F5)","v":""}]
["令和５年度 文化芸術による子供育成推進事業（コミュニケーション能力向上事業）"]
["経費報告書兼支払依頼書"]
[null,null,null,null,null,null,null,null,null,null,null,null,null,null,null,null,null,"都道府県・政令指定都市",null,null,null,null,null,{"$f":"IF(U5=\"\",\"\",U5)","v":""}]
[null,null,null,null,null,null,null,null,null,null,null,null,null,null,null,null,null,"実施校名",null,null,{"$f":"IF(F6=\"\",\"\",F6)","v":""}]
[]
["実施日",null,null,null,null,null,"第１回",null,null,null,"第２回",null,null,null,"第３回",null,null,null,"第４回",null,null,null,"第５回",null,null,null,"第６回"]
[null,null,null,null,null,null,{"$f":"E55","v":""},null,null,null,{"$f":"E60","v":""},null,null,null,{"$f":"E65","v":""},null,null,null,{"$f":"E70","v":""},null,null,null,{"$f":"E75","v":""},null,null,null,{"$f":"E83","v":""}]
[null,null,null,null,null,null,"第7回",null,null,null,"第8回",null,null,null,"第9回",null,null,null,"第10回",null,null,null,"第11回",null,null,null,"第12回"]
[null,null,null,null,null,null,{"$f":"E88","v":""},null,null,null,{"$f":"E93","v":""},null,null,null,{"$f":"E98","v":""},null,null,null,{"$f":"E103","v":""},null,null,null,{"$f":"E111","v":""},null,null,null,{"$f":"E116","v":""}]
[]
["【決算総括表】",null,null,null,null,null,"※決定額：決定通知の金額が反映されます。"]
["区分",null,null,null,null,null,"決定額（予算額）",null,null,null,null,null,"決算額",null,null,null,null,null,"差額（決算額－予算額）"]
["①","謝金",null,null,null,null,{"$f":"'申【様式５・６】（コミュ）'!M141","v":0},null,null,null,null,"円","a",{"$f":"S157","v":0},null,null,null,"円",{"$f":"N135-G135","v":0},null,null,null,null,"円"]
["②","旅費",null,null,null,null,{"$f":"'申【様式５・６】（コミュ）'!S141","v":0},null,null,null,null,"円","b",{"$f":"N177","v":0},null,null,null,"円",{"$f":"N136-G136","v":0},null,null,null,null,"円"]
["③","講演等諸雑費",null,null,null,null,{"$f":"'申【様式５・６】（コミュ）'!Y156","v":0},null,null,null,null,"円","c",{"$f":"Y188","v":0},null,null,null,"円",{"$f":"N137-G137","v":0},null,null,null,null,"円"]
["合計",null,null,null,null,null,{"$f":"SUM(G135:K137)","v":0},null,null,null,null,"円",{"$f":"SUM(N135:Q137)","v":0},null,null,null,null,"円",{"$f":"SUM(S135:W137)","v":0},null,null,null,null,"円"]
[]
["【①謝金】",null,null,null,null,null,"※補助者氏名が自動反映されない場合は、氏名欄の▼プルダウンリストから選択してください。\n※Bank ID（取引先ID）について、各従事者に確認の上、「4桁-1桁」の数字を記入してください。"]
["種別",null,null,null,null,null,"氏名　※本名",null,null,null,null,null,"発注年月日",null,null,"引取年月日",null,null,"謝金",null,null,null,null,null,"Bank ID（取引先ID）"]
["被派遣者①",null,null,null,null,null,{"$f":"IF(B37=\"\",\"　\",B37)","v":"　"},null,null,null,null,null,{"$f":"IF(COUNTIF(G142,\"　\")=0,\"決定通知記載日\",\"\")","v":""},null,null,{"$f":"IF(COUNTIF(G142,\"　\")=0,\"様式11の通り\",\"\")","v":""},null,null,{"$f":"IF(G142=\"　\",0,VLOOKUP(G142,'【様式１１・１２】（コミュ）計算シート'!B:C,2,FALSE))","v":0},null,null,null,null,"円",null,null,null,null,"-"]
["被派遣者②",null,null,null,null,null,{"$f":"IF(B38=\"\",\"　\",B38)","v":"　"},null,null,null,null,null,{"$f":"IF(COUNTIF(G143,\"　\")=0,\"決定通知記載日\",\"\")","v":""},null,null,{"$f":"IF(COUNTIF(G143,\"　\")=0,\"様式11の通り\",\"\")","v":""},null,null,{"$f":"IF(G143=\"　\",0,VLOOKUP(G143,'【様式１１・１２】（コミュ）計算シート'!B:C,2,FALSE))","v":0},null,null,null,null,"円",null,null,null,null,"-"]
["被派遣者③",null,null,null,null,null,"　",null,null,null,null,null,"",null,null,"",null,null,{"$f":"IF(G144=\"　\",0,VLOOKUP(G144,'【様式１１・１２】（コミュ）計算シート'!B:C,2,FALSE))","v":0},null,null,null,null,"円",null,null,null,null,"-"]
["被派遣者④",null,null,null,null,null,"　",null,null,null,null,null,"",null,null,"",null,null,{"$f":"IF(G145=\"　\",0,VLOOKUP(G145,'【様式１１・１２】（コミュ）計算シート'!B:C,2,FALSE))","v":0},null,null,null,null,"円",null,null,null,null,"-"]
["被派遣者⑤",null,null,null,null,null,"　",null,null,null,null,null,"",null,null,"",null,null,{"$f":"IF(G146=\"　\",0,VLOOKUP(G146,'【様式１１・１２】（コミュ）計算シート'!B:C,2,FALSE))","v":0},null,null,null,null,"円",null,null,null,null,"-"]
["被派遣者⑥",null,null,null,null,null,"　",null,null,null,null,null,"",null,null,"",null,null,{"$f":"IF(G147=\"　\",0,VLOOKUP(G147,'【様式１１・１２】（コミュ）計算シート'!B:C,2,FALSE))","v":0},null,null,null,null,"円",null,null,null,null,"-"]
["被派遣者⑦",null,null,null,null,null,"　",null,null,null,null,null,"",null,null,"",null,null,{"$f":"IF(G148=\"　\",0,VLOOKUP(G148,'【様式１１・１２】（コミュ）計算シート'!B:C,2,FALSE))","v":0},null,null,null,null,"円",null,null,null,null,"-"]
["被派遣者⑧",null,null,null,null,null,"　",null,null,null,null,null,"",null,null,"",null,null,{"$f":"IF(G149=\"　\",0,VLOOKUP(G149,'【様式１１・１２】（コミュ）計算シート'!B:C,2,FALSE))","v":0},null,null,null,null,"円",null,null,null,null,"-"]
["被派遣者⑨",null,null,null,null,null,"　",null,null,null,null,null,"",null,null,"",null,null,{"$f":"IF(G150=\"　\",0,VLOOKUP(G150,'【様式１１・１２】（コミュ）計算シート'!B:C,2,FALSE))","v":0},null,null,null,null,"円",null,null,null,null,"-"]
["被派遣者⑩",null,null,null,null,null,"　",null,null,null,null,null,"",null,null,"",null,null,{"$f":"IF(G151=\"　\",0,VLOOKUP(G151,'【様式１１・１２】（コミュ）計算シート'!B:C,2,FALSE))","v":0},null,null,null,null,"円",null,null,null,null,"-"]
["被派遣者⑪",null,null,null,null,null,"　",null,null,null,null,null,"",null,null,"",null,null,{"$f":"IF(G152=\"　\",0,VLOOKUP(G152,'【様式１１・１２】（コミュ）計算シート'!B:C,2,FALSE))","v":0},null,null,null,null,"円",null,null,null,null,"-"]
["被派遣者⑫",null,null,null,null,null,"　",null,null,null,null,null,"",null,null,"",null,null,{"$f":"IF(G153=\"　\",0,VLOOKUP(G153,'【様式１１・１２】（コミュ）計算シート'!B:C,2,FALSE))","v":0},null,null,null,null,"円",null,null,null,null,"-"]
["被派遣者⑬",null,null,null,null,null,"　",null,null,null,null,null,"",null,null,"",null,null,{"$f":"IF(G154=\"　\",0,VLOOKUP(G154,'【様式１１・１２】（コミュ）計算シート'!B:C,2,FALSE))","v":0},null,null,null,null,"円",null,null,null,null,"-"]
["被派遣者⑭",null,null,null,null,null,"　",null,null,null,null,null,"",null,null,"",null,null,{"$f":"IF(G155=\"　\",0,VLOOKUP(G155,'【様式１１・１２】（コミュ）計算シート'!B:C,2,FALSE))","v":0},null,null,null,null,"円",null,null,null,null,"-"]
["被派遣者⑮",null,null,null,null,null,"　",null,null,null,null,null,"",null,null,"",null,null,{"$f":"IF(G156=\"　\",0,VLOOKUP(G156,'【様式１１・１２】（コミュ）計算シート'!B:C,2,FALSE))","v":0},null,null,null,null,"円",null,null,null,null,"-"]
["謝金合計（ａ）",null,null,null,null,null,null,null,null,null,null,null,null,null,null,null,null,null,{"$f":"SUM(S142:W156)","v":0},null,null,null,null,"円"]
[]
["【②旅費】",null,null,null,null,null,null,null,null,null,null,null,null,"※様式7をもとに記入してください。\n※備考欄について、記入が必要な場合のみ記入欄が白になります。"]
["下記の額の対象期間",null,null,null,null,null,null,null,null,null,null,null,null,null,null,null,null,"第1回",null,null,null,null,null,"～",{"$f":"\"第\"&U10&\"回\"","v":"第0回"}]
["種別",null,null,"氏名　※本名",null,null,null,null,null,"決定額（予算額）",null,null,null,"旅費支払額",null,null,null,"行程\n変更",null,"備考／（予算額からの変更・行程変更有の場合）変更理由"]
["被派遣者",null,"①",{"$f":"IF(G142=\"\",\"　\",G142)","v":"　"},null,null,null,null,null,{"$f":"IFERROR(IF(D162=\"　\",\"\",VLOOKUP(D162,'申【様式５・６】（コミュ）'!$G$126:$W$140,13,FALSE)),0)","v":""},null,null,"円",null,null,null,"円"]
[null,null,"②",{"$f":"IF(G143=\"\",\"　\",G143)","v":"　"},null,null,null,null,null,{"$f":"IFERROR(IF(D163=\"　\",\"\",VLOOKUP(D163,'申【様式５・６】（コミュ）'!$G$126:$W$140,13,FALSE)),0)","v":""},null,null,"円",null,null,null,"円"]
[null,null,"③","　",null,null,null,null,null,{"$f":"IFERROR(IF(D164=\"　\",\"\",VLOOKUP(D164,'申【様式５・６】（コミュ）'!$G$126:$W$140,13,FALSE)),0)","v":""},null,null,"円",null,null,null,"円"]
[null,null,"④","　",null,null,null,null,null,{"$f":"IFERROR(IF(D165=\"　\",\"\",VLOOKUP(D165,'申【様式５・６】（コミュ）'!$G$126:$W$140,13,FALSE)),0)","v":""},null,null,"円",null,null,null,"円"]
[null,null,"⑤","　",null,null,null,null,null,{"$f":"IFERROR(IF(D166=\"　\",\"\",VLOOKUP(D166,'申【様式５・６】（コミュ）'!$G$126:$W$140,13,FALSE)),0)","v":""},null,null,"円",null,null,null,"円"]
[null,null,"⑥","　",null,null,null,null,null,{"$f":"IFERROR(IF(D167=\"　\",\"\",VLOOKUP(D167,'申【様式５・６】（コミュ）'!$G$126:$W$140,13,FALSE)),0)","v":""},null,null,"円",null,null,null,"円"]
[null,null,"⑦","　",null,null,null,null,null,{"$f":"IFERROR(IF(D168=\"　\",\"\",VLOOKUP(D168,'申【様式５・６】（コミュ）'!$G$126:$W$140,13,FALSE)),0)","v":""},null,null,"円",null,null,null,"円"]
[null,null,"⑧","　",null,null,null,null,null,{"$f":"IFERROR(IF(D169=\"　\",\"\",VLOOKUP(D169,'申【様式５・６】（コミュ）'!$G$126:$W$140,13,FALSE)),0)","v":""},null,null,"円",null,null,null,"円"]
[null,null,"⑨","　",null,null,null,null,null,{"$f":"IFERROR(IF(D170=\"　\",\"\",VLOOKUP(D170,'申【様式５・６】（コミュ）'!$G$126:$W$140,13,FALSE)),0)","v":""},null,null,"円",null,null,null,"円"]
[null,null,"⑩","　",null,null,null,null,null,{"$f":"IFERROR(IF(D171=\"　\",\"\",VLOOKUP(D171,'申【様式５・６】（コミュ）'!$G$126:$W$140,13,FALSE)),0)","v":""},null,null,"円",null,null,null,"円"]
[null,null,"⑪","　",null,null,null,null,null,{"$f":"IFERROR(IF(D172=\"　\",\"\",VLOOKUP(D172,'申【様式５・６】（コミュ）'!$G$126:$W$140,13,FALSE)),0)","v":""},null,null,"円",null,null,null,"円"]
[null,null,"⑫","　",null,null,null,null,null,{"$f":"IFERROR(IF(D173=\"　\",\"\",VLOOKUP(D173,'申【様式５・６】（コミュ）'!$G$126:$W$140,13,FALSE)),0)","v":""},null,null,"円",null,null,null,"円"]
[null,null,"⑬","　",null,null,null,null,null,{"$f":"IFERROR(IF(D174=\"　\",\"\",VLOOKUP(D174,'申【様式５・６】（コミュ）'!$G$126:$W$140,13,FALSE)),0)","v":""},null,null,"円",null,null,null,"円"]
[null,null,"⑭","　",null,null,null,null,null,{"$f":"IFERROR(IF(D175=\"　\",\"\",VLOOKUP(D175,'申【様式５・６】（コミュ）'!$G$126:$W$140,13,FALSE)),0)","v":""},null,null,"円",null,null,null,"円"]
[null,null,"⑮","　",null,null,null,null,null,{"$f":"IFERROR(IF(D176=\"　\",\"\",VLOOKUP(D176,'申【様式５・６】（コミュ）'!$G$126:$W$140,13,FALSE)),0)","v":""},null,null,"円",null,null,null,"円"]
["旅費合計（ｂ）",null,null,null,null,null,null,null,null,null,null,null,null,{"$f":"SUM(N162:P176)","v":0},null,null,"円"]
[]
["③【講演等諸雑費】"]
["種別",null,null,null,"項目または業者名",null,null,null,null,"単価",null,null,null,null,"数量",null,"（単位）",null,"発注年月日",null,null,"引取年月日",null,null,"合計"]
[{"$f":"IF('申【様式５・６】（コミュ）'!A149=\"\",\"\",'申【様式５・６】（コミュ）'!A149)","v":""},null,null,null,{"$f":"IF('申【様式５・６】（コミュ）'!G149=\"\",\"\",'申【様式５・６】（コミュ）'!G149)","v":""},null,null,null,null,{"$f":"IF('申【様式５・６】（コミュ）'!M149=\"\",\"\",'申【様式５・６】（コミュ）'!M149)","v":""},null,null,null,"円",{"$f":"IF('申【様式５・６】（コミュ）'!S149=\"\",\"\",'申【様式５・６】（コミュ）'!S149)","v":""},null,{"$f":"IF('申【様式５・６】（コミュ）'!W149=\"\",\"\",'申【様式５・６】（コミュ）'!W149)","v":""},null,{"$f":"IF(COUNTIF(A181,\"?*\")=1,\"決定通知記載日\",\"\")","v":""},null,null,{"$f":"IF(COUNTIF(A181,\"?*\")=1,\"様式11の通り\",\"\")","v":""},null,null,{"$f":"IF(J181=\"\",\"\",J181*O181)","v":""},null,null,null,null,"円"]
[{"$f":"IF('申【様式５・６】（コミュ）'!A150=\"\",\"\",'申【様式５・６】（コミュ）'!A150)","v":""},null,null,null,{"$f":"IF('申【様式５・６】（コミュ）'!G150=\"\",\"\",'申【様式５・６】（コミュ）'!G150)","v":""},null,null,null,null,{"$f":"IF('申【様式５・６】（コミュ）'!M150=\"\",\"\",'申【様式５・６】（コミュ）'!M150)","v":""},null,null,null,"円",{"$f":"IF('申【様式５・６】（コミュ）'!S150=\"\",\"\",'申【様式５・６】（コミュ）'!S150)","v":""},null,{"$f":"IF('申【様式５・６】（コミュ）'!W150=\"\",\"\",'申【様式５・６】（コミュ）'!W150)","v":""},null,{"$f":"IF(COUNTIF(A182,\"?*\")=1,\"決定通知記載日\",\"\")","v":""},null,null,{"$f":"IF(COUNTIF(A182,\"?*\")=1,\"様式11の通り\",\"\")","v":""},null,null,{"$f":"IF(J182=\"\",\"\",J182*O182)","v":""},null,null,null,null,"円"]
[{"$f":"IF('申【様式５・６】（コミュ）'!A151=\"\",\"\",'申【様式５・６】（コミュ）'!A151)","v":""},null,null,null,{"$f":"IF('申【様式５・６】（コミュ）'!G151=\"\",\"\",'申【様式５・６】（コミュ）'!G151)","v":""},null,null,null,null,{"$f":"IF('申【様式５・６】（コミュ）'!M151=\"\",\"\",'申【様式５・６】（コミュ）'!M151)","v":""},null,null,null,"円",{"$f":"IF('申【様式５・６】（コミュ）'!S151=\"\",\"\",'申【様式５・６】（コミュ）'!S151)","v":""},null,{"$f":"IF('申【様式５・６】（コミュ）'!W151=\"\",\"\",'申【様式５・６】（コミュ）'!W151)","v":""},null,"",null,null,"",null,null,"",null,null,null,null,"円"]
[{"$f":"IF('申【様式５・６】（コミュ）'!A152=\"\",\"\",'申【様式５・６】（コミュ）'!A152)","v":""},null,null,null,{"$f":"IF('申【様式５・６】（コミュ）'!G152=\"\",\"\",'申【様式５・６】（コミュ）'!G152)","v":""},null,null,null,null,{"$f":"IF('申【様式５・６】（コミュ）'!M152=\"\",\"\",'申【様式５・６】（コミュ）'!M152)","v":""},null,null,null,"円",{"$f":"IF('申【様式５・６】（コミュ）'!S152=\"\",\"\",'申【様式５・６】（コミュ）'!S152)","v":""},null,{"$f":"IF('申【様式５・６】（コミュ）'!W152=\"\",\"\",'申【様式５・６】（コミュ）'!W152)","v":""},null,"",null,null,"",null,null,"",null,null,null,null,"円"]
[{"$f":"IF('申【様式５・６】（コミュ）'!A153=\"\",\"\",'申【様式５・６】（コミュ）'!A153)","v":""},null,null,null,{"$f":"IF('申【様式５・６】（コミュ）'!G153=\"\",\"\",'申【様式５・６】（コミュ）'!G153)","v":""},null,null,null,null,{"$f":"IF('申【様式５・６】（コミュ）'!M153=\"\",\"\",'申【様式５・６】（コミュ）'!M153)","v":""},null,null,null,"円",{"$f":"IF('申【様式５・６】（コミュ）'!S153=\"\",\"\",'申【様式５・６】（コミュ）'!S153)","v":""},null,{"$f":"IF('申【様式５・６】（コミュ）'!W153=\"\",\"\",'申【様式５・６】（コミュ）'!W153)","v":""},null,"",null,null,"",null,null,"",null,null,null,null,"円"]
[{"$f":"IF('申【様式５・６】（コミュ）'!A154=\"\",\"\",'申【様式５・６】（コミュ）'!A154)","v":""},null,null,null,{"$f":"IF('申【様式５・６】（コミュ）'!G154=\"\",\"\",'申【様式５・６】（コミュ）'!G154)","v":""},null,null,null,null,{"$f":"IF('申【様式５・６】（コミュ）'!M154=\"\",\"\",'申【様式５・６】（コミュ）'!M154)","v":""},null,null,null,"円",{"$f":"IF('申【様式５・６】（コミュ）'!S154=\"\",\"\",'申【様式５・６】（コミュ）'!S154)","v":""},null,{"$f":"IF('申【様式５・６】（コミュ）'!W154=\"\",\"\",'申【様式５・６】（コミュ）'!W154)","v":""},null,"",null,null,"",null,null,"",null,null,null,null,"円"]
[{"$f":"IF('申【様式５・６】（コミュ）'!A155=\"\",\"\",'申【様式５・６】（コミュ）'!A155)","v":""},null,null,null,{"$f":"IF('申【様式５・６】（コミュ）'!G155=\"\",\"\",'申【様式５・６】（コミュ）'!G155)","v":""},null,null,null,null,{"$f":"IF('申【様式５・６】（コミュ）'!M155=\"\",\"\",'申【様式５・６】（コミュ）'!M155)","v":""},null,null,null,"円",{"$f":"IF('申【様式５・６】（コミュ）'!S155=\"\",\"\",'申【様式５・６】（コミュ）'!S155)","v":""},null,{"$f":"IF('申【様式５・６】（コミュ）'!W155=\"\",\"\",'申【様式５・６】（コミュ）'!W155)","v":""},null,"",null,null,"",null,null,"",null,null,null,null,"円"]
["講演等諸雑費合計（ｃ）",null,null,null,null,null,null,null,null,null,null,null,null,null,null,null,null,null,null,null,null,null,null,null,{"$f":"SUM(Y181:AC187)","v":0},null,null,null,null,"円"]

{"sheet":"申報【様式７】講師（派遣）","index":10,"n_rows":47,"n_cols":40,"rows_kept":47,"cut":false,"hidden":true,"merged":[[40,36,40,38],[41,0,41,41],[42,0,42,3],[43,0,44,41],[38,39,38,41],[39,0,40,26],[39,27,39,29],[39,30,39,32],[39,33,39,35],[39,36,39,38],[39,39,40,41],[40,27,40,29],[40,30,40,32],[40,33,40,35],[38,21,38,23],[38,24,38,26],[38,27,38,29],[38,30,38,32],[38,33,38,35],[38,36,38,38],[37,30,37,32],[37,33,37,35],[37,36,37,38],[37,39,37,41],[38,0,38,3],[38,4,38,5],[38,6,38,8],[38,10,38,12],[38,13,38,17],[38,18,38,20],[37,0,37,3],[37,4,37,5],[37,6,37,8],[37,10,37,12],[37,13,37,17],[37,18,37,20],[37,21,37,23],[37,24,37,26],[37,27,37,29],[35,30,35,32],[35,33,35,35],[35,36,35,38],[35,39,35,41],[36,0,36,3],[36,4,36,5],[36,6,36,8],[36,10,36,12],[36,13,36,17],[36,18,36,20],[36,39,36,41],[36,21,36,23],[36,24,36,26],[36,27,36,29],[36,30,36,32],[36,33,36,35],[36,36,36,38],[35,0,35,3],[35,4,35,5],[35,6,35,8],[35,10,35,12],[35,13,35,17],[35,18,35,20],[35,21,35,23],[35,24,35,26],[35,27,35,29],[33,30,33,32],[33,33,33,35],[33,36,33,38],[33,39,33,41],[34,0,34,3],[34,4,34,5],[34,6,34,8],[34,10,34,12],[34,13,34,17],[34,18,34,20],[34,39,34,41],[34,21,34,23],[34,24,34,26],[34,27,34,29],[34,30,34,32],[34,33,34,35],[34,36,34,38],[33,0,33,3],[33,4,33,5],[33,6,33,8],[33,10,33,12],[33,13,33,17],[33,18,33,20],[33,21,33,23],[33,24,33,26],[33,27,33,29],[31,30,31,32],[31,33,31,35],[31,36,31,38],[31,39,31,41],[32,0,32,3],[32,4,32,5],[32,6,32,8],[32,10,32,12],[32,13,32,17],[32,18,32,20],[32,39,32,41],[32,21,32,23],[32,24,32,26],[32,27,32,29],[32,30,32,32],[32,33,32,35],[32,36,32,38],[31,0,31,3],[31,4,31,5],[31,6,31,8],[31,10,31,12],[31,13,31,17],[31,18,31,20],[31,21,31,23],[31,24,31,26],[31,27,31,29],[29,30,29,32],[29,33,29,35],[29,36,29,38],[29,39,29,41],[30,0,30,3],[30,4,30,5],[30,6,30,8],[30,10,30,12],[30,13,30,17],[30,18,30,20],[30,39,30,41],[30,21,30,23],[30,24,30,26],[30,27,30,29],[30,30,30,32],[30,33,30,35],[30,36,30,38],[29,0,29,3],[29,4,29,5],[29,6,29,8],[29,10,29,12],[29,13,29,17],[29,18,29,20],[29,21,29,23],[29,24,29,26],[29,27,29,29],[27,30,27,32],[27,33,27,35],[27,36,27,38],[27,39,27,41],[28,0,28,3],[28,4,28,5],[28,6,28,8],[28,10,28,12],[28,13,28,17],[28,18,28,20],[28,39,28,41],[28,21,28,23],[28,24,28,26],[28,27,28,29],[28,30,28,32],[28,33,28,35],[28,36,28,38],[27,0,27,3],[27,4,27,5],[27,6,27,8],[27,10,27,12],[27,13,27,17],[27,18,27,20],[27,21,27,23],[27,24,27,26],[27,27,27,29],[25,30,25,32],[25,33,25,35],[25,36,25,38],[25,39,25,41],[26,0,26,3],[26,4,26,5],[26,6,26,8],[26,10,26,12],[26,13,26,17],[26,18,26,20],[26,39,26,41],[26,21,26,23],[26,24,26,26],[26,27,26,29],[26,30,26,32],[26,33,26,35],[26,36,26,38],[25,0,25,3],[25,4,25,5],[25,6,25,8],[25,10,25,12],[25,13,25,17],[25,18,25,20],[25,21,25,23],[25,24,25,26],[25,27,25,29],[23,36,23,38],[23,39,23,41],[24,0,24,3],[24,4,24,5],[24,6,24,8],[24,10,24,12],[24,13,24,17],[24,18,24,20],[24,39,24,41],[24,21,24,23],[24,24,24,26],[24,27,24,29],[24,30,24,32],[24,33,24,35],[24,36,24,38],[22,39,22,41],[23,0,23,3],[23,4,23,5],[23,6,23,8],[23,10,23,12],[23,13,23,17],[23,18,23,20],[23,21,23,23],[23,24,23,26],[23,27,23,29],[22,21,22,23],[22,24,22,26],[22,27,22,29],[22,30,22,32],[22,33,22,35],[22,36,22,38],[22,0,22,3],[22,4,22,5],[22,6,22,8],[22,10,22,12],[22,13,22,17],[22,18,22,20],[23,30,23,32],[23,33,23,35],[20,24,21,26],[20,27,21,29],[20,30,21,32],[20,33,21,35],[20,36,21,38],[20,39,21,41],[20,0,21,3],[20,4,21,5],[20,6,20,12],[20,13,21,17],[20,18,21,20],[20,21,21,23],[21,6,21,8],[21,10,21,12],[12,0,12,41],[8,26,8,29],[8,30,8,31],[8,32,8,35],[8,36,8,37],[8,38,8,41],[9,0,9,41],[16,0,17,3],[16,4,17,17],[16,18,19,41],[18,0,19,3],[18,4,19,10],[18,11,19,12],[18,13,19,13],[13,5,13,28],[14,0,14,3],[14,4,14,18],[14,19,14,25],[14,26,14,41],[15,0,15,41],[7,20,7,23],[7,24,7,25],[7,26,7,29],[7,30,7,31],[10,4,10,41],[11,0,11,3],[11,4,11,18],[11,19,11,25],[11,26,11,41],[5,0,5,4],[5,5,5,12],[7,0,8,5],[7,6,7,7],[7,8,7,11],[7,12,7,13],[0,0,0,2],[0,3,0,41],[1,0,1,41],[2,0,2,41],[3,0,3,41],[4,0,4,41],[7,32,7,35],[7,36,7,37],[7,38,7,41],[8,6,8,7],[8,8,8,11],[8,12,8,13],[8,14,8,17],[8,18,8,19],[8,20,8,23],[8,24,8,25],[7,14,7,17],[7,18,7,19]]}
["様式７"]
["令和５年度文化芸術による子供育成推進事業"]
[{"$f":"IF('申【様式１】（共通）'!E14=\"\",\"\",'申【様式１】（共通）'!E14)","v":""}]
["旅費計算書"]
[]
["都道府県・\n政令指定都市名",null,null,null,null,{"$f":"IF('申【様式１】（共通）'!E4=\"\",\"\",'申【様式１】（共通）'!E4)","v":""}]
[]
["実施日",null,null,null,null,null,"第1回",null,{"$f":"IF($A$3=\"芸術家の派遣事業\",'申【様式３・４】（派遣）'!E21,'申【様式５・６】（コミュ）'!E44)","v":"00:00:00"},null,null,null,"第2回",null,{"$f":"IF($A$3=\"芸術家の派遣事業\",'申【様式３・４】（派遣）'!E39,'申【様式５・６】（コミュ）'!E49)","v":"00:00:00"},null,null,null,"第3回",null,{"$f":"IF($A$3=\"芸術家の派遣事業\",'申【様式３・４】（派遣）'!E57,'申【様式５・６】（コミュ）'!E54)","v":"00:00:00"},null,null,null,{"$f":"IF($A$3=\"コミュニケーション能力向上事業\",\"第4回\",\"\")","v":""},null,{"$f":"IF($A$3=\"芸術家の派遣事業\",\"\",'申【様式５・６】（コミュ）'!E59)","v":"00:00:00"},null,null,null,{"$f":"IF($A$3=\"コミュニケーション能力向上事業\",\"第5回\",\"\")","v":""},null,{"$f":"IF($A$3=\"芸術家の派遣事業\",\"\",'申【様式５・６】（コミュ）'!E64)","v":"00:00:00"},null,null,null,{"$f":"IF($A$3=\"コミュニケーション能力向上事業\",\"第6回\",\"\")","v":""},null,{"$f":"IF($A$3=\"芸術家の派遣事業\",\"\",'申【様式５・６】（コミュ）'!E72)","v":"00:00:00"}]
[null,null,null,null,null,null,{"$f":"IF($A$3=\"コミュニケーション能力向上事業\",\"第7回\",\"\")","v":""},null,{"$f":"IF($A$3=\"芸術家の派遣事業\",\"\",'申【様式５・６】（コミュ）'!$E77)","v":"00:00:00"},null,null,null,{"$f":"IF($A$3=\"コミュニケーション能力向上事業\",\"第8回\",\"\")","v":""},null,{"$f":"IF($A$3=\"芸術家の派遣事業\",\"\",'申【様式５・６】（コミュ）'!$E82)","v":"00:00:00"},null,null,null,{"$f":"IF($A$3=\"コミュニケーション能力向上事業\",\"第9回\",\"\")","v":""},null,{"$f":"IF($A$3=\"芸術家の派遣事業\",\"\",'申【様式５・６】（コミュ）'!$E87)","v":"00:00:00"},null,null,null,{"$f":"IF($A$3=\"コミュニケーション能力向上事業\",\"第10回\",\"\")","v":""},null,{"$f":"IF($A$3=\"芸術家の派遣事業\",\"\",'申【様式５・６】（コミュ）'!$E92)","v":"00:00:00"},null,null,null,{"$f":"IF($A$3=\"コミュニケーション能力向上事業\",\"第11回\",\"\")","v":""},null,{"$f":"IF($A$3=\"芸術家の派遣事業\",\"\",'申【様式５・６】（コミュ）'!$E100)","v":"00:00:00"},null,null,null,{"$f":"IF($A$3=\"コミュニケーション能力向上事業\",\"第12回\",\"\")","v":""},null,{"$f":"IF($A$3=\"芸術家の派遣事業\",\"\",'申【様式５・６】（コミュ）'!$E105)","v":"00:00:00"}]
[]
["①派遣先"]
["学校名",null,null,null,{"$f":"IF('申【様式１】（共通）'!E8=\"\",\"\",'申【様式１】（共通）'!E8)","v":""},null,null,null,null,null,null,null,null,null,null,null,null,null,null,"最寄駅/バス停",null,null,null,null,null,null,{"$f":"IF('申【様式１】（共通）'!M12=\"\",\"\",'申【様式１】（共通）'!M12)","v":""}]
[]
["②被派遣者"]
["氏名",null,null,null,"　",null,null,null,null,null,null,null,null,null,null,null,null,null,null,"最寄駅/バス停"]
[]
["③旅費",null,null,null,{"$f":"\"↓（申請時）様式\"&IF(A3=\"芸術家の派遣事業\",4,6)&\"に転記してください\n　 （報告時）様式\"&IF(A3=\"芸術家の派遣事業\",10,12)&\"に転記してください\"","v":"↓（申請時）様式6に転記してください\n　 （報告時）様式12に転記してください"},null,null,null,null,null,null,null,null,null,null,null,null,null,"※本事業の旅費基準に従って計上してください。\n※乗り換え毎に行を分けて記入してください。\n※交通機関名欄は、プルダウンより選択してください。\n※距離を必ず記入してください。"]
[]
["旅費合計\n（a+b+c+d)",null,null,null,{"$f":"SUM(AB41:AM41)","v":0},null,null,null,null,null,null,"円"]
[]
["日付",null,null,null,"曜日",null,"移動区間",null,null,null,null,null,null,"※交通機関名",null,null,null,null,"※距離\n(㎞)",null,null,"運賃\n乗車券",null,null,"特急\n急行料金",null,null,"交通費\n小計",null,null,"車賃",null,null,"日当",null,null,"宿泊費",null,null,"宿泊地"]
[null,null,null,null,null,null,"発地",null,null,"→","着地"]
[null,null,null,null,{"$f":"IF(A23=\"\",\"\",A23)","v":""},null,null,null,null,"→",null,null,null,null,null,null,null,null,null,null,null,null,null,null,null,null,null,{"$f":"SUM(V23:AA23)","v":0}]
[null,null,null,null,"",null,null,null,null,"→",null,null,null,null,null,null,null,null,null,null,null,null,null,null,null,null,null,0]
[null,null,null,null,"",null,null,null,null,"→",null,null,null,null,null,null,null,null,null,null,null,null,null,null,null,null,null,0]
[null,null,null,null,"",null,null,null,null,"→",null,null,null,null,null,null,null,null,null,null,null,null,null,null,null,null,null,0]
[null,null,null,null,"",null,null,null,null,"→",null,null,null,null,null,null,null,null,null,null,null,null,null,null,null,null,null,0]
[null,null,null,null,"",null,null,null,null,"→",null,null,null,null,null,null,null,null,null,null,null,null,null,null,null,null,null,0]
[null,null,null,null,"",null,null,null,null,"→",null,null,null,null,null,null,null,null,null,null,null,null,null,null,null,null,null,0]
[null,null,null,null,"",null,null,null,null,"→",null,null,null,null,null,null,null,null,null,null,null,null,null,null,null,null,null,0]
[null,null,null,null,"",null,null,null,null,"→",null,null,null,null,null,null,null,null,null,null,null,null,null,null,null,null,null,0]
[null,null,null,null,"",null,null,null,null,"→",null,null,null,null,null,null,null,null,null,null,null,null,null,null,null,null,null,0]
[null,null,null,null,"",null,null,null,null,"→",null,null,null,null,null,null,null,null,null,null,null,null,null,null,null,null,null,0]
[null,null,null,null,{"$f":"IF(A34=\"\",\"\",A34)","v":""},null,null,null,null,"→",null,null,null,null,null,null,null,null,null,null,null,null,null,null,null,null,null,{"$f":"SUM(V34:AA34)","v":0}]
[null,null,null,null,{"$f":"IF(A35=\"\",\"\",A35)","v":""},null,null,null,null,"→",null,null,null,null,null,null,null,null,null,null,null,null,null,null,null,null,null,{"$f":"SUM(V35:AA35)","v":0}]
[null,null,null,null,{"$f":"IF(A36=\"\",\"\",A36)","v":""},null,null,null,null,"→",null,null,null,null,null,null,null,null,null,null,null,null,null,null,null,null,null,{"$f":"SUM(V36:AA36)","v":0}]
[null,null,null,null,{"$f":"IF(A37=\"\",\"\",A37)","v":""},null,null,null,null,"→",null,null,null,null,null,null,null,null,null,null,null,null,null,null,null,null,null,{"$f":"SUM(V37:AA37)","v":0}]
[null,null,null,null,{"$f":"IF(A38=\"\",\"\",A38)","v":""},null,null,null,null,"→",null,null,null,null,null,null,null,null,null,null,null,null,null,null,null,null,null,{"$f":"SUM(V38:AA38)","v":0}]
[null,null,null,null,"",null,null,null,null,"→",null,null,null,null,null,null,null,null,null,null,null,null,null,null,null,null,null,0]
["合　計",null,null,null,null,null,null,null,null,null,null,null,null,null,null,null,null,null,null,null,null,null,null,null,null,null,null,"a",null,null,"b",null,null,"c",null,null,"d"]
[null,null,null,null,null,null,null,null,null,null,null,null,null,null,null,null,null,null,null,null,null,null,null,null,null,null,null,{"$f":"SUM(AB23:AD39)","v":0},null,null,{"$f":"ROUNDDOWN((SUMIFS(S23:U39,N23:P39,\"自家用車\")),0)*37","v":0},null,null,{"$f":"SUM(AH23:AJ39)","v":0},null,null,{"$f":"SUM(AK23:AM39)","v":0}]
[]
["(備　考)",null,null,null,null,"※出発地が現住所と異なる場合は出発地（駅名/バス停名）及びその理由を記入してください"]
[]
[]
["※本事業で得た個人情報は、本事業内のみで使用します。"]
["※本事業の専用ウェブページにあるに同意していただいたものとします。"]

{"sheet":"申報【様式７】①（共通）","index":11,"n_rows":47,"n_cols":40,"rows_kept":47,"cut":false,"hidden":true,"merged":[[40,36,40,38],[41,0,41,41],[42,0,42,3],[43,0,44,41],[38,39,38,41],[39,0,40,26],[39,27,39,29],[39,30,39,32],[39,33,39,35],[39,36,39,38],[39,39,40,41],[40,27,40,29],[40,30,40,32],[40,33,40,35],[38,21,38,23],[38,24,38,26],[38,27,38,29],[38,30,38,32],[38,33,38,35],[38,36,38,38],[37,30,37,32],[37,33,37,35],[37,36,37,38],[37,39,37,41],[38,0,38,3],[38,4,38,5],[38,6,38,8],[38,10,38,12],[38,13,38,17],[38,18,38,20],[37,0,37,3],[37,4,37,5],[37,6,37,8],[37,10,37,12],[37,13,37,17],[37,18,37,20],[37,21,37,23],[37,24,37,26],[37,27,37,29],[35,30,35,32],[35,33,35,35],[35,36,35,38],[35,39,35,41],[36,0,36,3],[36,4,36,5],[36,6,36,8],[36,10,36,12],[36,13,36,17],[36,18,36,20],[36,39,36,41],[36,21,36,23],[36,24,36,26],[36,27,36,29],[36,30,36,32],[36,33,36,35],[36,36,36,38],[35,0,35,3],[35,4,35,5],[35,6,35,8],[35,10,35,12],[35,13,35,17],[35,18,35,20],[35,21,35,23],[35,24,35,26],[35,27,35,29],[33,30,33,32],[33,33,33,35],[33,36,33,38],[33,39,33,41],[34,0,34,3],[34,4,34,5],[34,6,34,8],[34,10,34,12],[34,13,34,17],[34,18,34,20],[34,39,34,41],[34,21,34,23],[34,24,34,26],[34,27,34,29],[34,30,34,32],[34,33,34,35],[34,36,34,38],[33,0,33,3],[33,4,33,5],[33,6,33,8],[33,10,33,12],[33,13,33,17],[33,18,33,20],[33,21,33,23],[33,24,33,26],[33,27,33,29],[31,30,31,32],[31,33,31,35],[31,36,31,38],[31,39,31,41],[32,0,32,3],[32,4,32,5],[32,6,32,8],[32,10,32,12],[32,13,32,17],[32,18,32,20],[32,39,32,41],[32,21,32,23],[32,24,32,26],[32,27,32,29],[32,30,32,32],[32,33,32,35],[32,36,32,38],[31,0,31,3],[31,4,31,5],[31,6,31,8],[31,10,31,12],[31,13,31,17],[31,18,31,20],[31,21,31,23],[31,24,31,26],[31,27,31,29],[29,30,29,32],[29,33,29,35],[29,36,29,38],[29,39,29,41],[30,0,30,3],[30,4,30,5],[30,6,30,8],[30,10,30,12],[30,13,30,17],[30,18,30,20],[30,39,30,41],[30,21,30,23],[30,24,30,26],[30,27,30,29],[30,30,30,32],[30,33,30,35],[30,36,30,38],[29,0,29,3],[29,4,29,5],[29,6,29,8],[29,10,29,12],[29,13,29,17],[29,18,29,20],[29,21,29,23],[29,24,29,26],[29,27,29,29],[27,30,27,32],[27,33,27,35],[27,36,27,38],[27,39,27,41],[28,0,28,3],[28,4,28,5],[28,6,28,8],[28,10,28,12],[28,13,28,17],[28,18,28,20],[28,39,28,41],[28,21,28,23],[28,24,28,26],[28,27,28,29],[28,30,28,32],[28,33,28,35],[28,36,28,38],[27,0,27,3],[27,4,27,5],[27,6,27,8],[27,10,27,12],[27,13,27,17],[27,18,27,20],[27,21,27,23],[27,24,27,26],[27,27,27,29],[25,30,25,32],[25,33,25,35],[25,36,25,38],[25,39,25,41],[26,0,26,3],[26,4,26,5],[26,6,26,8],[26,10,26,12],[26,13,26,17],[26,18,26,20],[26,39,26,41],[26,21,26,23],[26,24,26,26],[26,27,26,29],[26,30,26,32],[26,33,26,35],[26,36,26,38],[25,0,25,3],[25,4,25,5],[25,6,25,8],[25,10,25,12],[25,13,25,17],[25,18,25,20],[25,21,25,23],[25,24,25,26],[25,27,25,29],[23,36,23,38],[23,39,23,41],[24,0,24,3],[24,4,24,5],[24,6,24,8],[24,10,24,12],[24,13,24,17],[24,18,24,20],[24,39,24,41],[24,21,24,23],[24,24,24,26],[24,27,24,29],[24,30,24,32],[24,33,24,35],[24,36,24,38],[22,39,22,41],[23,0,23,3],[23,4,23,5],[23,6,23,8],[23,10,23,12],[23,13,23,17],[23,18,23,20],[23,21,23,23],[23,24,23,26],[23,27,23,29],[22,21,22,23],[22,24,22,26],[22,27,22,29],[22,30,22,32],[22,33,22,35],[22,36,22,38],[22,0,22,3],[22,4,22,5],[22,6,22,8],[22,10,22,12],[22,13,22,17],[22,18,22,20],[23,30,23,32],[23,33,23,35],[20,24,21,26],[20,27,21,29],[20,30,21,32],[20,33,21,35],[20,36,21,38],[20,39,21,41],[20,0,21,3],[20,4,21,5],[20,6,20,12],[20,13,21,17],[20,18,21,20],[20,21,21,23],[21,6,21,8],[21,10,21,12],[12,0,12,41],[8,26,8,29],[8,30,8,31],[8,32,8,35],[8,36,8,37],[8,38,8,41],[9,0,9,41],[16,0,17,3],[16,4,17,17],[16,18,19,41],[18,0,19,3],[18,4,19,10],[18,11,19,12],[18,13,19,13],[13,5,13,28],[14,0,14,3],[14,4,14,18],[14,19,14,25],[14,26,14,41],[15,0,15,41],[7,20,7,23],[7,24,7,25],[7,26,7,29],[7,30,7,31],[10,4,10,41],[11,0,11,3],[11,4,11,18],[11,19,11,25],[11,26,11,41],[5,0,5,4],[5,5,5,12],[7,0,8,5],[7,6,7,7],[7,8,7,11],[7,12,7,13],[0,0,0,2],[0,3,0,41],[1,0,1,41],[2,0,2,41],[3,0,3,41],[4,0,4,41],[7,32,7,35],[7,36,7,37],[7,38,7,41],[8,6,8,7],[8,8,8,11],[8,12,8,13],[8,14,8,17],[8,18,8,19],[8,20,8,23],[8,24,8,25],[7,14,7,17],[7,18,7,19]]}
["様式７"]
["令和５年度文化芸術による子供育成推進事業"]
[{"$f":"IF('申【様式１】（共通）'!E14=\"\",\"\",'申【様式１】（共通）'!E14)","v":""}]
["旅費計算書"]
[]
["都道府県・\n政令指定都市名",null,null,null,null,{"$f":"IF('申【様式１】（共通）'!E4=\"\",\"\",'申【様式１】（共通）'!E4)","v":""}]
[]
["実施日",null,null,null,null,null,"第1回",null,{"$f":"IF($A$3=\"芸術家の派遣事業\",'申【様式３・４】（派遣）'!E21,'申【様式５・６】（コミュ）'!E44)","v":"00:00:00"},null,null,null,"第2回",null,{"$f":"IF($A$3=\"芸術家の派遣事業\",'申【様式３・４】（派遣）'!E39,'申【様式５・６】（コミュ）'!E49)","v":"00:00:00"},null,null,null,"第3回",null,{"$f":"IF($A$3=\"芸術家の派遣事業\",'申【様式３・４】（派遣）'!E57,'申【様式５・６】（コミュ）'!E54)","v":"00:00:00"},null,null,null,{"$f":"IF($A$3=\"コミュニケーション能力向上事業\",\"第4回\",\"\")","v":""},null,{"$f":"IF($A$3=\"芸術家の派遣事業\",\"\",'申【様式５・６】（コミュ）'!E59)","v":"00:00:00"},null,null,null,{"$f":"IF($A$3=\"コミュニケーション能力向上事業\",\"第5回\",\"\")","v":""},null,{"$f":"IF($A$3=\"芸術家の派遣事業\",\"\",'申【様式５・６】（コミュ）'!E64)","v":"00:00:00"},null,null,null,{"$f":"IF($A$3=\"コミュニケーション能力向上事業\",\"第6回\",\"\")","v":""},null,{"$f":"IF($A$3=\"芸術家の派遣事業\",\"\",'申【様式５・６】（コミュ）'!E72)","v":"00:00:00"}]
[null,null,null,null,null,null,{"$f":"IF($A$3=\"コミュニケーション能力向上事業\",\"第7回\",\"\")","v":""},null,{"$f":"IF($A$3=\"芸術家の派遣事業\",\"\",'申【様式５・６】（コミュ）'!$E77)","v":"00:00:00"},null,null,null,{"$f":"IF($A$3=\"コミュニケーション能力向上事業\",\"第8回\",\"\")","v":""},null,{"$f":"IF($A$3=\"芸術家の派遣事業\",\"\",'申【様式５・６】（コミュ）'!$E82)","v":"00:00:00"},null,null,null,{"$f":"IF($A$3=\"コミュニケーション能力向上事業\",\"第9回\",\"\")","v":""},null,{"$f":"IF($A$3=\"芸術家の派遣事業\",\"\",'申【様式５・６】（コミュ）'!$E87)","v":"00:00:00"},null,null,null,{"$f":"IF($A$3=\"コミュニケーション能力向上事業\",\"第10回\",\"\")","v":""},null,{"$f":"IF($A$3=\"芸術家の派遣事業\",\"\",'申【様式５・６】（コミュ）'!$E92)","v":"00:00:00"},null,null,null,{"$f":"IF($A$3=\"コミュニケーション能力向上事業\",\"第11回\",\"\")","v":""},null,{"$f":"IF($A$3=\"芸術家の派遣事業\",\"\",'申【様式５・６】（コミュ）'!$E100)","v":"00:00:00"},null,null,null,{"$f":"IF($A$3=\"コミュニケーション能力向上事業\",\"第12回\",\"\")","v":""},null,{"$f":"IF($A$3=\"芸術家の派遣事業\",\"\",'申【様式５・６】（コミュ）'!$E105)","v":"00:00:00"}]
[]
["①派遣先"]
["学校名",null,null,null,{"$f":"IF('申【様式１】（共通）'!E8=\"\",\"\",'申【様式１】（共通）'!E8)","v":""},null,null,null,null,null,null,null,null,null,null,null,null,null,null,"最寄駅/バス停",null,null,null,null,null,null,{"$f":"IF('申【様式１】（共通）'!M12=\"\",\"\",'申【様式１】（共通）'!M12)","v":""}]
[]
["②被派遣者"]
["氏名",null,null,null,"　",null,null,null,null,null,null,null,null,null,null,null,null,null,null,"最寄駅/バス停"]
[]
["③旅費",null,null,null,{"$f":"\"↓（申請時）様式\"&IF(A3=\"芸術家の派遣事業\",4,6)&\"に転記してください\n　 （報告時）様式\"&IF(A3=\"芸術家の派遣事業\",10,12)&\"に転記してください\"","v":"↓（申請時）様式6に転記してください\n　 （報告時）様式12に転記してください"},null,null,null,null,null,null,null,null,null,null,null,null,null,"※本事業の旅費基準に従って計上してください。\n※乗り換え毎に行を分けて記入してください。\n※交通機関名欄は、プルダウンより選択してください。\n※距離を必ず記入してください。"]
[]
["旅費合計\n（a+b+c+d)",null,null,null,{"$f":"SUM(AB41:AM41)","v":0},null,null,null,null,null,null,"円"]
[]
["日付",null,null,null,"曜日",null,"移動区間",null,null,null,null,null,null,"※交通機関名",null,null,null,null,"※距離\n(㎞)",null,null,"運賃\n乗車券",null,null,"特急\n急行料金",null,null,"交通費\n小計",null,null,"車賃",null,null,"日当",null,null,"宿泊費",null,null,"宿泊地"]
[null,null,null,null,null,null,"発地",null,null,"→","着地"]
[null,null,null,null,{"$f":"IF(A23=\"\",\"\",A23)","v":""},null,null,null,null,"→",null,null,null,null,null,null,null,null,null,null,null,null,null,null,null,null,null,{"$f":"SUM(V23:AA23)","v":0}]
[null,null,null,null,"",null,null,null,null,"→",null,null,null,null,null,null,null,null,null,null,null,null,null,null,null,null,null,0]
[null,null,null,null,"",null,null,null,null,"→",null,null,null,null,null,null,null,null,null,null,null,null,null,null,null,null,null,0]
[null,null,null,null,"",null,null,null,null,"→",null,null,null,null,null,null,null,null,null,null,null,null,null,null,null,null,null,0]
[null,null,null,null,"",null,null,null,null,"→",null,null,null,null,null,null,null,null,null,null,null,null,null,null,null,null,null,0]
[null,null,null,null,"",null,null,null,null,"→",null,null,null,null,null,null,null,null,null,null,null,null,null,null,null,null,null,0]
[null,null,null,null,"",null,null,null,null,"→",null,null,null,null,null,null,null,null,null,null,null,null,null,null,null,null,null,0]
[null,null,null,null,"",null,null,null,null,"→",null,null,null,null,null,null,null,null,null,null,null,null,null,null,null,null,null,0]
[null,null,null,null,"",null,null,null,null,"→",null,null,null,null,null,null,null,null,null,null,null,null,null,null,null,null,null,0]
[null,null,null,null,"",null,null,null,null,"→",null,null,null,null,null,null,null,null,null,null,null,null,null,null,null,null,null,0]
[null,null,null,null,"",null,null,null,null,"→",null,null,null,null,null,null,null,null,null,null,null,null,null,null,null,null,null,0]
[null,null,null,null,{"$f":"IF(A34=\"\",\"\",A34)","v":""},null,null,null,null,"→",null,null,null,null,null,null,null,null,null,null,null,null,null,null,null,null,null,{"$f":"SUM(V34:AA34)","v":0}]
[null,null,null,null,{"$f":"IF(A35=\"\",\"\",A35)","v":""},null,null,null,null,"→",null,null,null,null,null,null,null,null,null,null,null,null,null,null,null,null,null,{"$f":"SUM(V35:AA35)","v":0}]
[null,null,null,null,{"$f":"IF(A36=\"\",\"\",A36)","v":""},null,null,null,null,"→",null,null,null,null,null,null,null,null,null,null,null,null,null,null,null,null,null,{"$f":"SUM(V36:AA36)","v":0}]
[null,null,null,null,{"$f":"IF(A37=\"\",\"\",A37)","v":""},null,null,null,null,"→",null,null,null,null,null,null,null,null,null,null,null,null,null,null,null,null,null,{"$f":"SUM(V37:AA37)","v":0}]
[null,null,null,null,{"$f":"IF(A38=\"\",\"\",A38)","v":""},null,null,null,null,"→",null,null,null,null,null,null,null,null,null,null,null,null,null,null,null,null,null,{"$f":"SUM(V38:AA38)","v":0}]
[null,null,null,null,"",null,null,null,null,"→",null,null,null,null,null,null,null,null,null,null,null,null,null,null,null,null,null,0]
["合　計",null,null,null,null,null,null,null,null,null,null,null,null,null,null,null,null,null,null,null,null,null,null,null,null,null,null,"a",null,null,"b",null,null,"c",null,null,"d"]
[null,null,null,null,null,null,null,null,null,null,null,null,null,null,null,null,null,null,null,null,null,null,null,null,null,null,null,{"$f":"SUM(AB23:AD39)","v":0},null,null,{"$f":"ROUNDDOWN((SUMIFS(S23:U39,N23:P39,\"自家用車\")),0)*37","v":0},null,null,{"$f":"SUM(AH23:AJ39)","v":0},null,null,{"$f":"SUM(AK23:AM39)","v":0}]
[]
["(備　考)",null,null,null,null,"※出発地が現住所と異なる場合は出発地（駅名/バス停名）及びその理由を記入してください"]
[]
[]
["※本事業で得た個人情報は、本事業内のみで使用します。"]
["※本事業の専用ウェブページにあるに同意していただいたものとします。"]

{"sheet":"申報【様式７】②（共通）","index":12,"n_rows":47,"n_cols":40,"rows_kept":47,"cut":false,"hidden":true,"merged":[[40,36,40,38],[41,0,41,41],[42,0,42,3],[43,0,44,41],[38,39,38,41],[39,0,40,26],[39,27,39,29],[39,30,39,32],[39,33,39,35],[39,36,39,38],[39,39,40,41],[40,27,40,29],[40,30,40,32],[40,33,40,35],[38,21,38,23],[38,24,38,26],[38,27,38,29],[38,30,38,32],[38,33,38,35],[38,36,38,38],[37,30,37,32],[37,33,37,35],[37,36,37,38],[37,39,37,41],[38,0,38,3],[38,4,38,5],[38,6,38,8],[38,10,38,12],[38,13,38,17],[38,18,38,20],[37,0,37,3],[37,4,37,5],[37,6,37,8],[37,10,37,12],[37,13,37,17],[37,18,37,20],[37,21,37,23],[37,24,37,26],[37,27,37,29],[35,30,35,32],[35,33,35,35],[35,36,35,38],[35,39,35,41],[36,0,36,3],[36,4,36,5],[36,6,36,8],[36,10,36,12],[36,13,36,17],[36,18,36,20],[36,39,36,41],[36,21,36,23],[36,24,36,26],[36,27,36,29],[36,30,36,32],[36,33,36,35],[36,36,36,38],[35,0,35,3],[35,4,35,5],[35,6,35,8],[35,10,35,12],[35,13,35,17],[35,18,35,20],[35,21,35,23],[35,24,35,26],[35,27,35,29],[33,30,33,32],[33,33,33,35],[33,36,33,38],[33,39,33,41],[34,0,34,3],[34,4,34,5],[34,6,34,8],[34,10,34,12],[34,13,34,17],[34,18,34,20],[34,39,34,41],[34,21,34,23],[34,24,34,26],[34,27,34,29],[34,30,34,32],[34,33,34,35],[34,36,34,38],[33,0,33,3],[33,4,33,5],[33,6,33,8],[33,10,33,12],[33,13,33,17],[33,18,33,20],[33,21,33,23],[33,24,33,26],[33,27,33,29],[31,30,31,32],[31,33,31,35],[31,36,31,38],[31,39,31,41],[32,0,32,3],[32,4,32,5],[32,6,32,8],[32,10,32,12],[32,13,32,17],[32,18,32,20],[32,39,32,41],[32,21,32,23],[32,24,32,26],[32,27,32,29],[32,30,32,32],[32,33,32,35],[32,36,32,38],[31,0,31,3],[31,4,31,5],[31,6,31,8],[31,10,31,12],[31,13,31,17],[31,18,31,20],[31,21,31,23],[31,24,31,26],[31,27,31,29],[29,30,29,32],[29,33,29,35],[29,36,29,38],[29,39,29,41],[30,0,30,3],[30,4,30,5],[30,6,30,8],[30,10,30,12],[30,13,30,17],[30,18,30,20],[30,39,30,41],[30,21,30,23],[30,24,30,26],[30,27,30,29],[30,30,30,32],[30,33,30,35],[30,36,30,38],[29,0,29,3],[29,4,29,5],[29,6,29,8],[29,10,29,12],[29,13,29,17],[29,18,29,20],[29,21,29,23],[29,24,29,26],[29,27,29,29],[27,30,27,32],[27,33,27,35],[27,36,27,38],[27,39,27,41],[28,0,28,3],[28,4,28,5],[28,6,28,8],[28,10,28,12],[28,13,28,17],[28,18,28,20],[28,39,28,41],[28,21,28,23],[28,24,28,26],[28,27,28,29],[28,30,28,32],[28,33,28,35],[28,36,28,38],[27,0,27,3],[27,4,27,5],[27,6,27,8],[27,10,27,12],[27,13,27,17],[27,18,27,20],[27,21,27,23],[27,24,27,26],[27,27,27,29],[25,30,25,32],[25,33,25,35],[25,36,25,38],[25,39,25,41],[26,0,26,3],[26,4,26,5],[26,6,26,8],[26,10,26,12],[26,13,26,17],[26,18,26,20],[26,39,26,41],[26,21,26,23],[26,24,26,26],[26,27,26,29],[26,30,26,32],[26,33,26,35],[26,36,26,38],[25,0,25,3],[25,4,25,5],[25,6,25,8],[25,10,25,12],[25,13,25,17],[25,18,25,20],[25,21,25,23],[25,24,25,26],[25,27,25,29],[23,36,23,38],[23,39,23,41],[24,0,24,3],[24,4,24,5],[24,6,24,8],[24,10,24,12],[24,13,24,17],[24,18,24,20],[24,39,24,41],[24,21,24,23],[24,24,24,26],[24,27,24,29],[24,30,24,32],[24,33,24,35],[24,36,24,38],[22,39,22,41],[23,0,23,3],[23,4,23,5],[23,6,23,8],[23,10,23,12],[23,13,23,17],[23,18,23,20],[23,21,23,23],[23,24,23,26],[23,27,23,29],[22,21,22,23],[22,24,22,26],[22,27,22,29],[22,30,22,32],[22,33,22,35],[22,36,22,38],[22,0,22,3],[22,4,22,5],[22,6,22,8],[22,10,22,12],[22,13,22,17],[22,18,22,20],[23,30,23,32],[23,33,23,35],[20,24,21,26],[20,27,21,29],[20,30,21,32],[20,33,21,35],[20,36,21,38],[20,39,21,41],[20,0,21,3],[20,4,21,5],[20,6,20,12],[20,13,21,17],[20,18,21,20],[20,21,21,23],[21,6,21,8],[21,10,21,12],[12,0,12,41],[8,26,8,29],[8,30,8,31],[8,32,8,35],[8,36,8,37],[8,38,8,41],[9,0,9,41],[16,0,17,3],[16,4,17,17],[16,18,19,41],[18,0,19,3],[18,4,19,10],[18,11,19,12],[18,13,19,13],[13,5,13,28],[14,0,14,3],[14,4,14,18],[14,19,14,25],[14,26,14,41],[15,0,15,41],[7,20,7,23],[7,24,7,25],[7,26,7,29],[7,30,7,31],[10,4,10,41],[11,0,11,3],[11,4,11,18],[11,19,11,25],[11,26,11,41],[5,0,5,4],[5,5,5,12],[7,0,8,5],[7,6,7,7],[7,8,7,11],[7,12,7,13],[0,0,0,2],[0,3,0,41],[1,0,1,41],[2,0,2,41],[3,0,3,41],[4,0,4,41],[7,32,7,35],[7,36,7,37],[7,38,7,41],[8,6,8,7],[8,8,8,11],[8,12,8,13],[8,14,8,17],[8,18,8,19],[8,20,8,23],[8,24,8,25],[7,14,7,17],[7,18,7,19]]}
["様式７"]
["令和５年度文化芸術による子供育成推進事業"]
[{"$f":"IF('申【様式１】（共通）'!E14=\"\",\"\",'申【様式１】（共通）'!E14)","v":""}]
["旅費計算書"]
[]
["都道府県・\n政令指定都市名",null,null,null,null,{"$f":"IF('申【様式１】（共通）'!E4=\"\",\"\",'申【様式１】（共通）'!E4)","v":""}]
[]
["実施日",null,null,null,null,null,"第1回",null,{"$f":"IF($A$3=\"芸術家の派遣事業\",'申【様式３・４】（派遣）'!E21,'申【様式５・６】（コミュ）'!E44)","v":"00:00:00"},null,null,null,"第2回",null,{"$f":"IF($A$3=\"芸術家の派遣事業\",'申【様式３・４】（派遣）'!E39,'申【様式５・６】（コミュ）'!E49)","v":"00:00:00"},null,null,null,"第3回",null,{"$f":"IF($A$3=\"芸術家の派遣事業\",'申【様式３・４】（派遣）'!E57,'申【様式５・６】（コミュ）'!E54)","v":"00:00:00"},null,null,null,{"$f":"IF($A$3=\"コミュニケーション能力向上事業\",\"第4回\",\"\")","v":""},null,{"$f":"IF($A$3=\"芸術家の派遣事業\",\"\",'申【様式５・６】（コミュ）'!E59)","v":"00:00:00"},null,null,null,{"$f":"IF($A$3=\"コミュニケーション能力向上事業\",\"第5回\",\"\")","v":""},null,{"$f":"IF($A$3=\"芸術家の派遣事業\",\"\",'申【様式５・６】（コミュ）'!E64)","v":"00:00:00"},null,null,null,{"$f":"IF($A$3=\"コミュニケーション能力向上事業\",\"第6回\",\"\")","v":""},null,{"$f":"IF($A$3=\"芸術家の派遣事業\",\"\",'申【様式５・６】（コミュ）'!E72)","v":"00:00:00"}]
[null,null,null,null,null,null,{"$f":"IF($A$3=\"コミュニケーション能力向上事業\",\"第7回\",\"\")","v":""},null,{"$f":"IF($A$3=\"芸術家の派遣事業\",\"\",'申【様式５・６】（コミュ）'!$E77)","v":"00:00:00"},null,null,null,{"$f":"IF($A$3=\"コミュニケーション能力向上事業\",\"第8回\",\"\")","v":""},null,{"$f":"IF($A$3=\"芸術家の派遣事業\",\"\",'申【様式５・６】（コミュ）'!$E82)","v":"00:00:00"},null,null,null,{"$f":"IF($A$3=\"コミュニケーション能力向上事業\",\"第9回\",\"\")","v":""},null,{"$f":"IF($A$3=\"芸術家の派遣事業\",\"\",'申【様式５・６】（コミュ）'!$E87)","v":"00:00:00"},null,null,null,{"$f":"IF($A$3=\"コミュニケーション能力向上事業\",\"第10回\",\"\")","v":""},null,{"$f":"IF($A$3=\"芸術家の派遣事業\",\"\",'申【様式５・６】（コミュ）'!$E92)","v":"00:00:00"},null,null,null,{"$f":"IF($A$3=\"コミュニケーション能力向上事業\",\"第11回\",\"\")","v":""},null,{"$f":"IF($A$3=\"芸術家の派遣事業\",\"\",'申【様式５・６】（コミュ）'!$E100)","v":"00:00:00"},null,null,null,{"$f":"IF($A$3=\"コミュニケーション能力向上事業\",\"第12回\",\"\")","v":""},null,{"$f":"IF($A$3=\"芸術家の派遣事業\",\"\",'申【様式５・６】（コミュ）'!$E105)","v":"00:00:00"}]
[]
["①派遣先"]
["学校名",null,null,null,{"$f":"IF('申【様式１】（共通）'!E8=\"\",\"\",'申【様式１】（共通）'!E8)","v":""},null,null,null,null,null,null,null,null,null,null,null,null,null,null,"最寄駅/バス停",null,null,null,null,null,null,{"$f":"IF('申【様式１】（共通）'!M12=\"\",\"\",'申【様式１】（共通）'!M12)","v":""}]
[]
["②被派遣者"]
["氏名",null,null,null,"　",null,null,null,null,null,null,null,null,null,null,null,null,null,null,"最寄駅/バス停"]
[]
["③旅費",null,null,null,{"$f":"\"↓（申請時）様式\"&IF(A3=\"芸術家の派遣事業\",4,6)&\"に転記してください\n　 （報告時）様式\"&IF(A3=\"芸術家の派遣事業\",10,12)&\"に転記してください\"","v":"↓（申請時）様式6に転記してください\n　 （報告時）様式12に転記してください"},null,null,null,null,null,null,null,null,null,null,null,null,null,"※本事業の旅費基準に従って計上してください。\n※乗り換え毎に行を分けて記入してください。\n※交通機関名欄は、プルダウンより選択してください。\n※距離を必ず記入してください。"]
[]
["旅費合計\n（a+b+c+d)",null,null,null,{"$f":"SUM(AB41:AM41)","v":0},null,null,null,null,null,null,"円"]
[]
["日付",null,null,null,"曜日",null,"移動区間",null,null,null,null,null,null,"※交通機関名",null,null,null,null,"※距離\n(㎞)",null,null,"運賃\n乗車券",null,null,"特急\n急行料金",null,null,"交通費\n小計",null,null,"車賃",null,null,"日当",null,null,"宿泊費",null,null,"宿泊地"]
[null,null,null,null,null,null,"発地",null,null,"→","着地"]
[null,null,null,null,{"$f":"IF(A23=\"\",\"\",A23)","v":""},null,null,null,null,"→",null,null,null,null,null,null,null,null,null,null,null,null,null,null,null,null,null,{"$f":"SUM(V23:AA23)","v":0}]
[null,null,null,null,"",null,null,null,null,"→",null,null,null,null,null,null,null,null,null,null,null,null,null,null,null,null,null,0]
[null,null,null,null,"",null,null,null,null,"→",null,null,null,null,null,null,null,null,null,null,null,null,null,null,null,null,null,0]
[null,null,null,null,"",null,null,null,null,"→",null,null,null,null,null,null,null,null,null,null,null,null,null,null,null,null,null,0]
[null,null,null,null,"",null,null,null,null,"→",null,null,null,null,null,null,null,null,null,null,null,null,null,null,null,null,null,0]
[null,null,null,null,"",null,null,null,null,"→",null,null,null,null,null,null,null,null,null,null,null,null,null,null,null,null,null,0]
[null,null,null,null,"",null,null,null,null,"→",null,null,null,null,null,null,null,null,null,null,null,null,null,null,null,null,null,0]
[null,null,null,null,"",null,null,null,null,"→",null,null,null,null,null,null,null,null,null,null,null,null,null,null,null,null,null,0]
[null,null,null,null,"",null,null,null,null,"→",null,null,null,null,null,null,null,null,null,null,null,null,null,null,null,null,null,0]
[null,null,null,null,"",null,null,null,null,"→",null,null,null,null,null,null,null,null,null,null,null,null,null,null,null,null,null,0]
[null,null,null,null,"",null,null,null,null,"→",null,null,null,null,null,null,null,null,null,null,null,null,null,null,null,null,null,0]
[null,null,null,null,{"$f":"IF(A34=\"\",\"\",A34)","v":""},null,null,null,null,"→",null,null,null,null,null,null,null,null,null,null,null,null,null,null,null,null,null,{"$f":"SUM(V34:AA34)","v":0}]
[null,null,null,null,{"$f":"IF(A35=\"\",\"\",A35)","v":""},null,null,null,null,"→",null,null,null,null,null,null,null,null,null,null,null,null,null,null,null,null,null,{"$f":"SUM(V35:AA35)","v":0}]
[null,null,null,null,{"$f":"IF(A36=\"\",\"\",A36)","v":""},null,null,null,null,"→",null,null,null,null,null,null,null,null,null,null,null,null,null,null,null,null,null,{"$f":"SUM(V36:AA36)","v":0}]
[null,null,null,null,{"$f":"IF(A37=\"\",\"\",A37)","v":""},null,null,null,null,"→",null,null,null,null,null,null,null,null,null,null,null,null,null,null,null,null,null,{"$f":"SUM(V37:AA37)","v":0}]
[null,null,null,null,{"$f":"IF(A38=\"\",\"\",A38)","v":""},null,null,null,null,"→",null,null,null,null,null,null,null,null,null,null,null,null,null,null,null,null,null,{"$f":"SUM(V38:AA38)","v":0}]
[null,null,null,null,"",null,null,null,null,"→",null,null,null,null,null,null,null,null,null,null,null,null,null,null,null,null,null,0]
["合　計",null,null,null,null,null,null,null,null,null,null,null,null,null,null,null,null,null,null,null,null,null,null,null,null,null,null,"a",null,null,"b",null,null,"c",null,null,"d"]
[null,null,null,null,null,null,null,null,null,null,null,null,null,null,null,null,null,null,null,null,null,null,null,null,null,null,null,{"$f":"SUM(AB23:AD39)","v":0},null,null,{"$f":"ROUNDDOWN((SUMIFS(S23:U39,N23:P39,\"自家用車\")),0)*37","v":0},null,null,{"$f":"SUM(AH23:AJ39)","v":0},null,null,{"$f":"SUM(AK23:AM39)","v":0}]
[]
["(備　考)",null,null,null,null,"※出発地が現住所と異なる場合は出発地（駅名/バス停名）及びその理由を記入してください"]
[]
[]
["※本事業で得た個人情報は、本事業内のみで使用します。"]
["※本事業の専用ウェブページにあるに同意していただいたものとします。"]

{"sheet":"申報【様式７】③（共通）","index":13,"n_rows":47,"n_cols":40,"rows_kept":47,"cut":false,"hidden":true,"merged":[[40,36,40,38],[41,0,41,41],[42,0,42,3],[43,0,44,41],[38,39,38,41],[39,0,40,26],[39,27,39,29],[39,30,39,32],[39,33,39,35],[39,36,39,38],[39,39,40,41],[40,27,40,29],[40,30,40,32],[40,33,40,35],[38,21,38,23],[38,24,38,26],[38,27,38,29],[38,30,38,32],[38,33,38,35],[38,36,38,38],[37,30,37,32],[37,33,37,35],[37,36,37,38],[37,39,37,41],[38,0,38,3],[38,4,38,5],[38,6,38,8],[38,10,38,12],[38,13,38,17],[38,18,38,20],[37,0,37,3],[37,4,37,5],[37,6,37,8],[37,10,37,12],[37,13,37,17],[37,18,37,20],[37,21,37,23],[37,24,37,26],[37,27,37,29],[35,30,35,32],[35,33,35,35],[35,36,35,38],[35,39,35,41],[36,0,36,3],[36,4,36,5],[36,6,36,8],[36,10,36,12],[36,13,36,17],[36,18,36,20],[36,39,36,41],[36,21,36,23],[36,24,36,26],[36,27,36,29],[36,30,36,32],[36,33,36,35],[36,36,36,38],[35,0,35,3],[35,4,35,5],[35,6,35,8],[35,10,35,12],[35,13,35,17],[35,18,35,20],[35,21,35,23],[35,24,35,26],[35,27,35,29],[33,30,33,32],[33,33,33,35],[33,36,33,38],[33,39,33,41],[34,0,34,3],[34,4,34,5],[34,6,34,8],[34,10,34,12],[34,13,34,17],[34,18,34,20],[34,39,34,41],[34,21,34,23],[34,24,34,26],[34,27,34,29],[34,30,34,32],[34,33,34,35],[34,36,34,38],[33,0,33,3],[33,4,33,5],[33,6,33,8],[33,10,33,12],[33,13,33,17],[33,18,33,20],[33,21,33,23],[33,24,33,26],[33,27,33,29],[31,30,31,32],[31,33,31,35],[31,36,31,38],[31,39,31,41],[32,0,32,3],[32,4,32,5],[32,6,32,8],[32,10,32,12],[32,13,32,17],[32,18,32,20],[32,39,32,41],[32,21,32,23],[32,24,32,26],[32,27,32,29],[32,30,32,32],[32,33,32,35],[32,36,32,38],[31,0,31,3],[31,4,31,5],[31,6,31,8],[31,10,31,12],[31,13,31,17],[31,18,31,20],[31,21,31,23],[31,24,31,26],[31,27,31,29],[29,30,29,32],[29,33,29,35],[29,36,29,38],[29,39,29,41],[30,0,30,3],[30,4,30,5],[30,6,30,8],[30,10,30,12],[30,13,30,17],[30,18,30,20],[30,39,30,41],[30,21,30,23],[30,24,30,26],[30,27,30,29],[30,30,30,32],[30,33,30,35],[30,36,30,38],[29,0,29,3],[29,4,29,5],[29,6,29,8],[29,10,29,12],[29,13,29,17],[29,18,29,20],[29,21,29,23],[29,24,29,26],[29,27,29,29],[27,30,27,32],[27,33,27,35],[27,36,27,38],[27,39,27,41],[28,0,28,3],[28,4,28,5],[28,6,28,8],[28,10,28,12],[28,13,28,17],[28,18,28,20],[28,39,28,41],[28,21,28,23],[28,24,28,26],[28,27,28,29],[28,30,28,32],[28,33,28,35],[28,36,28,38],[27,0,27,3],[27,4,27,5],[27,6,27,8],[27,10,27,12],[27,13,27,17],[27,18,27,20],[27,21,27,23],[27,24,27,26],[27,27,27,29],[25,30,25,32],[25,33,25,35],[25,36,25,38],[25,39,25,41],[26,0,26,3],[26,4,26,5],[26,6,26,8],[26,10,26,12],[26,13,26,17],[26,18,26,20],[26,39,26,41],[26,21,26,23],[26,24,26,26],[26,27,26,29],[26,30,26,32],[26,33,26,35],[26,36,26,38],[25,0,25,3],[25,4,25,5],[25,6,25,8],[25,10,25,12],[25,13,25,17],[25,18,25,20],[25,21,25,23],[25,24,25,26],[25,27,25,29],[23,36,23,38],[23,39,23,41],[24,0,24,3],[24,4,24,5],[24,6,24,8],[24,10,24,12],[24,13,24,17],[24,18,24,20],[24,39,24,41],[24,21,24,23],[24,24,24,26],[24,27,24,29],[24,30,24,32],[24,33,24,35],[24,36,24,38],[22,39,22,41],[23,0,23,3],[23,4,23,5],[23,6,23,8],[23,10,23,12],[23,13,23,17],[23,18,23,20],[23,21,23,23],[23,24,23,26],[23,27,23,29],[22,21,22,23],[22,24,22,26],[22,27,22,29],[22,30,22,32],[22,33,22,35],[22,36,22,38],[22,0,22,3],[22,4,22,5],[22,6,22,8],[22,10,22,12],[22,13,22,17],[22,18,22,20],[23,30,23,32],[23,33,23,35],[20,24,21,26],[20,27,21,29],[20,30,21,32],[20,33,21,35],[20,36,21,38],[20,39,21,41],[20,0,21,3],[20,4,21,5],[20,6,20,12],[20,13,21,17],[20,18,21,20],[20,21,21,23],[21,6,21,8],[21,10,21,12],[12,0,12,41],[8,26,8,29],[8,30,8,31],[8,32,8,35],[8,36,8,37],[8,38,8,41],[9,0,9,41],[16,0,17,3],[16,4,17,17],[16,18,19,41],[18,0,19,3],[18,4,19,10],[18,11,19,12],[18,13,19,13],[13,5,13,28],[14,0,14,3],[14,4,14,18],[14,19,14,25],[14,26,14,41],[15,0,15,41],[7,20,7,23],[7,24,7,25],[7,26,7,29],[7,30,7,31],[10,4,10,41],[11,0,11,3],[11,4,11,18],[11,19,11,25],[11,26,11,41],[5,0,5,4],[5,5,5,12],[7,0,8,5],[7,6,7,7],[7,8,7,11],[7,12,7,13],[0,0,0,2],[0,3,0,41],[1,0,1,41],[2,0,2,41],[3,0,3,41],[4,0,4,41],[7,32,7,35],[7,36,7,37],[7,38,7,41],[8,6,8,7],[8,8,8,11],[8,12,8,13],[8,14,8,17],[8,18,8,19],[8,20,8,23],[8,24,8,25],[7,14,7,17],[7,18,7,19]]}
["様式７"]
["令和５年度文化芸術による子供育成推進事業"]
[{"$f":"IF('申【様式１】（共通）'!E14=\"\",\"\",'申【様式１】（共通）'!E14)","v":""}]
["旅費計算書"]
[]
["都道府県・\n政令指定都市名",null,null,null,null,{"$f":"IF('申【様式１】（共通）'!E4=\"\",\"\",'申【様式１】（共通）'!E4)","v":""}]
[]
["実施日",null,null,null,null,null,"第1回",null,{"$f":"IF($A$3=\"芸術家の派遣事業\",'申【様式３・４】（派遣）'!E21,'申【様式５・６】（コミュ）'!E44)","v":"00:00:00"},null,null,null,"第2回",null,{"$f":"IF($A$3=\"芸術家の派遣事業\",'申【様式３・４】（派遣）'!E39,'申【様式５・６】（コミュ）'!E49)","v":"00:00:00"},null,null,null,"第3回",null,{"$f":"IF($A$3=\"芸術家の派遣事業\",'申【様式３・４】（派遣）'!E57,'申【様式５・６】（コミュ）'!E54)","v":"00:00:00"},null,null,null,{"$f":"IF($A$3=\"コミュニケーション能力向上事業\",\"第4回\",\"\")","v":""},null,{"$f":"IF($A$3=\"芸術家の派遣事業\",\"\",'申【様式５・６】（コミュ）'!E59)","v":"00:00:00"},null,null,null,{"$f":"IF($A$3=\"コミュニケーション能力向上事業\",\"第5回\",\"\")","v":""},null,{"$f":"IF($A$3=\"芸術家の派遣事業\",\"\",'申【様式５・６】（コミュ）'!E64)","v":"00:00:00"},null,null,null,{"$f":"IF($A$3=\"コミュニケーション能力向上事業\",\"第6回\",\"\")","v":""},null,{"$f":"IF($A$3=\"芸術家の派遣事業\",\"\",'申【様式５・６】（コミュ）'!E72)","v":"00:00:00"}]
[null,null,null,null,null,null,{"$f":"IF($A$3=\"コミュニケーション能力向上事業\",\"第7回\",\"\")","v":""},null,{"$f":"IF($A$3=\"芸術家の派遣事業\",\"\",'申【様式５・６】（コミュ）'!$E77)","v":"00:00:00"},null,null,null,{"$f":"IF($A$3=\"コミュニケーション能力向上事業\",\"第8回\",\"\")","v":""},null,{"$f":"IF($A$3=\"芸術家の派遣事業\",\"\",'申【様式５・６】（コミュ）'!$E82)","v":"00:00:00"},null,null,null,{"$f":"IF($A$3=\"コミュニケーション能力向上事業\",\"第9回\",\"\")","v":""},null,{"$f":"IF($A$3=\"芸術家の派遣事業\",\"\",'申【様式５・６】（コミュ）'!$E87)","v":"00:00:00"},null,null,null,{"$f":"IF($A$3=\"コミュニケーション能力向上事業\",\"第10回\",\"\")","v":""},null,{"$f":"IF($A$3=\"芸術家の派遣事業\",\"\",'申【様式５・６】（コミュ）'!$E92)","v":"00:00:00"},null,null,null,{"$f":"IF($A$3=\"コミュニケーション能力向上事業\",\"第11回\",\"\")","v":""},null,{"$f":"IF($A$3=\"芸術家の派遣事業\",\"\",'申【様式５・６】（コミュ）'!$E100)","v":"00:00:00"},null,null,null,{"$f":"IF($A$3=\"コミュニケーション能力向上事業\",\"第12回\",\"\")","v":""},null,{"$f":"IF($A$3=\"芸術家の派遣事業\",\"\",'申【様式５・６】（コミュ）'!$E105)","v":"00:00:00"}]
[]
["①派遣先"]
["学校名",null,null,null,{"$f":"IF('申【様式１】（共通）'!E8=\"\",\"\",'申【様式１】（共通）'!E8)","v":""},null,null,null,null,null,null,null,null,null,null,null,null,null,null,"最寄駅/バス停",null,null,null,null,null,null,{"$f":"IF('申【様式１】（共通）'!M12=\"\",\"\",'申【様式１】（共通）'!M12)","v":""}]
[]
["②被派遣者"]
["氏名",null,null,null,"　",null,null,null,null,null,null,null,null,null,null,null,null,null,null,"最寄駅/バス停"]
[]
["③旅費",null,null,null,{"$f":"\"↓（申請時）様式\"&IF(A3=\"芸術家の派遣事業\",4,6)&\"に転記してください\n　 （報告時）様式\"&IF(A3=\"芸術家の派遣事業\",10,12)&\"に転記してください\"","v":"↓（申請時）様式6に転記してください\n　 （報告時）様式12に転記してください"},null,null,null,null,null,null,null,null,null,null,null,null,null,"※本事業の旅費基準に従って計上してください。\n※乗り換え毎に行を分けて記入してください。\n※交通機関名欄は、プルダウンより選択してください。\n※距離を必ず記入してください。"]
[]
["旅費合計\n（a+b+c+d)",null,null,null,{"$f":"SUM(AB41:AM41)","v":0},null,null,null,null,null,null,"円"]
[]
["日付",null,null,null,"曜日",null,"移動区間",null,null,null,null,null,null,"※交通機関名",null,null,null,null,"※距離\n(㎞)",null,null,"運賃\n乗車券",null,null,"特急\n急行料金",null,null,"交通費\n小計",null,null,"車賃",null,null,"日当",null,null,"宿泊費",null,null,"宿泊地"]
[null,null,null,null,null,null,"発地",null,null,"→","着地"]
[null,null,null,null,{"$f":"IF(A23=\"\",\"\",A23)","v":""},null,null,null,null,"→",null,null,null,null,null,null,null,null,null,null,null,null,null,null,null,null,null,{"$f":"SUM(V23:AA23)","v":0}]
[null,null,null,null,"",null,null,null,null,"→",null,null,null,null,null,null,null,null,null,null,null,null,null,null,null,null,null,0]
[null,null,null,null,"",null,null,null,null,"→",null,null,null,null,null,null,null,null,null,null,null,null,null,null,null,null,null,0]
[null,null,null,null,"",null,null,null,null,"→",null,null,null,null,null,null,null,null,null,null,null,null,null,null,null,null,null,0]
[null,null,null,null,"",null,null,null,null,"→",null,null,null,null,null,null,null,null,null,null,null,null,null,null,null,null,null,0]
[null,null,null,null,"",null,null,null,null,"→",null,null,null,null,null,null,null,null,null,null,null,null,null,null,null,null,null,0]
[null,null,null,null,"",null,null,null,null,"→",null,null,null,null,null,null,null,null,null,null,null,null,null,null,null,null,null,0]
[null,null,null,null,"",null,null,null,null,"→",null,null,null,null,null,null,null,null,null,null,null,null,null,null,null,null,null,0]
[null,null,null,null,"",null,null,null,null,"→",null,null,null,null,null,null,null,null,null,null,null,null,null,null,null,null,null,0]
[null,null,null,null,"",null,null,null,null,"→",null,null,null,null,null,null,null,null,null,null,null,null,null,null,null,null,null,0]
[null,null,null,null,"",null,null,null,null,"→",null,null,null,null,null,null,null,null,null,null,null,null,null,null,null,null,null,0]
[null,null,null,null,{"$f":"IF(A34=\"\",\"\",A34)","v":""},null,null,null,null,"→",null,null,null,null,null,null,null,null,null,null,null,null,null,null,null,null,null,{"$f":"SUM(V34:AA34)","v":0}]
[null,null,null,null,{"$f":"IF(A35=\"\",\"\",A35)","v":""},null,null,null,null,"→",null,null,null,null,null,null,null,null,null,null,null,null,null,null,null,null,null,{"$f":"SUM(V35:AA35)","v":0}]
[null,null,null,null,{"$f":"IF(A36=\"\",\"\",A36)","v":""},null,null,null,null,"→",null,null,null,null,null,null,null,null,null,null,null,null,null,null,null,null,null,{"$f":"SUM(V36:AA36)","v":0}]
[null,null,null,null,{"$f":"IF(A37=\"\",\"\",A37)","v":""},null,null,null,null,"→",null,null,null,null,null,null,null,null,null,null,null,null,null,null,null,null,null,{"$f":"SUM(V37:AA37)","v":0}]
[null,null,null,null,{"$f":"IF(A38=\"\",\"\",A38)","v":""},null,null,null,null,"→",null,null,null,null,null,null,null,null,null,null,null,null,null,null,null,null,null,{"$f":"SUM(V38:AA38)","v":0}]
[null,null,null,null,"",null,null,null,null,"→",null,null,null,null,null,null,null,null,null,null,null,null,null,null,null,null,null,0]
["合　計",null,null,null,null,null,null,null,null,null,null,null,null,null,null,null,null,null,null,null,null,null,null,null,null,null,null,"a",null,null,"b",null,null,"c",null,null,"d"]
[null,null,null,null,null,null,null,null,null,null,null,null,null,null,null,null,null,null,null,null,null,null,null,null,null,null,null,{"$f":"SUM(AB23:AD39)","v":0},null,null,{"$f":"ROUNDDOWN((SUMIFS(S23:U39,N23:P39,\"自家用車\")),0)*37","v":0},null,null,{"$f":"SUM(AH23:AJ39)","v":0},null,null,{"$f":"SUM(AK23:AM39)","v":0}]
[]
["(備　考)",null,null,null,null,"※出発地が現住所と異なる場合は出発地（駅名/バス停名）及びその理由を記入してください"]
[]
[]
["※本事業で得た個人情報は、本事業内のみで使用します。"]
["※本事業の専用ウェブページにあるに同意していただいたものとします。"]

{"sheet":"申報【様式７】④（共通）","index":14,"n_rows":47,"n_cols":40,"rows_kept":47,"cut":false,"hidden":true,"merged":[[40,36,40,38],[41,0,41,41],[42,0,42,3],[43,0,44,41],[38,39,38,41],[39,0,40,26],[39,27,39,29],[39,30,39,32],[39,33,39,35],[39,36,39,38],[39,39,40,41],[40,27,40,29],[40,30,40,32],[40,33,40,35],[38,21,38,23],[38,24,38,26],[38,27,38,29],[38,30,38,32],[38,33,38,35],[38,36,38,38],[37,30,37,32],[37,33,37,35],[37,36,37,38],[37,39,37,41],[38,0,38,3],[38,4,38,5],[38,6,38,8],[38,10,38,12],[38,13,38,17],[38,18,38,20],[37,0,37,3],[37,4,37,5],[37,6,37,8],[37,10,37,12],[37,13,37,17],[37,18,37,20],[37,21,37,23],[37,24,37,26],[37,27,37,29],[35,30,35,32],[35,33,35,35],[35,36,35,38],[35,39,35,41],[36,0,36,3],[36,4,36,5],[36,6,36,8],[36,10,36,12],[36,13,36,17],[36,18,36,20],[36,39,36,41],[36,21,36,23],[36,24,36,26],[36,27,36,29],[36,30,36,32],[36,33,36,35],[36,36,36,38],[35,0,35,3],[35,4,35,5],[35,6,35,8],[35,10,35,12],[35,13,35,17],[35,18,35,20],[35,21,35,23],[35,24,35,26],[35,27,35,29],[33,30,33,32],[33,33,33,35],[33,36,33,38],[33,39,33,41],[34,0,34,3],[34,4,34,5],[34,6,34,8],[34,10,34,12],[34,13,34,17],[34,18,34,20],[34,39,34,41],[34,21,34,23],[34,24,34,26],[34,27,34,29],[34,30,34,32],[34,33,34,35],[34,36,34,38],[33,0,33,3],[33,4,33,5],[33,6,33,8],[33,10,33,12],[33,13,33,17],[33,18,33,20],[33,21,33,23],[33,24,33,26],[33,27,33,29],[31,30,31,32],[31,33,31,35],[31,36,31,38],[31,39,31,41],[32,0,32,3],[32,4,32,5],[32,6,32,8],[32,10,32,12],[32,13,32,17],[32,18,32,20],[32,39,32,41],[32,21,32,23],[32,24,32,26],[32,27,32,29],[32,30,32,32],[32,33,32,35],[32,36,32,38],[31,0,31,3],[31,4,31,5],[31,6,31,8],[31,10,31,12],[31,13,31,17],[31,18,31,20],[31,21,31,23],[31,24,31,26],[31,27,31,29],[29,30,29,32],[29,33,29,35],[29,36,29,38],[29,39,29,41],[30,0,30,3],[30,4,30,5],[30,6,30,8],[30,10,30,12],[30,13,30,17],[30,18,30,20],[30,39,30,41],[30,21,30,23],[30,24,30,26],[30,27,30,29],[30,30,30,32],[30,33,30,35],[30,36,30,38],[29,0,29,3],[29,4,29,5],[29,6,29,8],[29,10,29,12],[29,13,29,17],[29,18,29,20],[29,21,29,23],[29,24,29,26],[29,27,29,29],[27,30,27,32],[27,33,27,35],[27,36,27,38],[27,39,27,41],[28,0,28,3],[28,4,28,5],[28,6,28,8],[28,10,28,12],[28,13,28,17],[28,18,28,20],[28,39,28,41],[28,21,28,23],[28,24,28,26],[28,27,28,29],[28,30,28,32],[28,33,28,35],[28,36,28,38],[27,0,27,3],[27,4,27,5],[27,6,27,8],[27,10,27,12],[27,13,27,17],[27,18,27,20],[27,21,27,23],[27,24,27,26],[27,27,27,29],[25,30,25,32],[25,33,25,35],[25,36,25,38],[25,39,25,41],[26,0,26,3],[26,4,26,5],[26,6,26,8],[26,10,26,12],[26,13,26,17],[26,18,26,20],[26,39,26,41],[26,21,26,23],[26,24,26,26],[26,27,26,29],[26,30,26,32],[26,33,26,35],[26,36,26,38],[25,0,25,3],[25,4,25,5],[25,6,25,8],[25,10,25,12],[25,13,25,17],[25,18,25,20],[25,21,25,23],[25,24,25,26],[25,27,25,29],[23,36,23,38],[23,39,23,41],[24,0,24,3],[24,4,24,5],[24,6,24,8],[24,10,24,12],[24,13,24,17],[24,18,24,20],[24,39,24,41],[24,21,24,23],[24,24,24,26],[24,27,24,29],[24,30,24,32],[24,33,24,35],[24,36,24,38],[22,39,22,41],[23,0,23,3],[23,4,23,5],[23,6,23,8],[23,10,23,12],[23,13,23,17],[23,18,23,20],[23,21,23,23],[23,24,23,26],[23,27,23,29],[22,21,22,23],[22,24,22,26],[22,27,22,29],[22,30,22,32],[22,33,22,35],[22,36,22,38],[22,0,22,3],[22,4,22,5],[22,6,22,8],[22,10,22,12],[22,13,22,17],[22,18,22,20],[23,30,23,32],[23,33,23,35],[20,24,21,26],[20,27,21,29],[20,30,21,32],[20,33,21,35],[20,36,21,38],[20,39,21,41],[20,0,21,3],[20,4,21,5],[20,6,20,12],[20,13,21,17],[20,18,21,20],[20,21,21,23],[21,6,21,8],[21,10,21,12],[12,0,12,41],[8,26,8,29],[8,30,8,31],[8,32,8,35],[8,36,8,37],[8,38,8,41],[9,0,9,41],[16,0,17,3],[16,4,17,17],[16,18,19,41],[18,0,19,3],[18,4,19,10],[18,11,19,12],[18,13,19,13],[13,5,13,28],[14,0,14,3],[14,4,14,18],[14,19,14,25],[14,26,14,41],[15,0,15,41],[7,20,7,23],[7,24,7,25],[7,26,7,29],[7,30,7,31],[10,4,10,41],[11,0,11,3],[11,4,11,18],[11,19,11,25],[11,26,11,41],[5,0,5,4],[5,5,5,12],[7,0,8,5],[7,6,7,7],[7,8,7,11],[7,12,7,13],[0,0,0,2],[0,3,0,41],[1,0,1,41],[2,0,2,41],[3,0,3,41],[4,0,4,41],[7,32,7,35],[7,36,7,37],[7,38,7,41],[8,6,8,7],[8,8,8,11],[8,12,8,13],[8,14,8,17],[8,18,8,19],[8,20,8,23],[8,24,8,25],[7,14,7,17],[7,18,7,19]]}
["様式７"]
["令和５年度文化芸術による子供育成推進事業"]
[{"$f":"IF('申【様式１】（共通）'!E14=\"\",\"\",'申【様式１】（共通）'!E14)","v":""}]
["旅費計算書"]
[]
["都道府県・\n政令指定都市名",null,null,null,null,{"$f":"IF('申【様式１】（共通）'!E4=\"\",\"\",'申【様式１】（共通）'!E4)","v":""}]
[]
["実施日",null,null,null,null,null,"第1回",null,{"$f":"IF($A$3=\"芸術家の派遣事業\",'申【様式３・４】（派遣）'!E21,'申【様式５・６】（コミュ）'!E44)","v":"00:00:00"},null,null,null,"第2回",null,{"$f":"IF($A$3=\"芸術家の派遣事業\",'申【様式３・４】（派遣）'!E39,'申【様式５・６】（コミュ）'!E49)","v":"00:00:00"},null,null,null,"第3回",null,{"$f":"IF($A$3=\"芸術家の派遣事業\",'申【様式３・４】（派遣）'!E57,'申【様式５・６】（コミュ）'!E54)","v":"00:00:00"},null,null,null,{"$f":"IF($A$3=\"コミュニケーション能力向上事業\",\"第4回\",\"\")","v":""},null,{"$f":"IF($A$3=\"芸術家の派遣事業\",\"\",'申【様式５・６】（コミュ）'!E59)","v":"00:00:00"},null,null,null,{"$f":"IF($A$3=\"コミュニケーション能力向上事業\",\"第5回\",\"\")","v":""},null,{"$f":"IF($A$3=\"芸術家の派遣事業\",\"\",'申【様式５・６】（コミュ）'!E64)","v":"00:00:00"},null,null,null,{"$f":"IF($A$3=\"コミュニケーション能力向上事業\",\"第6回\",\"\")","v":""},null,{"$f":"IF($A$3=\"芸術家の派遣事業\",\"\",'申【様式５・６】（コミュ）'!E72)","v":"00:00:00"}]
[null,null,null,null,null,null,{"$f":"IF($A$3=\"コミュニケーション能力向上事業\",\"第7回\",\"\")","v":""},null,{"$f":"IF($A$3=\"芸術家の派遣事業\",\"\",'申【様式５・６】（コミュ）'!$E77)","v":"00:00:00"},null,null,null,{"$f":"IF($A$3=\"コミュニケーション能力向上事業\",\"第8回\",\"\")","v":""},null,{"$f":"IF($A$3=\"芸術家の派遣事業\",\"\",'申【様式５・６】（コミュ）'!$E82)","v":"00:00:00"},null,null,null,{"$f":"IF($A$3=\"コミュニケーション能力向上事業\",\"第9回\",\"\")","v":""},null,{"$f":"IF($A$3=\"芸術家の派遣事業\",\"\",'申【様式５・６】（コミュ）'!$E87)","v":"00:00:00"},null,null,null,{"$f":"IF($A$3=\"コミュニケーション能力向上事業\",\"第10回\",\"\")","v":""},null,{"$f":"IF($A$3=\"芸術家の派遣事業\",\"\",'申【様式５・６】（コミュ）'!$E92)","v":"00:00:00"},null,null,null,{"$f":"IF($A$3=\"コミュニケーション能力向上事業\",\"第11回\",\"\")","v":""},null,{"$f":"IF($A$3=\"芸術家の派遣事業\",\"\",'申【様式５・６】（コミュ）'!$E100)","v":"00:00:00"},null,null,null,{"$f":"IF($A$3=\"コミュニケーション能力向上事業\",\"第12回\",\"\")","v":""},null,{"$f":"IF($A$3=\"芸術家の派遣事業\",\"\",'申【様式５・６】（コミュ）'!$E105)","v":"00:00:00"}]
[]
["①派遣先"]
["学校名",null,null,null,{"$f":"IF('申【様式１】（共通）'!E8=\"\",\"\",'申【様式１】（共通）'!E8)","v":""},null,null,null,null,null,null,null,null,null,null,null,null,null,null,"最寄駅/バス停",null,null,null,null,null,null,{"$f":"IF('申【様式１】（共通）'!M12=\"\",\"\",'申【様式１】（共通）'!M12)","v":""}]
[]
["②被派遣者"]
["氏名",null,null,null,"　",null,null,null,null,null,null,null,null,null,null,null,null,null,null,"最寄駅/バス停"]
[]
["③旅費",null,null,null,{"$f":"\"↓（申請時）様式\"&IF(A3=\"芸術家の派遣事業\",4,6)&\"に転記してください\n　 （報告時）様式\"&IF(A3=\"芸術家の派遣事業\",10,12)&\"に転記してください\"","v":"↓（申請時）様式6に転記してください\n　 （報告時）様式12に転記してください"},null,null,null,null,null,null,null,null,null,null,null,null,null,"※本事業の旅費基準に従って計上してください。\n※乗り換え毎に行を分けて記入してください。\n※交通機関名欄は、プルダウンより選択してください。\n※距離を必ず記入してください。"]
[]
["旅費合計\n（a+b+c+d)",null,null,null,{"$f":"SUM(AB41:AM41)","v":0},null,null,null,null,null,null,"円"]
[]
["日付",null,null,null,"曜日",null,"移動区間",null,null,null,null,null,null,"※交通機関名",null,null,null,null,"※距離\n(㎞)",null,null,"運賃\n乗車券",null,null,"特急\n急行料金",null,null,"交通費\n小計",null,null,"車賃",null,null,"日当",null,null,"宿泊費",null,null,"宿泊地"]
[null,null,null,null,null,null,"発地",null,null,"→","着地"]
[null,null,null,null,{"$f":"IF(A23=\"\",\"\",A23)","v":""},null,null,null,null,"→",null,null,null,null,null,null,null,null,null,null,null,null,null,null,null,null,null,{"$f":"SUM(V23:AA23)","v":0}]
[null,null,null,null,"",null,null,null,null,"→",null,null,null,null,null,null,null,null,null,null,null,null,null,null,null,null,null,0]
[null,null,null,null,"",null,null,null,null,"→",null,null,null,null,null,null,null,null,null,null,null,null,null,null,null,null,null,0]
[null,null,null,null,"",null,null,null,null,"→",null,null,null,null,null,null,null,null,null,null,null,null,null,null,null,null,null,0]
[null,null,null,null,"",null,null,null,null,"→",null,null,null,null,null,null,null,null,null,null,null,null,null,null,null,null,null,0]
[null,null,null,null,"",null,null,null,null,"→",null,null,null,null,null,null,null,null,null,null,null,null,null,null,null,null,null,0]
[null,null,null,null,"",null,null,null,null,"→",null,null,null,null,null,null,null,null,null,null,null,null,null,null,null,null,null,0]
[null,null,null,null,"",null,null,null,null,"→",null,null,null,null,null,null,null,null,null,null,null,null,null,null,null,null,null,0]
[null,null,null,null,"",null,null,null,null,"→",null,null,null,null,null,null,null,null,null,null,null,null,null,null,null,null,null,0]
[null,null,null,null,"",null,null,null,null,"→",null,null,null,null,null,null,null,null,null,null,null,null,null,null,null,null,null,0]
[null,null,null,null,"",null,null,null,null,"→",null,null,null,null,null,null,null,null,null,null,null,null,null,null,null,null,null,0]
[null,null,null,null,{"$f":"IF(A34=\"\",\"\",A34)","v":""},null,null,null,null,"→",null,null,null,null,null,null,null,null,null,null,null,null,null,null,null,null,null,{"$f":"SUM(V34:AA34)","v":0}]
[null,null,null,null,{"$f":"IF(A35=\"\",\"\",A35)","v":""},null,null,null,null,"→",null,null,null,null,null,null,null,null,null,null,null,null,null,null,null,null,null,{"$f":"SUM(V35:AA35)","v":0}]
[null,null,null,null,{"$f":"IF(A36=\"\",\"\",A36)","v":""},null,null,null,null,"→",null,null,null,null,null,null,null,null,null,null,null,null,null,null,null,null,null,{"$f":"SUM(V36:AA36)","v":0}]
[null,null,null,null,{"$f":"IF(A37=\"\",\"\",A37)","v":""},null,null,null,null,"→",null,null,null,null,null,null,null,null,null,null,null,null,null,null,null,null,null,{"$f":"SUM(V37:AA37)","v":0}]
[null,null,null,null,{"$f":"IF(A38=\"\",\"\",A38)","v":""},null,null,null,null,"→",null,null,null,null,null,null,null,null,null,null,null,null,null,null,null,null,null,{"$f":"SUM(V38:AA38)","v":0}]
[null,null,null,null,"",null,null,null,null,"→",null,null,null,null,null,null,null,null,null,null,null,null,null,null,null,null,null,0]
["合　計",null,null,null,null,null,null,null,null,null,null,null,null,null,null,null,null,null,null,null,null,null,null,null,null,null,null,"a",null,null,"b",null,null,"c",null,null,"d"]
[null,null,null,null,null,null,null,null,null,null,null,null,null,null,null,null,null,null,null,null,null,null,null,null,null,null,null,{"$f":"SUM(AB23:AD39)","v":0},null,null,{"$f":"ROUNDDOWN((SUMIFS(S23:U39,N23:P39,\"自家用車\")),0)*37","v":0},null,null,{"$f":"SUM(AH23:AJ39)","v":0},null,null,{"$f":"SUM(AK23:AM39)","v":0}]
[]
["(備　考)",null,null,null,null,"※出発地が現住所と異なる場合は出発地（駅名/バス停名）及びその理由を記入してください"]
[]
[]
["※本事業で得た個人情報は、本事業内のみで使用します。"]
["※本事業の専用ウェブページにあるに同意していただいたものとします。"]

{"sheet":"申報【様式７】⑤（共通）","index":15,"n_rows":47,"n_cols":40,"rows_kept":47,"cut":false,"hidden":true,"merged":[[40,36,40,38],[41,0,41,41],[42,0,42,3],[43,0,44,41],[38,39,38,41],[39,0,40,26],[39,27,39,29],[39,30,39,32],[39,33,39,35],[39,36,39,38],[39,39,40,41],[40,27,40,29],[40,30,40,32],[40,33,40,35],[38,21,38,23],[38,24,38,26],[38,27,38,29],[38,30,38,32],[38,33,38,35],[38,36,38,38],[37,30,37,32],[37,33,37,35],[37,36,37,38],[37,39,37,41],[38,0,38,3],[38,4,38,5],[38,6,38,8],[38,10,38,12],[38,13,38,17],[38,18,38,20],[37,0,37,3],[37,4,37,5],[37,6,37,8],[37,10,37,12],[37,13,37,17],[37,18,37,20],[37,21,37,23],[37,24,37,26],[37,27,37,29],[35,30,35,32],[35,33,35,35],[35,36,35,38],[35,39,35,41],[36,0,36,3],[36,4,36,5],[36,6,36,8],[36,10,36,12],[36,13,36,17],[36,18,36,20],[36,39,36,41],[36,21,36,23],[36,24,36,26],[36,27,36,29],[36,30,36,32],[36,33,36,35],[36,36,36,38],[35,0,35,3],[35,4,35,5],[35,6,35,8],[35,10,35,12],[35,13,35,17],[35,18,35,20],[35,21,35,23],[35,24,35,26],[35,27,35,29],[33,30,33,32],[33,33,33,35],[33,36,33,38],[33,39,33,41],[34,0,34,3],[34,4,34,5],[34,6,34,8],[34,10,34,12],[34,13,34,17],[34,18,34,20],[34,39,34,41],[34,21,34,23],[34,24,34,26],[34,27,34,29],[34,30,34,32],[34,33,34,35],[34,36,34,38],[33,0,33,3],[33,4,33,5],[33,6,33,8],[33,10,33,12],[33,13,33,17],[33,18,33,20],[33,21,33,23],[33,24,33,26],[33,27,33,29],[31,30,31,32],[31,33,31,35],[31,36,31,38],[31,39,31,41],[32,0,32,3],[32,4,32,5],[32,6,32,8],[32,10,32,12],[32,13,32,17],[32,18,32,20],[32,39,32,41],[32,21,32,23],[32,24,32,26],[32,27,32,29],[32,30,32,32],[32,33,32,35],[32,36,32,38],[31,0,31,3],[31,4,31,5],[31,6,31,8],[31,10,31,12],[31,13,31,17],[31,18,31,20],[31,21,31,23],[31,24,31,26],[31,27,31,29],[29,30,29,32],[29,33,29,35],[29,36,29,38],[29,39,29,41],[30,0,30,3],[30,4,30,5],[30,6,30,8],[30,10,30,12],[30,13,30,17],[30,18,30,20],[30,39,30,41],[30,21,30,23],[30,24,30,26],[30,27,30,29],[30,30,30,32],[30,33,30,35],[30,36,30,38],[29,0,29,3],[29,4,29,5],[29,6,29,8],[29,10,29,12],[29,13,29,17],[29,18,29,20],[29,21,29,23],[29,24,29,26],[29,27,29,29],[27,30,27,32],[27,33,27,35],[27,36,27,38],[27,39,27,41],[28,0,28,3],[28,4,28,5],[28,6,28,8],[28,10,28,12],[28,13,28,17],[28,18,28,20],[28,39,28,41],[28,21,28,23],[28,24,28,26],[28,27,28,29],[28,30,28,32],[28,33,28,35],[28,36,28,38],[27,0,27,3],[27,4,27,5],[27,6,27,8],[27,10,27,12],[27,13,27,17],[27,18,27,20],[27,21,27,23],[27,24,27,26],[27,27,27,29],[25,30,25,32],[25,33,25,35],[25,36,25,38],[25,39,25,41],[26,0,26,3],[26,4,26,5],[26,6,26,8],[26,10,26,12],[26,13,26,17],[26,18,26,20],[26,39,26,41],[26,21,26,23],[26,24,26,26],[26,27,26,29],[26,30,26,32],[26,33,26,35],[26,36,26,38],[25,0,25,3],[25,4,25,5],[25,6,25,8],[25,10,25,12],[25,13,25,17],[25,18,25,20],[25,21,25,23],[25,24,25,26],[25,27,25,29],[23,36,23,38],[23,39,23,41],[24,0,24,3],[24,4,24,5],[24,6,24,8],[24,10,24,12],[24,13,24,17],[24,18,24,20],[24,39,24,41],[24,21,24,23],[24,24,24,26],[24,27,24,29],[24,30,24,32],[24,33,24,35],[24,36,24,38],[22,39,22,41],[23,0,23,3],[23,4,23,5],[23,6,23,8],[23,10,23,12],[23,13,23,17],[23,18,23,20],[23,21,23,23],[23,24,23,26],[23,27,23,29],[22,21,22,23],[22,24,22,26],[22,27,22,29],[22,30,22,32],[22,33,22,35],[22,36,22,38],[22,0,22,3],[22,4,22,5],[22,6,22,8],[22,10,22,12],[22,13,22,17],[22,18,22,20],[23,30,23,32],[23,33,23,35],[20,24,21,26],[20,27,21,29],[20,30,21,32],[20,33,21,35],[20,36,21,38],[20,39,21,41],[20,0,21,3],[20,4,21,5],[20,6,20,12],[20,13,21,17],[20,18,21,20],[20,21,21,23],[21,6,21,8],[21,10,21,12],[12,0,12,41],[8,26,8,29],[8,30,8,31],[8,32,8,35],[8,36,8,37],[8,38,8,41],[9,0,9,41],[16,0,17,3],[16,4,17,17],[16,18,19,41],[18,0,19,3],[18,4,19,10],[18,11,19,12],[18,13,19,13],[13,5,13,28],[14,0,14,3],[14,4,14,18],[14,19,14,25],[14,26,14,41],[15,0,15,41],[7,20,7,23],[7,24,7,25],[7,26,7,29],[7,30,7,31],[10,4,10,41],[11,0,11,3],[11,4,11,18],[11,19,11,25],[11,26,11,41],[5,0,5,4],[5,5,5,12],[7,0,8,5],[7,6,7,7],[7,8,7,11],[7,12,7,13],[0,0,0,2],[0,3,0,41],[1,0,1,41],[2,0,2,41],[3,0,3,41],[4,0,4,41],[7,32,7,35],[7,36,7,37],[7,38,7,41],[8,6,8,7],[8,8,8,11],[8,12,8,13],[8,14,8,17],[8,18,8,19],[8,20,8,23],[8,24,8,25],[7,14,7,17],[7,18,7,19]]}
["様式７"]
["令和５年度文化芸術による子供育成推進事業"]
[{"$f":"IF('申【様式１】（共通）'!E14=\"\",\"\",'申【様式１】（共通）'!E14)","v":""}]
["旅費計算書"]
[]
["都道府県・\n政令指定都市名",null,null,null,null,{"$f":"IF('申【様式１】（共通）'!E4=\"\",\"\",'申【様式１】（共通）'!E4)","v":""}]
[]
["実施日",null,null,null,null,null,"第1回",null,{"$f":"IF($A$3=\"芸術家の派遣事業\",'申【様式３・４】（派遣）'!E21,'申【様式５・６】（コミュ）'!E44)","v":"00:00:00"},null,null,null,"第2回",null,{"$f":"IF($A$3=\"芸術家の派遣事業\",'申【様式３・４】（派遣）'!E39,'申【様式５・６】（コミュ）'!E49)","v":"00:00:00"},null,null,null,"第3回",null,{"$f":"IF($A$3=\"芸術家の派遣事業\",'申【様式３・４】（派遣）'!E57,'申【様式５・６】（コミュ）'!E54)","v":"00:00:00"},null,null,null,{"$f":"IF($A$3=\"コミュニケーション能力向上事業\",\"第4回\",\"\")","v":""},null,{"$f":"IF($A$3=\"芸術家の派遣事業\",\"\",'申【様式５・６】（コミュ）'!E59)","v":"00:00:00"},null,null,null,{"$f":"IF($A$3=\"コミュニケーション能力向上事業\",\"第5回\",\"\")","v":""},null,{"$f":"IF($A$3=\"芸術家の派遣事業\",\"\",'申【様式５・６】（コミュ）'!E64)","v":"00:00:00"},null,null,null,{"$f":"IF($A$3=\"コミュニケーション能力向上事業\",\"第6回\",\"\")","v":""},null,{"$f":"IF($A$3=\"芸術家の派遣事業\",\"\",'申【様式５・６】（コミュ）'!E72)","v":"00:00:00"}]
[null,null,null,null,null,null,{"$f":"IF($A$3=\"コミュニケーション能力向上事業\",\"第7回\",\"\")","v":""},null,{"$f":"IF($A$3=\"芸術家の派遣事業\",\"\",'申【様式５・６】（コミュ）'!$E77)","v":"00:00:00"},null,null,null,{"$f":"IF($A$3=\"コミュニケーション能力向上事業\",\"第8回\",\"\")","v":""},null,{"$f":"IF($A$3=\"芸術家の派遣事業\",\"\",'申【様式５・６】（コミュ）'!$E82)","v":"00:00:00"},null,null,null,{"$f":"IF($A$3=\"コミュニケーション能力向上事業\",\"第9回\",\"\")","v":""},null,{"$f":"IF($A$3=\"芸術家の派遣事業\",\"\",'申【様式５・６】（コミュ）'!$E87)","v":"00:00:00"},null,null,null,{"$f":"IF($A$3=\"コミュニケーション能力向上事業\",\"第10回\",\"\")","v":""},null,{"$f":"IF($A$3=\"芸術家の派遣事業\",\"\",'申【様式５・６】（コミュ）'!$E92)","v":"00:00:00"},null,null,null,{"$f":"IF($A$3=\"コミュニケーション能力向上事業\",\"第11回\",\"\")","v":""},null,{"$f":"IF($A$3=\"芸術家の派遣事業\",\"\",'申【様式５・６】（コミュ）'!$E100)","v":"00:00:00"},null,null,null,{"$f":"IF($A$3=\"コミュニケーション能力向上事業\",\"第12回\",\"\")","v":""},null,{"$f":"IF($A$3=\"芸術家の派遣事業\",\"\",'申【様式５・６】（コミュ）'!$E105)","v":"00:00:00"}]
[]
["①派遣先"]
["学校名",null,null,null,{"$f":"IF('申【様式１】（共通）'!E8=\"\",\"\",'申【様式１】（共通）'!E8)","v":""},null,null,null,null,null,null,null,null,null,null,null,null,null,null,"最寄駅/バス停",null,null,null,null,null,null,{"$f":"IF('申【様式１】（共通）'!M12=\"\",\"\",'申【様式１】（共通）'!M12)","v":""}]
[]
["②被派遣者"]
["氏名",null,null,null,"　",null,null,null,null,null,null,null,null,null,null,null,null,null,null,"最寄駅/バス停"]
[]
["③旅費",null,null,null,{"$f":"\"↓（申請時）様式\"&IF(A3=\"芸術家の派遣事業\",4,6)&\"に転記してください\n　 （報告時）様式\"&IF(A3=\"芸術家の派遣事業\",10,12)&\"に転記してください\"","v":"↓（申請時）様式6に転記してください\n　 （報告時）様式12に転記してください"},null,null,null,null,null,null,null,null,null,null,null,null,null,"※本事業の旅費基準に従って計上してください。\n※乗り換え毎に行を分けて記入してください。\n※交通機関名欄は、プルダウンより選択してください。\n※距離を必ず記入してください。"]
[]
["旅費合計\n（a+b+c+d)",null,null,null,{"$f":"SUM(AB41:AM41)","v":0},null,null,null,null,null,null,"円"]
[]
["日付",null,null,null,"曜日",null,"移動区間",null,null,null,null,null,null,"※交通機関名",null,null,null,null,"※距離\n(㎞)",null,null,"運賃\n乗車券",null,null,"特急\n急行料金",null,null,"交通費\n小計",null,null,"車賃",null,null,"日当",null,null,"宿泊費",null,null,"宿泊地"]
[null,null,null,null,null,null,"発地",null,null,"→","着地"]
[null,null,null,null,{"$f":"IF(A23=\"\",\"\",A23)","v":""},null,null,null,null,"→",null,null,null,null,null,null,null,null,null,null,null,null,null,null,null,null,null,{"$f":"SUM(V23:AA23)","v":0}]
[null,null,null,null,"",null,null,null,null,"→",null,null,null,null,null,null,null,null,null,null,null,null,null,null,null,null,null,0]
[null,null,null,null,"",null,null,null,null,"→",null,null,null,null,null,null,null,null,null,null,null,null,null,null,null,null,null,0]
[null,null,null,null,"",null,null,null,null,"→",null,null,null,null,null,null,null,null,null,null,null,null,null,null,null,null,null,0]
[null,null,null,null,"",null,null,null,null,"→",null,null,null,null,null,null,null,null,null,null,null,null,null,null,null,null,null,0]
[null,null,null,null,"",null,null,null,null,"→",null,null,null,null,null,null,null,null,null,null,null,null,null,null,null,null,null,0]
[null,null,null,null,"",null,null,null,null,"→",null,null,null,null,null,null,null,null,null,null,null,null,null,null,null,null,null,0]
[null,null,null,null,"",null,null,null,null,"→",null,null,null,null,null,null,null,null,null,null,null,null,null,null,null,null,null,0]
[null,null,null,null,"",null,null,null,null,"→",null,null,null,null,null,null,null,null,null,null,null,null,null,null,null,null,null,0]
[null,null,null,null,"",null,null,null,null,"→",null,null,null,null,null,null,null,null,null,null,null,null,null,null,null,null,null,0]
[null,null,null,null,"",null,null,null,null,"→",null,null,null,null,null,null,null,null,null,null,null,null,null,null,null,null,null,0]
[null,null,null,null,{"$f":"IF(A34=\"\",\"\",A34)","v":""},null,null,null,null,"→",null,null,null,null,null,null,null,null,null,null,null,null,null,null,null,null,null,{"$f":"SUM(V34:AA34)","v":0}]
[null,null,null,null,{"$f":"IF(A35=\"\",\"\",A35)","v":""},null,null,null,null,"→",null,null,null,null,null,null,null,null,null,null,null,null,null,null,null,null,null,{"$f":"SUM(V35:AA35)","v":0}]
[null,null,null,null,{"$f":"IF(A36=\"\",\"\",A36)","v":""},null,null,null,null,"→",null,null,null,null,null,null,null,null,null,null,null,null,null,null,null,null,null,{"$f":"SUM(V36:AA36)","v":0}]
[null,null,null,null,{"$f":"IF(A37=\"\",\"\",A37)","v":""},null,null,null,null,"→",null,null,null,null,null,null,null,null,null,null,null,null,null,null,null,null,null,{"$f":"SUM(V37:AA37)","v":0}]
[null,null,null,null,{"$f":"IF(A38=\"\",\"\",A38)","v":""},null,null,null,null,"→",null,null,null,null,null,null,null,null,null,null,null,null,null,null,null,null,null,{"$f":"SUM(V38:AA38)","v":0}]
[null,null,null,null,"",null,null,null,null,"→",null,null,null,null,null,null,null,null,null,null,null,null,null,null,null,null,null,0]
["合　計",null,null,null,null,null,null,null,null,null,null,null,null,null,null,null,null,null,null,null,null,null,null,null,null,null,null,"a",null,null,"b",null,null,"c",null,null,"d"]
[null,null,null,null,null,null,null,null,null,null,null,null,null,null,null,null,null,null,null,null,null,null,null,null,null,null,null,{"$f":"SUM(AB23:AD39)","v":0},null,null,{"$f":"ROUNDDOWN((SUMIFS(S23:U39,N23:P39,\"自家用車\")),0)*37","v":0},null,null,{"$f":"SUM(AH23:AJ39)","v":0},null,null,{"$f":"SUM(AK23:AM39)","v":0}]
[]
["(備　考)",null,null,null,null,"※出発地が現住所と異なる場合は出発地（駅名/バス停名）及びその理由を記入してください"]
[]
[]
["※本事業で得た個人情報は、本事業内のみで使用します。"]
["※本事業の専用ウェブページにあるに同意していただいたものとします。"]

{"sheet":"申報【様式７】⑥（共通）","index":16,"n_rows":47,"n_cols":40,"rows_kept":47,"cut":false,"hidden":true,"merged":[[40,36,40,38],[41,0,41,41],[42,0,42,3],[43,0,44,41],[38,39,38,41],[39,0,40,26],[39,27,39,29],[39,30,39,32],[39,33,39,35],[39,36,39,38],[39,39,40,41],[40,27,40,29],[40,30,40,32],[40,33,40,35],[38,21,38,23],[38,24,38,26],[38,27,38,29],[38,30,38,32],[38,33,38,35],[38,36,38,38],[37,30,37,32],[37,33,37,35],[37,36,37,38],[37,39,37,41],[38,0,38,3],[38,4,38,5],[38,6,38,8],[38,10,38,12],[38,13,38,17],[38,18,38,20],[37,0,37,3],[37,4,37,5],[37,6,37,8],[37,10,37,12],[37,13,37,17],[37,18,37,20],[37,21,37,23],[37,24,37,26],[37,27,37,29],[35,30,35,32],[35,33,35,35],[35,36,35,38],[35,39,35,41],[36,0,36,3],[36,4,36,5],[36,6,36,8],[36,10,36,12],[36,13,36,17],[36,18,36,20],[36,39,36,41],[36,21,36,23],[36,24,36,26],[36,27,36,29],[36,30,36,32],[36,33,36,35],[36,36,36,38],[35,0,35,3],[35,4,35,5],[35,6,35,8],[35,10,35,12],[35,13,35,17],[35,18,35,20],[35,21,35,23],[35,24,35,26],[35,27,35,29],[33,30,33,32],[33,33,33,35],[33,36,33,38],[33,39,33,41],[34,0,34,3],[34,4,34,5],[34,6,34,8],[34,10,34,12],[34,13,34,17],[34,18,34,20],[34,39,34,41],[34,21,34,23],[34,24,34,26],[34,27,34,29],[34,30,34,32],[34,33,34,35],[34,36,34,38],[33,0,33,3],[33,4,33,5],[33,6,33,8],[33,10,33,12],[33,13,33,17],[33,18,33,20],[33,21,33,23],[33,24,33,26],[33,27,33,29],[31,30,31,32],[31,33,31,35],[31,36,31,38],[31,39,31,41],[32,0,32,3],[32,4,32,5],[32,6,32,8],[32,10,32,12],[32,13,32,17],[32,18,32,20],[32,39,32,41],[32,21,32,23],[32,24,32,26],[32,27,32,29],[32,30,32,32],[32,33,32,35],[32,36,32,38],[31,0,31,3],[31,4,31,5],[31,6,31,8],[31,10,31,12],[31,13,31,17],[31,18,31,20],[31,21,31,23],[31,24,31,26],[31,27,31,29],[29,30,29,32],[29,33,29,35],[29,36,29,38],[29,39,29,41],[30,0,30,3],[30,4,30,5],[30,6,30,8],[30,10,30,12],[30,13,30,17],[30,18,30,20],[30,39,30,41],[30,21,30,23],[30,24,30,26],[30,27,30,29],[30,30,30,32],[30,33,30,35],[30,36,30,38],[29,0,29,3],[29,4,29,5],[29,6,29,8],[29,10,29,12],[29,13,29,17],[29,18,29,20],[29,21,29,23],[29,24,29,26],[29,27,29,29],[27,30,27,32],[27,33,27,35],[27,36,27,38],[27,39,27,41],[28,0,28,3],[28,4,28,5],[28,6,28,8],[28,10,28,12],[28,13,28,17],[28,18,28,20],[28,39,28,41],[28,21,28,23],[28,24,28,26],[28,27,28,29],[28,30,28,32],[28,33,28,35],[28,36,28,38],[27,0,27,3],[27,4,27,5],[27,6,27,8],[27,10,27,12],[27,13,27,17],[27,18,27,20],[27,21,27,23],[27,24,27,26],[27,27,27,29],[25,30,25,32],[25,33,25,35],[25,36,25,38],[25,39,25,41],[26,0,26,3],[26,4,26,5],[26,6,26,8],[26,10,26,12],[26,13,26,17],[26,18,26,20],[26,39,26,41],[26,21,26,23],[26,24,26,26],[26,27,26,29],[26,30,26,32],[26,33,26,35],[26,36,26,38],[25,0,25,3],[25,4,25,5],[25,6,25,8],[25,10,25,12],[25,13,25,17],[25,18,25,20],[25,21,25,23],[25,24,25,26],[25,27,25,29],[23,36,23,38],[23,39,23,41],[24,0,24,3],[24,4,24,5],[24,6,24,8],[24,10,24,12],[24,13,24,17],[24,18,24,20],[24,39,24,41],[24,21,24,23],[24,24,24,26],[24,27,24,29],[24,30,24,32],[24,33,24,35],[24,36,24,38],[22,39,22,41],[23,0,23,3],[23,4,23,5],[23,6,23,8],[23,10,23,12],[23,13,23,17],[23,18,23,20],[23,21,23,23],[23,24,23,26],[23,27,23,29],[22,21,22,23],[22,24,22,26],[22,27,22,29],[22,30,22,32],[22,33,22,35],[22,36,22,38],[22,0,22,3],[22,4,22,5],[22,6,22,8],[22,10,22,12],[22,13,22,17],[22,18,22,20],[23,30,23,32],[23,33,23,35],[20,24,21,26],[20,27,21,29],[20,30,21,32],[20,33,21,35],[20,36,21,38],[20,39,21,41],[20,0,21,3],[20,4,21,5],[20,6,20,12],[20,13,21,17],[20,18,21,20],[20,21,21,23],[21,6,21,8],[21,10,21,12],[12,0,12,41],[8,26,8,29],[8,30,8,31],[8,32,8,35],[8,36,8,37],[8,38,8,41],[9,0,9,41],[16,0,17,3],[16,4,17,17],[16,18,19,41],[18,0,19,3],[18,4,19,10],[18,11,19,12],[18,13,19,13],[13,5,13,28],[14,0,14,3],[14,4,14,18],[14,19,14,25],[14,26,14,41],[15,0,15,41],[7,20,7,23],[7,24,7,25],[7,26,7,29],[7,30,7,31],[10,4,10,41],[11,0,11,3],[11,4,11,18],[11,19,11,25],[11,26,11,41],[5,0,5,4],[5,5,5,12],[7,0,8,5],[7,6,7,7],[7,8,7,11],[7,12,7,13],[0,0,0,2],[0,3,0,41],[1,0,1,41],[2,0,2,41],[3,0,3,41],[4,0,4,41],[7,32,7,35],[7,36,7,37],[7,38,7,41],[8,6,8,7],[8,8,8,11],[8,12,8,13],[8,14,8,17],[8,18,8,19],[8,20,8,23],[8,24,8,25],[7,14,7,17],[7,18,7,19]]}
["様式７"]
["令和５年度文化芸術による子供育成推進事業"]
[{"$f":"IF('申【様式１】（共通）'!E14=\"\",\"\",'申【様式１】（共通）'!E14)","v":""}]
["旅費計算書"]
[]
["都道府県・\n政令指定都市名",null,null,null,null,{"$f":"IF('申【様式１】（共通）'!E4=\"\",\"\",'申【様式１】（共通）'!E4)","v":""}]
[]
["実施日",null,null,null,null,null,"第1回",null,{"$f":"IF($A$3=\"芸術家の派遣事業\",'申【様式３・４】（派遣）'!E21,'申【様式５・６】（コミュ）'!E44)","v":"00:00:00"},null,null,null,"第2回",null,{"$f":"IF($A$3=\"芸術家の派遣事業\",'申【様式３・４】（派遣）'!E39,'申【様式５・６】（コミュ）'!E49)","v":"00:00:00"},null,null,null,"第3回",null,{"$f":"IF($A$3=\"芸術家の派遣事業\",'申【様式３・４】（派遣）'!E57,'申【様式５・６】（コミュ）'!E54)","v":"00:00:00"},null,null,null,{"$f":"IF($A$3=\"コミュニケーション能力向上事業\",\"第4回\",\"\")","v":""},null,{"$f":"IF($A$3=\"芸術家の派遣事業\",\"\",'申【様式５・６】（コミュ）'!E59)","v":"00:00:00"},null,null,null,{"$f":"IF($A$3=\"コミュニケーション能力向上事業\",\"第5回\",\"\")","v":""},null,{"$f":"IF($A$3=\"芸術家の派遣事業\",\"\",'申【様式５・６】（コミュ）'!E64)","v":"00:00:00"},null,null,null,{"$f":"IF($A$3=\"コミュニケーション能力向上事業\",\"第6回\",\"\")","v":""},null,{"$f":"IF($A$3=\"芸術家の派遣事業\",\"\",'申【様式５・６】（コミュ）'!E72)","v":"00:00:00"}]
[null,null,null,null,null,null,{"$f":"IF($A$3=\"コミュニケーション能力向上事業\",\"第7回\",\"\")","v":""},null,{"$f":"IF($A$3=\"芸術家の派遣事業\",\"\",'申【様式５・６】（コミュ）'!$E77)","v":"00:00:00"},null,null,null,{"$f":"IF($A$3=\"コミュニケーション能力向上事業\",\"第8回\",\"\")","v":""},null,{"$f":"IF($A$3=\"芸術家の派遣事業\",\"\",'申【様式５・６】（コミュ）'!$E82)","v":"00:00:00"},null,null,null,{"$f":"IF($A$3=\"コミュニケーション能力向上事業\",\"第9回\",\"\")","v":""},null,{"$f":"IF($A$3=\"芸術家の派遣事業\",\"\",'申【様式５・６】（コミュ）'!$E87)","v":"00:00:00"},null,null,null,{"$f":"IF($A$3=\"コミュニケーション能力向上事業\",\"第10回\",\"\")","v":""},null,{"$f":"IF($A$3=\"芸術家の派遣事業\",\"\",'申【様式５・６】（コミュ）'!$E92)","v":"00:00:00"},null,null,null,{"$f":"IF($A$3=\"コミュニケーション能力向上事業\",\"第11回\",\"\")","v":""},null,{"$f":"IF($A$3=\"芸術家の派遣事業\",\"\",'申【様式５・６】（コミュ）'!$E100)","v":"00:00:00"},null,null,null,{"$f":"IF($A$3=\"コミュニケーション能力向上事業\",\"第12回\",\"\")","v":""},null,{"$f":"IF($A$3=\"芸術家の派遣事業\",\"\",'申【様式５・６】（コミュ）'!$E105)","v":"00:00:00"}]
[]
["①派遣先"]
["学校名",null,null,null,{"$f":"IF('申【様式１】（共通）'!E8=\"\",\"\",'申【様式１】（共通）'!E8)","v":""},null,null,null,null,null,null,null,null,null,null,null,null,null,null,"最寄駅/バス停",null,null,null,null,null,null,{"$f":"IF('申【様式１】（共通）'!M12=\"\",\"\",'申【様式１】（共通）'!M12)","v":""}]
[]
["②被派遣者"]
["氏名",null,null,null,"　",null,null,null,null,null,null,null,null,null,null,null,null,null,null,"最寄駅/バス停"]
[]
["③旅費",null,null,null,{"$f":"\"↓（申請時）様式\"&IF(A3=\"芸術家の派遣事業\",4,6)&\"に転記してください\n　 （報告時）様式\"&IF(A3=\"芸術家の派遣事業\",10,12)&\"に転記してください\"","v":"↓（申請時）様式6に転記してください\n　 （報告時）様式12に転記してください"},null,null,null,null,null,null,null,null,null,null,null,null,null,"※本事業の旅費基準に従って計上してください。\n※乗り換え毎に行を分けて記入してください。\n※交通機関名欄は、プルダウンより選択してください。\n※距離を必ず記入してください。"]
[]
["旅費合計\n（a+b+c+d)",null,null,null,{"$f":"SUM(AB41:AM41)","v":0},null,null,null,null,null,null,"円"]
[]
["日付",null,null,null,"曜日",null,"移動区間",null,null,null,null,null,null,"※交通機関名",null,null,null,null,"※距離\n(㎞)",null,null,"運賃\n乗車券",null,null,"特急\n急行料金",null,null,"交通費\n小計",null,null,"車賃",null,null,"日当",null,null,"宿泊費",null,null,"宿泊地"]
[null,null,null,null,null,null,"発地",null,null,"→","着地"]
[null,null,null,null,{"$f":"IF(A23=\"\",\"\",A23)","v":""},null,null,null,null,"→",null,null,null,null,null,null,null,null,null,null,null,null,null,null,null,null,null,{"$f":"SUM(V23:AA23)","v":0}]
[null,null,null,null,"",null,null,null,null,"→",null,null,null,null,null,null,null,null,null,null,null,null,null,null,null,null,null,0]
[null,null,null,null,"",null,null,null,null,"→",null,null,null,null,null,null,null,null,null,null,null,null,null,null,null,null,null,0]
[null,null,null,null,"",null,null,null,null,"→",null,null,null,null,null,null,null,null,null,null,null,null,null,null,null,null,null,0]
[null,null,null,null,"",null,null,null,null,"→",null,null,null,null,null,null,null,null,null,null,null,null,null,null,null,null,null,0]
[null,null,null,null,"",null,null,null,null,"→",null,null,null,null,null,null,null,null,null,null,null,null,null,null,null,null,null,0]
[null,null,null,null,"",null,null,null,null,"→",null,null,null,null,null,null,null,null,null,null,null,null,null,null,null,null,null,0]
[null,null,null,null,"",null,null,null,null,"→",null,null,null,null,null,null,null,null,null,null,null,null,null,null,null,null,null,0]
[null,null,null,null,"",null,null,null,null,"→",null,null,null,null,null,null,null,null,null,null,null,null,null,null,null,null,null,0]
[null,null,null,null,"",null,null,null,null,"→",null,null,null,null,null,null,null,null,null,null,null,null,null,null,null,null,null,0]
[null,null,null,null,"",null,null,null,null,"→",null,null,null,null,null,null,null,null,null,null,null,null,null,null,null,null,null,0]
[null,null,null,null,{"$f":"IF(A34=\"\",\"\",A34)","v":""},null,null,null,null,"→",null,null,null,null,null,null,null,null,null,null,null,null,null,null,null,null,null,{"$f":"SUM(V34:AA34)","v":0}]
[null,null,null,null,{"$f":"IF(A35=\"\",\"\",A35)","v":""},null,null,null,null,"→",null,null,null,null,null,null,null,null,null,null,null,null,null,null,null,null,null,{"$f":"SUM(V35:AA35)","v":0}]
[null,null,null,null,{"$f":"IF(A36=\"\",\"\",A36)","v":""},null,null,null,null,"→",null,null,null,null,null,null,null,null,null,null,null,null,null,null,null,null,null,{"$f":"SUM(V36:AA36)","v":0}]
[null,null,null,null,{"$f":"IF(A37=\"\",\"\",A37)","v":""},null,null,null,null,"→",null,null,null,null,null,null,null,null,null,null,null,null,null,null,null,null,null,{"$f":"SUM(V37:AA37)","v":0}]
[null,null,null,null,{"$f":"IF(A38=\"\",\"\",A38)","v":""},null,null,null,null,"→",null,null,null,null,null,null,null,null,null,null,null,null,null,null,null,null,null,{"$f":"SUM(V38:AA38)","v":0}]
[null,null,null,null,"",null,null,null,null,"→",null,null,null,null,null,null,null,null,null,null,null,null,null,null,null,null,null,0]
["合　計",null,null,null,null,null,null,null,null,null,null,null,null,null,null,null,null,null,null,null,null,null,null,null,null,null,null,"a",null,null,"b",null,null,"c",null,null,"d"]
[null,null,null,null,null,null,null,null,null,null,null,null,null,null,null,null,null,null,null,null,null,null,null,null,null,null,null,{"$f":"SUM(AB23:AD39)","v":0},null,null,{"$f":"ROUNDDOWN((SUMIFS(S23:U39,N23:P39,\"自家用車\")),0)*37","v":0},null,null,{"$f":"SUM(AH23:AJ39)","v":0},null,null,{"$f":"SUM(AK23:AM39)","v":0}]
[]
["(備　考)",null,null,null,null,"※出発地が現住所と異なる場合は出発地（駅名/バス停名）及びその理由を記入してください"]
[]
[]
["※本事業で得た個人情報は、本事業内のみで使用します。"]
["※本事業の専用ウェブページにあるに同意していただいたものとします。"]

{"sheet":"申報【様式７】⑦（共通）","index":17,"n_rows":47,"n_cols":40,"rows_kept":47,"cut":false,"hidden":true,"merged":[[40,36,40,38],[41,0,41,41],[42,0,42,3],[43,0,44,41],[38,39,38,41],[39,0,40,26],[39,27,39,29],[39,30,39,32],[39,33,39,35],[39,36,39,38],[39,39,40,41],[40,27,40,29],[40,30,40,32],[40,33,40,35],[38,21,38,23],[38,24,38,26],[38,27,38,29],[38,30,38,32],[38,33,38,35],[38,36,38,38],[37,30,37,32],[37,33,37,35],[37,36,37,38],[37,39,37,41],[38,0,38,3],[38,4,38,5],[38,6,38,8],[38,10,38,12],[38,13,38,17],[38,18,38,20],[37,0,37,3],[37,4,37,5],[37,6,37,8],[37,10,37,12],[37,13,37,17],[37,18,37,20],[37,21,37,23],[37,24,37,26],[37,27,37,29],[35,30,35,32],[35,33,35,35],[35,36,35,38],[35,39,35,41],[36,0,36,3],[36,4,36,5],[36,6,36,8],[36,10,36,12],[36,13,36,17],[36,18,36,20],[36,39,36,41],[36,21,36,23],[36,24,36,26],[36,27,36,29],[36,30,36,32],[36,33,36,35],[36,36,36,38],[35,0,35,3],[35,4,35,5],[35,6,35,8],[35,10,35,12],[35,13,35,17],[35,18,35,20],[35,21,35,23],[35,24,35,26],[35,27,35,29],[33,30,33,32],[33,33,33,35],[33,36,33,38],[33,39,33,41],[34,0,34,3],[34,4,34,5],[34,6,34,8],[34,10,34,12],[34,13,34,17],[34,18,34,20],[34,39,34,41],[34,21,34,23],[34,24,34,26],[34,27,34,29],[34,30,34,32],[34,33,34,35],[34,36,34,38],[33,0,33,3],[33,4,33,5],[33,6,33,8],[33,10,33,12],[33,13,33,17],[33,18,33,20],[33,21,33,23],[33,24,33,26],[33,27,33,29],[31,30,31,32],[31,33,31,35],[31,36,31,38],[31,39,31,41],[32,0,32,3],[32,4,32,5],[32,6,32,8],[32,10,32,12],[32,13,32,17],[32,18,32,20],[32,39,32,41],[32,21,32,23],[32,24,32,26],[32,27,32,29],[32,30,32,32],[32,33,32,35],[32,36,32,38],[31,0,31,3],[31,4,31,5],[31,6,31,8],[31,10,31,12],[31,13,31,17],[31,18,31,20],[31,21,31,23],[31,24,31,26],[31,27,31,29],[29,30,29,32],[29,33,29,35],[29,36,29,38],[29,39,29,41],[30,0,30,3],[30,4,30,5],[30,6,30,8],[30,10,30,12],[30,13,30,17],[30,18,30,20],[30,39,30,41],[30,21,30,23],[30,24,30,26],[30,27,30,29],[30,30,30,32],[30,33,30,35],[30,36,30,38],[29,0,29,3],[29,4,29,5],[29,6,29,8],[29,10,29,12],[29,13,29,17],[29,18,29,20],[29,21,29,23],[29,24,29,26],[29,27,29,29],[27,30,27,32],[27,33,27,35],[27,36,27,38],[27,39,27,41],[28,0,28,3],[28,4,28,5],[28,6,28,8],[28,10,28,12],[28,13,28,17],[28,18,28,20],[28,39,28,41],[28,21,28,23],[28,24,28,26],[28,27,28,29],[28,30,28,32],[28,33,28,35],[28,36,28,38],[27,0,27,3],[27,4,27,5],[27,6,27,8],[27,10,27,12],[27,13,27,17],[27,18,27,20],[27,21,27,23],[27,24,27,26],[27,27,27,29],[25,30,25,32],[25,33,25,35],[25,36,25,38],[25,39,25,41],[26,0,26,3],[26,4,26,5],[26,6,26,8],[26,10,26,12],[26,13,26,17],[26,18,26,20],[26,39,26,41],[26,21,26,23],[26,24,26,26],[26,27,26,29],[26,30,26,32],[26,33,26,35],[26,36,26,38],[25,0,25,3],[25,4,25,5],[25,6,25,8],[25,10,25,12],[25,13,25,17],[25,18,25,20],[25,21,25,23],[25,24,25,26],[25,27,25,29],[23,36,23,38],[23,39,23,41],[24,0,24,3],[24,4,24,5],[24,6,24,8],[24,10,24,12],[24,13,24,17],[24,18,24,20],[24,39,24,41],[24,21,24,23],[24,24,24,26],[24,27,24,29],[24,30,24,32],[24,33,24,35],[24,36,24,38],[22,39,22,41],[23,0,23,3],[23,4,23,5],[23,6,23,8],[23,10,23,12],[23,13,23,17],[23,18,23,20],[23,21,23,23],[23,24,23,26],[23,27,23,29],[22,21,22,23],[22,24,22,26],[22,27,22,29],[22,30,22,32],[22,33,22,35],[22,36,22,38],[22,0,22,3],[22,4,22,5],[22,6,22,8],[22,10,22,12],[22,13,22,17],[22,18,22,20],[23,30,23,32],[23,33,23,35],[20,24,21,26],[20,27,21,29],[20,30,21,32],[20,33,21,35],[20,36,21,38],[20,39,21,41],[20,0,21,3],[20,4,21,5],[20,6,20,12],[20,13,21,17],[20,18,21,20],[20,21,21,23],[21,6,21,8],[21,10,21,12],[12,0,12,41],[8,26,8,29],[8,30,8,31],[8,32,8,35],[8,36,8,37],[8,38,8,41],[9,0,9,41],[16,0,17,3],[16,4,17,17],[16,18,19,41],[18,0,19,3],[18,4,19,10],[18,11,19,12],[18,13,19,13],[13,5,13,28],[14,0,14,3],[14,4,14,18],[14,19,14,25],[14,26,14,41],[15,0,15,41],[7,20,7,23],[7,24,7,25],[7,26,7,29],[7,30,7,31],[10,4,10,41],[11,0,11,3],[11,4,11,18],[11,19,11,25],[11,26,11,41],[5,0,5,4],[5,5,5,12],[7,0,8,5],[7,6,7,7],[7,8,7,11],[7,12,7,13],[0,0,0,2],[0,3,0,41],[1,0,1,41],[2,0,2,41],[3,0,3,41],[4,0,4,41],[7,32,7,35],[7,36,7,37],[7,38,7,41],[8,6,8,7],[8,8,8,11],[8,12,8,13],[8,14,8,17],[8,18,8,19],[8,20,8,23],[8,24,8,25],[7,14,7,17],[7,18,7,19]]}
["様式７"]
["令和５年度文化芸術による子供育成推進事業"]
[{"$f":"IF('申【様式１】（共通）'!E14=\"\",\"\",'申【様式１】（共通）'!E14)","v":""}]
["旅費計算書"]
[]
["都道府県・\n政令指定都市名",null,null,null,null,{"$f":"IF('申【様式１】（共通）'!E4=\"\",\"\",'申【様式１】（共通）'!E4)","v":""}]
[]
["実施日",null,null,null,null,null,"第1回",null,{"$f":"IF($A$3=\"芸術家の派遣事業\",'申【様式３・４】（派遣）'!E21,'申【様式５・６】（コミュ）'!E44)","v":"00:00:00"},null,null,null,"第2回",null,{"$f":"IF($A$3=\"芸術家の派遣事業\",'申【様式３・４】（派遣）'!E39,'申【様式５・６】（コミュ）'!E49)","v":"00:00:00"},null,null,null,"第3回",null,{"$f":"IF($A$3=\"芸術家の派遣事業\",'申【様式３・４】（派遣）'!E57,'申【様式５・６】（コミュ）'!E54)","v":"00:00:00"},null,null,null,{"$f":"IF($A$3=\"コミュニケーション能力向上事業\",\"第4回\",\"\")","v":""},null,{"$f":"IF($A$3=\"芸術家の派遣事業\",\"\",'申【様式５・６】（コミュ）'!E59)","v":"00:00:00"},null,null,null,{"$f":"IF($A$3=\"コミュニケーション能力向上事業\",\"第5回\",\"\")","v":""},null,{"$f":"IF($A$3=\"芸術家の派遣事業\",\"\",'申【様式５・６】（コミュ）'!E64)","v":"00:00:00"},null,null,null,{"$f":"IF($A$3=\"コミュニケーション能力向上事業\",\"第6回\",\"\")","v":""},null,{"$f":"IF($A$3=\"芸術家の派遣事業\",\"\",'申【様式５・６】（コミュ）'!E72)","v":"00:00:00"}]
[null,null,null,null,null,null,{"$f":"IF($A$3=\"コミュニケーション能力向上事業\",\"第7回\",\"\")","v":""},null,{"$f":"IF($A$3=\"芸術家の派遣事業\",\"\",'申【様式５・６】（コミュ）'!$E77)","v":"00:00:00"},null,null,null,{"$f":"IF($A$3=\"コミュニケーション能力向上事業\",\"第8回\",\"\")","v":""},null,{"$f":"IF($A$3=\"芸術家の派遣事業\",\"\",'申【様式５・６】（コミュ）'!$E82)","v":"00:00:00"},null,null,null,{"$f":"IF($A$3=\"コミュニケーション能力向上事業\",\"第9回\",\"\")","v":""},null,{"$f":"IF($A$3=\"芸術家の派遣事業\",\"\",'申【様式５・６】（コミュ）'!$E87)","v":"00:00:00"},null,null,null,{"$f":"IF($A$3=\"コミュニケーション能力向上事業\",\"第10回\",\"\")","v":""},null,{"$f":"IF($A$3=\"芸術家の派遣事業\",\"\",'申【様式５・６】（コミュ）'!$E92)","v":"00:00:00"},null,null,null,{"$f":"IF($A$3=\"コミュニケーション能力向上事業\",\"第11回\",\"\")","v":""},null,{"$f":"IF($A$3=\"芸術家の派遣事業\",\"\",'申【様式５・６】（コミュ）'!$E100)","v":"00:00:00"},null,null,null,{"$f":"IF($A$3=\"コミュニケーション能力向上事業\",\"第12回\",\"\")","v":""},null,{"$f":"IF($A$3=\"芸術家の派遣事業\",\"\",'申【様式５・６】（コミュ）'!$E105)","v":"00:00:00"}]
[]
["①派遣先"]
["学校名",null,null,null,{"$f":"IF('申【様式１】（共通）'!E8=\"\",\"\",'申【様式１】（共通）'!E8)","v":""},null,null,null,null,null,null,null,null,null,null,null,null,null,null,"最寄駅/バス停",null,null,null,null,null,null,{"$f":"IF('申【様式１】（共通）'!M12=\"\",\"\",'申【様式１】（共通）'!M12)","v":""}]
[]
["②被派遣者"]
["氏名",null,null,null,"　",null,null,null,null,null,null,null,null,null,null,null,null,null,null,"最寄駅/バス停"]
[]
["③旅費",null,null,null,{"$f":"\"↓（申請時）様式\"&IF(A3=\"芸術家の派遣事業\",4,6)&\"に転記してください\n　 （報告時）様式\"&IF(A3=\"芸術家の派遣事業\",10,12)&\"に転記してください\"","v":"↓（申請時）様式6に転記してください\n　 （報告時）様式12に転記してください"},null,null,null,null,null,null,null,null,null,null,null,null,null,"※本事業の旅費基準に従って計上してください。\n※乗り換え毎に行を分けて記入してください。\n※交通機関名欄は、プルダウンより選択してください。\n※距離を必ず記入してください。"]
[]
["旅費合計\n（a+b+c+d)",null,null,null,{"$f":"SUM(AB41:AM41)","v":0},null,null,null,null,null,null,"円"]
[]
["日付",null,null,null,"曜日",null,"移動区間",null,null,null,null,null,null,"※交通機関名",null,null,null,null,"※距離\n(㎞)",null,null,"運賃\n乗車券",null,null,"特急\n急行料金",null,null,"交通費\n小計",null,null,"車賃",null,null,"日当",null,null,"宿泊費",null,null,"宿泊地"]
[null,null,null,null,null,null,"発地",null,null,"→","着地"]
[null,null,null,null,{"$f":"IF(A23=\"\",\"\",A23)","v":""},null,null,null,null,"→",null,null,null,null,null,null,null,null,null,null,null,null,null,null,null,null,null,{"$f":"SUM(V23:AA23)","v":0}]
[null,null,null,null,"",null,null,null,null,"→",null,null,null,null,null,null,null,null,null,null,null,null,null,null,null,null,null,0]
[null,null,null,null,"",null,null,null,null,"→",null,null,null,null,null,null,null,null,null,null,null,null,null,null,null,null,null,0]
[null,null,null,null,"",null,null,null,null,"→",null,null,null,null,null,null,null,null,null,null,null,null,null,null,null,null,null,0]
[null,null,null,null,"",null,null,null,null,"→",null,null,null,null,null,null,null,null,null,null,null,null,null,null,null,null,null,0]
[null,null,null,null,"",null,null,null,null,"→",null,null,null,null,null,null,null,null,null,null,null,null,null,null,null,null,null,0]
[null,null,null,null,"",null,null,null,null,"→",null,null,null,null,null,null,null,null,null,null,null,null,null,null,null,null,null,0]
[null,null,null,null,"",null,null,null,null,"→",null,null,null,null,null,null,null,null,null,null,null,null,null,null,null,null,null,0]
[null,null,null,null,"",null,null,null,null,"→",null,null,null,null,null,null,null,null,null,null,null,null,null,null,null,null,null,0]
[null,null,null,null,"",null,null,null,null,"→",null,null,null,null,null,null,null,null,null,null,null,null,null,null,null,null,null,0]
[null,null,null,null,"",null,null,null,null,"→",null,null,null,null,null,null,null,null,null,null,null,null,null,null,null,null,null,0]
[null,null,null,null,{"$f":"IF(A34=\"\",\"\",A34)","v":""},null,null,null,null,"→",null,null,null,null,null,null,null,null,null,null,null,null,null,null,null,null,null,{"$f":"SUM(V34:AA34)","v":0}]
[null,null,null,null,{"$f":"IF(A35=\"\",\"\",A35)","v":""},null,null,null,null,"→",null,null,null,null,null,null,null,null,null,null,null,null,null,null,null,null,null,{"$f":"SUM(V35:AA35)","v":0}]
[null,null,null,null,{"$f":"IF(A36=\"\",\"\",A36)","v":""},null,null,null,null,"→",null,null,null,null,null,null,null,null,null,null,null,null,null,null,null,null,null,{"$f":"SUM(V36:AA36)","v":0}]
[null,null,null,null,{"$f":"IF(A37=\"\",\"\",A37)","v":""},null,null,null,null,"→",null,null,null,null,null,null,null,null,null,null,null,null,null,null,null,null,null,{"$f":"SUM(V37:AA37)","v":0}]
[null,null,null,null,{"$f":"IF(A38=\"\",\"\",A38)","v":""},null,null,null,null,"→",null,null,null,null,null,null,null,null,null,null,null,null,null,null,null,null,null,{"$f":"SUM(V38:AA38)","v":0}]
[null,null,null,null,"",null,null,null,null,"→",null,null,null,null,null,null,null,null,null,null,null,null,null,null,null,null,null,0]
["合　計",null,null,null,null,null,null,null,null,null,null,null,null,null,null,null,null,null,null,null,null,null,null,null,null,null,null,"a",null,null,"b",null,null,"c",null,null,"d"]
[null,null,null,null,null,null,null,null,null,null,null,null,null,null,null,null,null,null,null,null,null,null,null,null,null,null,null,{"$f":"SUM(AB23:AD39)","v":0},null,null,{"$f":"ROUNDDOWN((SUMIFS(S23:U39,N23:P39,\"自家用車\")),0)*37","v":0},null,null,{"$f":"SUM(AH23:AJ39)","v":0},null,null,{"$f":"SUM(AK23:AM39)","v":0}]
[]
["(備　考)",null,null,null,null,"※出発地が現住所と異なる場合は出発地（駅名/バス停名）及びその理由を記入してください"]
[]
[]
["※本事業で得た個人情報は、本事業内のみで使用します。"]
["※本事業の専用ウェブページにあるに同意していただいたものとします。"]

{"sheet":"申報【様式７】⑧（共通）","index":18,"n_rows":47,"n_cols":40,"rows_kept":47,"cut":false,"hidden":true,"merged":[[40,36,40,38],[41,0,41,41],[42,0,42,3],[43,0,44,41],[38,39,38,41],[39,0,40,26],[39,27,39,29],[39,30,39,32],[39,33,39,35],[39,36,39,38],[39,39,40,41],[40,27,40,29],[40,30,40,32],[40,33,40,35],[38,21,38,23],[38,24,38,26],[38,27,38,29],[38,30,38,32],[38,33,38,35],[38,36,38,38],[37,30,37,32],[37,33,37,35],[37,36,37,38],[37,39,37,41],[38,0,38,3],[38,4,38,5],[38,6,38,8],[38,10,38,12],[38,13,38,17],[38,18,38,20],[37,0,37,3],[37,4,37,5],[37,6,37,8],[37,10,37,12],[37,13,37,17],[37,18,37,20],[37,21,37,23],[37,24,37,26],[37,27,37,29],[35,30,35,32],[35,33,35,35],[35,36,35,38],[35,39,35,41],[36,0,36,3],[36,4,36,5],[36,6,36,8],[36,10,36,12],[36,13,36,17],[36,18,36,20],[36,39,36,41],[36,21,36,23],[36,24,36,26],[36,27,36,29],[36,30,36,32],[36,33,36,35],[36,36,36,38],[35,0,35,3],[35,4,35,5],[35,6,35,8],[35,10,35,12],[35,13,35,17],[35,18,35,20],[35,21,35,23],[35,24,35,26],[35,27,35,29],[33,30,33,32],[33,33,33,35],[33,36,33,38],[33,39,33,41],[34,0,34,3],[34,4,34,5],[34,6,34,8],[34,10,34,12],[34,13,34,17],[34,18,34,20],[34,39,34,41],[34,21,34,23],[34,24,34,26],[34,27,34,29],[34,30,34,32],[34,33,34,35],[34,36,34,38],[33,0,33,3],[33,4,33,5],[33,6,33,8],[33,10,33,12],[33,13,33,17],[33,18,33,20],[33,21,33,23],[33,24,33,26],[33,27,33,29],[31,30,31,32],[31,33,31,35],[31,36,31,38],[31,39,31,41],[32,0,32,3],[32,4,32,5],[32,6,32,8],[32,10,32,12],[32,13,32,17],[32,18,32,20],[32,39,32,41],[32,21,32,23],[32,24,32,26],[32,27,32,29],[32,30,32,32],[32,33,32,35],[32,36,32,38],[31,0,31,3],[31,4,31,5],[31,6,31,8],[31,10,31,12],[31,13,31,17],[31,18,31,20],[31,21,31,23],[31,24,31,26],[31,27,31,29],[29,30,29,32],[29,33,29,35],[29,36,29,38],[29,39,29,41],[30,0,30,3],[30,4,30,5],[30,6,30,8],[30,10,30,12],[30,13,30,17],[30,18,30,20],[30,39,30,41],[30,21,30,23],[30,24,30,26],[30,27,30,29],[30,30,30,32],[30,33,30,35],[30,36,30,38],[29,0,29,3],[29,4,29,5],[29,6,29,8],[29,10,29,12],[29,13,29,17],[29,18,29,20],[29,21,29,23],[29,24,29,26],[29,27,29,29],[27,30,27,32],[27,33,27,35],[27,36,27,38],[27,39,27,41],[28,0,28,3],[28,4,28,5],[28,6,28,8],[28,10,28,12],[28,13,28,17],[28,18,28,20],[28,39,28,41],[28,21,28,23],[28,24,28,26],[28,27,28,29],[28,30,28,32],[28,33,28,35],[28,36,28,38],[27,0,27,3],[27,4,27,5],[27,6,27,8],[27,10,27,12],[27,13,27,17],[27,18,27,20],[27,21,27,23],[27,24,27,26],[27,27,27,29],[25,30,25,32],[25,33,25,35],[25,36,25,38],[25,39,25,41],[26,0,26,3],[26,4,26,5],[26,6,26,8],[26,10,26,12],[26,13,26,17],[26,18,26,20],[26,39,26,41],[26,21,26,23],[26,24,26,26],[26,27,26,29],[26,30,26,32],[26,33,26,35],[26,36,26,38],[25,0,25,3],[25,4,25,5],[25,6,25,8],[25,10,25,12],[25,13,25,17],[25,18,25,20],[25,21,25,23],[25,24,25,26],[25,27,25,29],[23,36,23,38],[23,39,23,41],[24,0,24,3],[24,4,24,5],[24,6,24,8],[24,10,24,12],[24,13,24,17],[24,18,24,20],[24,39,24,41],[24,21,24,23],[24,24,24,26],[24,27,24,29],[24,30,24,32],[24,33,24,35],[24,36,24,38],[22,39,22,41],[23,0,23,3],[23,4,23,5],[23,6,23,8],[23,10,23,12],[23,13,23,17],[23,18,23,20],[23,21,23,23],[23,24,23,26],[23,27,23,29],[22,21,22,23],[22,24,22,26],[22,27,22,29],[22,30,22,32],[22,33,22,35],[22,36,22,38],[22,0,22,3],[22,4,22,5],[22,6,22,8],[22,10,22,12],[22,13,22,17],[22,18,22,20],[23,30,23,32],[23,33,23,35],[20,24,21,26],[20,27,21,29],[20,30,21,32],[20,33,21,35],[20,36,21,38],[20,39,21,41],[20,0,21,3],[20,4,21,5],[20,6,20,12],[20,13,21,17],[20,18,21,20],[20,21,21,23],[21,6,21,8],[21,10,21,12],[12,0,12,41],[8,26,8,29],[8,30,8,31],[8,32,8,35],[8,36,8,37],[8,38,8,41],[9,0,9,41],[16,0,17,3],[16,4,17,17],[16,18,19,41],[18,0,19,3],[18,4,19,10],[18,11,19,12],[18,13,19,13],[13,5,13,28],[14,0,14,3],[14,4,14,18],[14,19,14,25],[14,26,14,41],[15,0,15,41],[7,20,7,23],[7,24,7,25],[7,26,7,29],[7,30,7,31],[10,4,10,41],[11,0,11,3],[11,4,11,18],[11,19,11,25],[11,26,11,41],[5,0,5,4],[5,5,5,12],[7,0,8,5],[7,6,7,7],[7,8,7,11],[7,12,7,13],[0,0,0,2],[0,3,0,41],[1,0,1,41],[2,0,2,41],[3,0,3,41],[4,0,4,41],[7,32,7,35],[7,36,7,37],[7,38,7,41],[8,6,8,7],[8,8,8,11],[8,12,8,13],[8,14,8,17],[8,18,8,19],[8,20,8,23],[8,24,8,25],[7,14,7,17],[7,18,7,19]]}
["様式７"]
["令和５年度文化芸術による子供育成推進事業"]
[{"$f":"IF('申【様式１】（共通）'!E14=\"\",\"\",'申【様式１】（共通）'!E14)","v":""}]
["旅費計算書"]
[]
["都道府県・\n政令指定都市名",null,null,null,null,{"$f":"IF('申【様式１】（共通）'!E4=\"\",\"\",'申【様式１】（共通）'!E4)","v":""}]
[]
["実施日",null,null,null,null,null,"第1回",null,{"$f":"IF($A$3=\"芸術家の派遣事業\",'申【様式３・４】（派遣）'!E21,'申【様式５・６】（コミュ）'!E44)","v":"00:00:00"},null,null,null,"第2回",null,{"$f":"IF($A$3=\"芸術家の派遣事業\",'申【様式３・４】（派遣）'!E39,'申【様式５・６】（コミュ）'!E49)","v":"00:00:00"},null,null,null,"第3回",null,{"$f":"IF($A$3=\"芸術家の派遣事業\",'申【様式３・４】（派遣）'!E57,'申【様式５・６】（コミュ）'!E54)","v":"00:00:00"},null,null,null,{"$f":"IF($A$3=\"コミュニケーション能力向上事業\",\"第4回\",\"\")","v":""},null,{"$f":"IF($A$3=\"芸術家の派遣事業\",\"\",'申【様式５・６】（コミュ）'!E59)","v":"00:00:00"},null,null,null,{"$f":"IF($A$3=\"コミュニケーション能力向上事業\",\"第5回\",\"\")","v":""},null,{"$f":"IF($A$3=\"芸術家の派遣事業\",\"\",'申【様式５・６】（コミュ）'!E64)","v":"00:00:00"},null,null,null,{"$f":"IF($A$3=\"コミュニケーション能力向上事業\",\"第6回\",\"\")","v":""},null,{"$f":"IF($A$3=\"芸術家の派遣事業\",\"\",'申【様式５・６】（コミュ）'!E72)","v":"00:00:00"}]
[null,null,null,null,null,null,{"$f":"IF($A$3=\"コミュニケーション能力向上事業\",\"第7回\",\"\")","v":""},null,{"$f":"IF($A$3=\"芸術家の派遣事業\",\"\",'申【様式５・６】（コミュ）'!$E77)","v":"00:00:00"},null,null,null,{"$f":"IF($A$3=\"コミュニケーション能力向上事業\",\"第8回\",\"\")","v":""},null,{"$f":"IF($A$3=\"芸術家の派遣事業\",\"\",'申【様式５・６】（コミュ）'!$E82)","v":"00:00:00"},null,null,null,{"$f":"IF($A$3=\"コミュニケーション能力向上事業\",\"第9回\",\"\")","v":""},null,{"$f":"IF($A$3=\"芸術家の派遣事業\",\"\",'申【様式５・６】（コミュ）'!$E87)","v":"00:00:00"},null,null,null,{"$f":"IF($A$3=\"コミュニケーション能力向上事業\",\"第10回\",\"\")","v":""},null,{"$f":"IF($A$3=\"芸術家の派遣事業\",\"\",'申【様式５・６】（コミュ）'!$E92)","v":"00:00:00"},null,null,null,{"$f":"IF($A$3=\"コミュニケーション能力向上事業\",\"第11回\",\"\")","v":""},null,{"$f":"IF($A$3=\"芸術家の派遣事業\",\"\",'申【様式５・６】（コミュ）'!$E100)","v":"00:00:00"},null,null,null,{"$f":"IF($A$3=\"コミュニケーション能力向上事業\",\"第12回\",\"\")","v":""},null,{"$f":"IF($A$3=\"芸術家の派遣事業\",\"\",'申【様式５・６】（コミュ）'!$E105)","v":"00:00:00"}]
[]
["①派遣先"]
["学校名",null,null,null,{"$f":"IF('申【様式１】（共通）'!E8=\"\",\"\",'申【様式１】（共通）'!E8)","v":""},null,null,null,null,null,null,null,null,null,null,null,null,null,null,"最寄駅/バス停",null,null,null,null,null,null,{"$f":"IF('申【様式１】（共通）'!M12=\"\",\"\",'申【様式１】（共通）'!M12)","v":""}]
[]
["②被派遣者"]
["氏名",null,null,null,"　",null,null,null,null,null,null,null,null,null,null,null,null,null,null,"最寄駅/バス停"]
[]
["③旅費",null,null,null,{"$f":"\"↓（申請時）様式\"&IF(A3=\"芸術家の派遣事業\",4,6)&\"に転記してください\n　 （報告時）様式\"&IF(A3=\"芸術家の派遣事業\",10,12)&\"に転記してください\"","v":"↓（申請時）様式6に転記してください\n　 （報告時）様式12に転記してください"},null,null,null,null,null,null,null,null,null,null,null,null,null,"※本事業の旅費基準に従って計上してください。\n※乗り換え毎に行を分けて記入してください。\n※交通機関名欄は、プルダウンより選択してください。\n※距離を必ず記入してください。"]
[]
["旅費合計\n（a+b+c+d)",null,null,null,{"$f":"SUM(AB41:AM41)","v":0},null,null,null,null,null,null,"円"]
[]
["日付",null,null,null,"曜日",null,"移動区間",null,null,null,null,null,null,"※交通機関名",null,null,null,null,"※距離\n(㎞)",null,null,"運賃\n乗車券",null,null,"特急\n急行料金",null,null,"交通費\n小計",null,null,"車賃",null,null,"日当",null,null,"宿泊費",null,null,"宿泊地"]
[null,null,null,null,null,null,"発地",null,null,"→","着地"]
[null,null,null,null,{"$f":"IF(A23=\"\",\"\",A23)","v":""},null,null,null,null,"→",null,null,null,null,null,null,null,null,null,null,null,null,null,null,null,null,null,{"$f":"SUM(V23:AA23)","v":0}]
[null,null,null,null,"",null,null,null,null,"→",null,null,null,null,null,null,null,null,null,null,null,null,null,null,null,null,null,0]
[null,null,null,null,"",null,null,null,null,"→",null,null,null,null,null,null,null,null,null,null,null,null,null,null,null,null,null,0]
[null,null,null,null,"",null,null,null,null,"→",null,null,null,null,null,null,null,null,null,null,null,null,null,null,null,null,null,0]
[null,null,null,null,"",null,null,null,null,"→",null,null,null,null,null,null,null,null,null,null,null,null,null,null,null,null,null,0]
[null,null,null,null,"",null,null,null,null,"→",null,null,null,null,null,null,null,null,null,null,null,null,null,null,null,null,null,0]
[null,null,null,null,"",null,null,null,null,"→",null,null,null,null,null,null,null,null,null,null,null,null,null,null,null,null,null,0]
[null,null,null,null,"",null,null,null,null,"→",null,null,null,null,null,null,null,null,null,null,null,null,null,null,null,null,null,0]
[null,null,null,null,"",null,null,null,null,"→",null,null,null,null,null,null,null,null,null,null,null,null,null,null,null,null,null,0]
[null,null,null,null,"",null,null,null,null,"→",null,null,null,null,null,null,null,null,null,null,null,null,null,null,null,null,null,0]
[null,null,null,null,"",null,null,null,null,"→",null,null,null,null,null,null,null,null,null,null,null,null,null,null,null,null,null,0]
[null,null,null,null,{"$f":"IF(A34=\"\",\"\",A34)","v":""},null,null,null,null,"→",null,null,null,null,null,null,null,null,null,null,null,null,null,null,null,null,null,{"$f":"SUM(V34:AA34)","v":0}]
[null,null,null,null,{"$f":"IF(A35=\"\",\"\",A35)","v":""},null,null,null,null,"→",null,null,null,null,null,null,null,null,null,null,null,null,null,null,null,null,null,{"$f":"SUM(V35:AA35)","v":0}]
[null,null,null,null,{"$f":"IF(A36=\"\",\"\",A36)","v":""},null,null,null,null,"→",null,null,null,null,null,null,null,null,null,null,null,null,null,null,null,null,null,{"$f":"SUM(V36:AA36)","v":0}]
[null,null,null,null,{"$f":"IF(A37=\"\",\"\",A37)","v":""},null,null,null,null,"→",null,null,null,null,null,null,null,null,null,null,null,null,null,null,null,null,null,{"$f":"SUM(V37:AA37)","v":0}]
[null,null,null,null,{"$f":"IF(A38=\"\",\"\",A38)","v":""},null,null,null,null,"→",null,null,null,null,null,null,null,null,null,null,null,null,null,null,null,null,null,{"$f":"SUM(V38:AA38)","v":0}]
[null,null,null,null,"",null,null,null,null,"→",null,null,null,null,null,null,null,null,null,null,null,null,null,null,null,null,null,0]
["合　計",null,null,null,null,null,null,null,null,null,null,null,null,null,null,null,null,null,null,null,null,null,null,null,null,null,null,"a",null,null,"b",null,null,"c",null,null,"d"]
[null,null,null,null,null,null,null,null,null,null,null,null,null,null,null,null,null,null,null,null,null,null,null,null,null,null,null,{"$f":"SUM(AB23:AD39)","v":0},null,null,{"$f":"ROUNDDOWN((SUMIFS(S23:U39,N23:P39,\"自家用車\")),0)*37","v":0},null,null,{"$f":"SUM(AH23:AJ39)","v":0},null,null,{"$f":"SUM(AK23:AM39)","v":0}]
[]
["(備　考)",null,null,null,null,"※出発地が現住所と異なる場合は出発地（駅名/バス停名）及びその理由を記入してください"]
[]
[]
["※本事業で得た個人情報は、本事業内のみで使用します。"]
["※本事業の専用ウェブページにあるに同意していただいたものとします。"]

{"sheet":"申報【様式７】⑨（共通）","index":19,"n_rows":47,"n_cols":40,"rows_kept":47,"cut":false,"hidden":true,"merged":[[40,36,40,38],[41,0,41,41],[42,0,42,3],[43,0,44,41],[38,39,38,41],[39,0,40,26],[39,27,39,29],[39,30,39,32],[39,33,39,35],[39,36,39,38],[39,39,40,41],[40,27,40,29],[40,30,40,32],[40,33,40,35],[38,21,38,23],[38,24,38,26],[38,27,38,29],[38,30,38,32],[38,33,38,35],[38,36,38,38],[37,30,37,32],[37,33,37,35],[37,36,37,38],[37,39,37,41],[38,0,38,3],[38,4,38,5],[38,6,38,8],[38,10,38,12],[38,13,38,17],[38,18,38,20],[37,0,37,3],[37,4,37,5],[37,6,37,8],[37,10,37,12],[37,13,37,17],[37,18,37,20],[37,21,37,23],[37,24,37,26],[37,27,37,29],[35,30,35,32],[35,33,35,35],[35,36,35,38],[35,39,35,41],[36,0,36,3],[36,4,36,5],[36,6,36,8],[36,10,36,12],[36,13,36,17],[36,18,36,20],[36,39,36,41],[36,21,36,23],[36,24,36,26],[36,27,36,29],[36,30,36,32],[36,33,36,35],[36,36,36,38],[35,0,35,3],[35,4,35,5],[35,6,35,8],[35,10,35,12],[35,13,35,17],[35,18,35,20],[35,21,35,23],[35,24,35,26],[35,27,35,29],[33,30,33,32],[33,33,33,35],[33,36,33,38],[33,39,33,41],[34,0,34,3],[34,4,34,5],[34,6,34,8],[34,10,34,12],[34,13,34,17],[34,18,34,20],[34,39,34,41],[34,21,34,23],[34,24,34,26],[34,27,34,29],[34,30,34,32],[34,33,34,35],[34,36,34,38],[33,0,33,3],[33,4,33,5],[33,6,33,8],[33,10,33,12],[33,13,33,17],[33,18,33,20],[33,21,33,23],[33,24,33,26],[33,27,33,29],[31,30,31,32],[31,33,31,35],[31,36,31,38],[31,39,31,41],[32,0,32,3],[32,4,32,5],[32,6,32,8],[32,10,32,12],[32,13,32,17],[32,18,32,20],[32,39,32,41],[32,21,32,23],[32,24,32,26],[32,27,32,29],[32,30,32,32],[32,33,32,35],[32,36,32,38],[31,0,31,3],[31,4,31,5],[31,6,31,8],[31,10,31,12],[31,13,31,17],[31,18,31,20],[31,21,31,23],[31,24,31,26],[31,27,31,29],[29,30,29,32],[29,33,29,35],[29,36,29,38],[29,39,29,41],[30,0,30,3],[30,4,30,5],[30,6,30,8],[30,10,30,12],[30,13,30,17],[30,18,30,20],[30,39,30,41],[30,21,30,23],[30,24,30,26],[30,27,30,29],[30,30,30,32],[30,33,30,35],[30,36,30,38],[29,0,29,3],[29,4,29,5],[29,6,29,8],[29,10,29,12],[29,13,29,17],[29,18,29,20],[29,21,29,23],[29,24,29,26],[29,27,29,29],[27,30,27,32],[27,33,27,35],[27,36,27,38],[27,39,27,41],[28,0,28,3],[28,4,28,5],[28,6,28,8],[28,10,28,12],[28,13,28,17],[28,18,28,20],[28,39,28,41],[28,21,28,23],[28,24,28,26],[28,27,28,29],[28,30,28,32],[28,33,28,35],[28,36,28,38],[27,0,27,3],[27,4,27,5],[27,6,27,8],[27,10,27,12],[27,13,27,17],[27,18,27,20],[27,21,27,23],[27,24,27,26],[27,27,27,29],[25,30,25,32],[25,33,25,35],[25,36,25,38],[25,39,25,41],[26,0,26,3],[26,4,26,5],[26,6,26,8],[26,10,26,12],[26,13,26,17],[26,18,26,20],[26,39,26,41],[26,21,26,23],[26,24,26,26],[26,27,26,29],[26,30,26,32],[26,33,26,35],[26,36,26,38],[25,0,25,3],[25,4,25,5],[25,6,25,8],[25,10,25,12],[25,13,25,17],[25,18,25,20],[25,21,25,23],[25,24,25,26],[25,27,25,29],[23,36,23,38],[23,39,23,41],[24,0,24,3],[24,4,24,5],[24,6,24,8],[24,10,24,12],[24,13,24,17],[24,18,24,20],[24,39,24,41],[24,21,24,23],[24,24,24,26],[24,27,24,29],[24,30,24,32],[24,33,24,35],[24,36,24,38],[22,39,22,41],[23,0,23,3],[23,4,23,5],[23,6,23,8],[23,10,23,12],[23,13,23,17],[23,18,23,20],[23,21,23,23],[23,24,23,26],[23,27,23,29],[22,21,22,23],[22,24,22,26],[22,27,22,29],[22,30,22,32],[22,33,22,35],[22,36,22,38],[22,0,22,3],[22,4,22,5],[22,6,22,8],[22,10,22,12],[22,13,22,17],[22,18,22,20],[23,30,23,32],[23,33,23,35],[20,24,21,26],[20,27,21,29],[20,30,21,32],[20,33,21,35],[20,36,21,38],[20,39,21,41],[20,0,21,3],[20,4,21,5],[20,6,20,12],[20,13,21,17],[20,18,21,20],[20,21,21,23],[21,6,21,8],[21,10,21,12],[12,0,12,41],[8,26,8,29],[8,30,8,31],[8,32,8,35],[8,36,8,37],[8,38,8,41],[9,0,9,41],[16,0,17,3],[16,4,17,17],[16,18,19,41],[18,0,19,3],[18,4,19,10],[18,11,19,12],[18,13,19,13],[13,5,13,28],[14,0,14,3],[14,4,14,18],[14,19,14,25],[14,26,14,41],[15,0,15,41],[7,20,7,23],[7,24,7,25],[7,26,7,29],[7,30,7,31],[10,4,10,41],[11,0,11,3],[11,4,11,18],[11,19,11,25],[11,26,11,41],[5,0,5,4],[5,5,5,12],[7,0,8,5],[7,6,7,7],[7,8,7,11],[7,12,7,13],[0,0,0,2],[0,3,0,41],[1,0,1,41],[2,0,2,41],[3,0,3,41],[4,0,4,41],[7,32,7,35],[7,36,7,37],[7,38,7,41],[8,6,8,7],[8,8,8,11],[8,12,8,13],[8,14,8,17],[8,18,8,19],[8,20,8,23],[8,24,8,25],[7,14,7,17],[7,18,7,19]]}
["様式７"]
["令和５年度文化芸術による子供育成推進事業"]
[{"$f":"IF('申【様式１】（共通）'!E14=\"\",\"\",'申【様式１】（共通）'!E14)","v":""}]
["旅費計算書"]
[]
["都道府県・\n政令指定都市名",null,null,null,null,{"$f":"IF('申【様式１】（共通）'!E4=\"\",\"\",'申【様式１】（共通）'!E4)","v":""}]
[]
["実施日",null,null,null,null,null,"第1回",null,{"$f":"IF($A$3=\"芸術家の派遣事業\",'申【様式３・４】（派遣）'!E21,'申【様式５・６】（コミュ）'!E44)","v":"00:00:00"},null,null,null,"第2回",null,{"$f":"IF($A$3=\"芸術家の派遣事業\",'申【様式３・４】（派遣）'!E39,'申【様式５・６】（コミュ）'!E49)","v":"00:00:00"},null,null,null,"第3回",null,{"$f":"IF($A$3=\"芸術家の派遣事業\",'申【様式３・４】（派遣）'!E57,'申【様式５・６】（コミュ）'!E54)","v":"00:00:00"},null,null,null,{"$f":"IF($A$3=\"コミュニケーション能力向上事業\",\"第4回\",\"\")","v":""},null,{"$f":"IF($A$3=\"芸術家の派遣事業\",\"\",'申【様式５・６】（コミュ）'!E59)","v":"00:00:00"},null,null,null,{"$f":"IF($A$3=\"コミュニケーション能力向上事業\",\"第5回\",\"\")","v":""},null,{"$f":"IF($A$3=\"芸術家の派遣事業\",\"\",'申【様式５・６】（コミュ）'!E64)","v":"00:00:00"},null,null,null,{"$f":"IF($A$3=\"コミュニケーション能力向上事業\",\"第6回\",\"\")","v":""},null,{"$f":"IF($A$3=\"芸術家の派遣事業\",\"\",'申【様式５・６】（コミュ）'!E72)","v":"00:00:00"}]
[null,null,null,null,null,null,{"$f":"IF($A$3=\"コミュニケーション能力向上事業\",\"第7回\",\"\")","v":""},null,{"$f":"IF($A$3=\"芸術家の派遣事業\",\"\",'申【様式５・６】（コミュ）'!$E77)","v":"00:00:00"},null,null,null,{"$f":"IF($A$3=\"コミュニケーション能力向上事業\",\"第8回\",\"\")","v":""},null,{"$f":"IF($A$3=\"芸術家の派遣事業\",\"\",'申【様式５・６】（コミュ）'!$E82)","v":"00:00:00"},null,null,null,{"$f":"IF($A$3=\"コミュニケーション能力向上事業\",\"第9回\",\"\")","v":""},null,{"$f":"IF($A$3=\"芸術家の派遣事業\",\"\",'申【様式５・６】（コミュ）'!$E87)","v":"00:00:00"},null,null,null,{"$f":"IF($A$3=\"コミュニケーション能力向上事業\",\"第10回\",\"\")","v":""},null,{"$f":"IF($A$3=\"芸術家の派遣事業\",\"\",'申【様式５・６】（コミュ）'!$E92)","v":"00:00:00"},null,null,null,{"$f":"IF($A$3=\"コミュニケーション能力向上事業\",\"第11回\",\"\")","v":""},null,{"$f":"IF($A$3=\"芸術家の派遣事業\",\"\",'申【様式５・６】（コミュ）'!$E100)","v":"00:00:00"},null,null,null,{"$f":"IF($A$3=\"コミュニケーション能力向上事業\",\"第12回\",\"\")","v":""},null,{"$f":"IF($A$3=\"芸術家の派遣事業\",\"\",'申【様式５・６】（コミュ）'!$E105)","v":"00:00:00"}]
[]
["①派遣先"]
["学校名",null,null,null,{"$f":"IF('申【様式１】（共通）'!E8=\"\",\"\",'申【様式１】（共通）'!E8)","v":""},null,null,null,null,null,null,null,null,null,null,null,null,null,null,"最寄駅/バス停",null,null,null,null,null,null,{"$f":"IF('申【様式１】（共通）'!M12=\"\",\"\",'申【様式１】（共通）'!M12)","v":""}]
[]
["②被派遣者"]
["氏名",null,null,null,"　",null,null,null,null,null,null,null,null,null,null,null,null,null,null,"最寄駅/バス停"]
[]
["③旅費",null,null,null,{"$f":"\"↓（申請時）様式\"&IF(A3=\"芸術家の派遣事業\",4,6)&\"に転記してください\n　 （報告時）様式\"&IF(A3=\"芸術家の派遣事業\",10,12)&\"に転記してください\"","v":"↓（申請時）様式6に転記してください\n　 （報告時）様式12に転記してください"},null,null,null,null,null,null,null,null,null,null,null,null,null,"※本事業の旅費基準に従って計上してください。\n※乗り換え毎に行を分けて記入してください。\n※交通機関名欄は、プルダウンより選択してください。\n※距離を必ず記入してください。"]
[]
["旅費合計\n（a+b+c+d)",null,null,null,{"$f":"SUM(AB41:AM41)","v":0},null,null,null,null,null,null,"円"]
[]
["日付",null,null,null,"曜日",null,"移動区間",null,null,null,null,null,null,"※交通機関名",null,null,null,null,"※距離\n(㎞)",null,null,"運賃\n乗車券",null,null,"特急\n急行料金",null,null,"交通費\n小計",null,null,"車賃",null,null,"日当",null,null,"宿泊費",null,null,"宿泊地"]
[null,null,null,null,null,null,"発地",null,null,"→","着地"]
[null,null,null,null,{"$f":"IF(A23=\"\",\"\",A23)","v":""},null,null,null,null,"→",null,null,null,null,null,null,null,null,null,null,null,null,null,null,null,null,null,{"$f":"SUM(V23:AA23)","v":0}]
[null,null,null,null,"",null,null,null,null,"→",null,null,null,null,null,null,null,null,null,null,null,null,null,null,null,null,null,0]
[null,null,null,null,"",null,null,null,null,"→",null,null,null,null,null,null,null,null,null,null,null,null,null,null,null,null,null,0]
[null,null,null,null,"",null,null,null,null,"→",null,null,null,null,null,null,null,null,null,null,null,null,null,null,null,null,null,0]
[null,null,null,null,"",null,null,null,null,"→",null,null,null,null,null,null,null,null,null,null,null,null,null,null,null,null,null,0]
[null,null,null,null,"",null,null,null,null,"→",null,null,null,null,null,null,null,null,null,null,null,null,null,null,null,null,null,0]
[null,null,null,null,"",null,null,null,null,"→",null,null,null,null,null,null,null,null,null,null,null,null,null,null,null,null,null,0]
[null,null,null,null,"",null,null,null,null,"→",null,null,null,null,null,null,null,null,null,null,null,null,null,null,null,null,null,0]
[null,null,null,null,"",null,null,null,null,"→",null,null,null,null,null,null,null,null,null,null,null,null,null,null,null,null,null,0]
[null,null,null,null,"",null,null,null,null,"→",null,null,null,null,null,null,null,null,null,null,null,null,null,null,null,null,null,0]
[null,null,null,null,"",null,null,null,null,"→",null,null,null,null,null,null,null,null,null,null,null,null,null,null,null,null,null,0]
[null,null,null,null,{"$f":"IF(A34=\"\",\"\",A34)","v":""},null,null,null,null,"→",null,null,null,null,null,null,null,null,null,null,null,null,null,null,null,null,null,{"$f":"SUM(V34:AA34)","v":0}]
[null,null,null,null,{"$f":"IF(A35=\"\",\"\",A35)","v":""},null,null,null,null,"→",null,null,null,null,null,null,null,null,null,null,null,null,null,null,null,null,null,{"$f":"SUM(V35:AA35)","v":0}]
[null,null,null,null,{"$f":"IF(A36=\"\",\"\",A36)","v":""},null,null,null,null,"→",null,null,null,null,null,null,null,null,null,null,null,null,null,null,null,null,null,{"$f":"SUM(V36:AA36)","v":0}]
[null,null,null,null,{"$f":"IF(A37=\"\",\"\",A37)","v":""},null,null,null,null,"→",null,null,null,null,null,null,null,null,null,null,null,null,null,null,null,null,null,{"$f":"SUM(V37:AA37)","v":0}]
[null,null,null,null,{"$f":"IF(A38=\"\",\"\",A38)","v":""},null,null,null,null,"→",null,null,null,null,null,null,null,null,null,null,null,null,null,null,null,null,null,{"$f":"SUM(V38:AA38)","v":0}]
[null,null,null,null,"",null,null,null,null,"→",null,null,null,null,null,null,null,null,null,null,null,null,null,null,null,null,null,0]
["合　計",null,null,null,null,null,null,null,null,null,null,null,null,null,null,null,null,null,null,null,null,null,null,null,null,null,null,"a",null,null,"b",null,null,"c",null,null,"d"]
[null,null,null,null,null,null,null,null,null,null,null,null,null,null,null,null,null,null,null,null,null,null,null,null,null,null,null,{"$f":"SUM(AB23:AD39)","v":0},null,null,{"$f":"ROUNDDOWN((SUMIFS(S23:U39,N23:P39,\"自家用車\")),0)*37","v":0},null,null,{"$f":"SUM(AH23:AJ39)","v":0},null,null,{"$f":"SUM(AK23:AM39)","v":0}]
[]
["(備　考)",null,null,null,null,"※出発地が現住所と異なる場合は出発地（駅名/バス停名）及びその理由を記入してください"]
[]
[]
["※本事業で得た個人情報は、本事業内のみで使用します。"]
["※本事業の専用ウェブページにあるに同意していただいたものとします。"]

{"sheet":"申報【様式７】⑩（共通）","index":20,"n_rows":47,"n_cols":40,"rows_kept":47,"cut":false,"hidden":true,"merged":[[40,36,40,38],[41,0,41,41],[42,0,42,3],[43,0,44,41],[38,39,38,41],[39,0,40,26],[39,27,39,29],[39,30,39,32],[39,33,39,35],[39,36,39,38],[39,39,40,41],[40,27,40,29],[40,30,40,32],[40,33,40,35],[38,21,38,23],[38,24,38,26],[38,27,38,29],[38,30,38,32],[38,33,38,35],[38,36,38,38],[37,30,37,32],[37,33,37,35],[37,36,37,38],[37,39,37,41],[38,0,38,3],[38,4,38,5],[38,6,38,8],[38,10,38,12],[38,13,38,17],[38,18,38,20],[37,0,37,3],[37,4,37,5],[37,6,37,8],[37,10,37,12],[37,13,37,17],[37,18,37,20],[37,21,37,23],[37,24,37,26],[37,27,37,29],[35,30,35,32],[35,33,35,35],[35,36,35,38],[35,39,35,41],[36,0,36,3],[36,4,36,5],[36,6,36,8],[36,10,36,12],[36,13,36,17],[36,18,36,20],[36,39,36,41],[36,21,36,23],[36,24,36,26],[36,27,36,29],[36,30,36,32],[36,33,36,35],[36,36,36,38],[35,0,35,3],[35,4,35,5],[35,6,35,8],[35,10,35,12],[35,13,35,17],[35,18,35,20],[35,21,35,23],[35,24,35,26],[35,27,35,29],[33,30,33,32],[33,33,33,35],[33,36,33,38],[33,39,33,41],[34,0,34,3],[34,4,34,5],[34,6,34,8],[34,10,34,12],[34,13,34,17],[34,18,34,20],[34,39,34,41],[34,21,34,23],[34,24,34,26],[34,27,34,29],[34,30,34,32],[34,33,34,35],[34,36,34,38],[33,0,33,3],[33,4,33,5],[33,6,33,8],[33,10,33,12],[33,13,33,17],[33,18,33,20],[33,21,33,23],[33,24,33,26],[33,27,33,29],[31,30,31,32],[31,33,31,35],[31,36,31,38],[31,39,31,41],[32,0,32,3],[32,4,32,5],[32,6,32,8],[32,10,32,12],[32,13,32,17],[32,18,32,20],[32,39,32,41],[32,21,32,23],[32,24,32,26],[32,27,32,29],[32,30,32,32],[32,33,32,35],[32,36,32,38],[31,0,31,3],[31,4,31,5],[31,6,31,8],[31,10,31,12],[31,13,31,17],[31,18,31,20],[31,21,31,23],[31,24,31,26],[31,27,31,29],[29,30,29,32],[29,33,29,35],[29,36,29,38],[29,39,29,41],[30,0,30,3],[30,4,30,5],[30,6,30,8],[30,10,30,12],[30,13,30,17],[30,18,30,20],[30,39,30,41],[30,21,30,23],[30,24,30,26],[30,27,30,29],[30,30,30,32],[30,33,30,35],[30,36,30,38],[29,0,29,3],[29,4,29,5],[29,6,29,8],[29,10,29,12],[29,13,29,17],[29,18,29,20],[29,21,29,23],[29,24,29,26],[29,27,29,29],[27,30,27,32],[27,33,27,35],[27,36,27,38],[27,39,27,41],[28,0,28,3],[28,4,28,5],[28,6,28,8],[28,10,28,12],[28,13,28,17],[28,18,28,20],[28,39,28,41],[28,21,28,23],[28,24,28,26],[28,27,28,29],[28,30,28,32],[28,33,28,35],[28,36,28,38],[27,0,27,3],[27,4,27,5],[27,6,27,8],[27,10,27,12],[27,13,27,17],[27,18,27,20],[27,21,27,23],[27,24,27,26],[27,27,27,29],[25,30,25,32],[25,33,25,35],[25,36,25,38],[25,39,25,41],[26,0,26,3],[26,4,26,5],[26,6,26,8],[26,10,26,12],[26,13,26,17],[26,18,26,20],[26,39,26,41],[26,21,26,23],[26,24,26,26],[26,27,26,29],[26,30,26,32],[26,33,26,35],[26,36,26,38],[25,0,25,3],[25,4,25,5],[25,6,25,8],[25,10,25,12],[25,13,25,17],[25,18,25,20],[25,21,25,23],[25,24,25,26],[25,27,25,29],[23,36,23,38],[23,39,23,41],[24,0,24,3],[24,4,24,5],[24,6,24,8],[24,10,24,12],[24,13,24,17],[24,18,24,20],[24,39,24,41],[24,21,24,23],[24,24,24,26],[24,27,24,29],[24,30,24,32],[24,33,24,35],[24,36,24,38],[22,39,22,41],[23,0,23,3],[23,4,23,5],[23,6,23,8],[23,10,23,12],[23,13,23,17],[23,18,23,20],[23,21,23,23],[23,24,23,26],[23,27,23,29],[22,21,22,23],[22,24,22,26],[22,27,22,29],[22,30,22,32],[22,33,22,35],[22,36,22,38],[22,0,22,3],[22,4,22,5],[22,6,22,8],[22,10,22,12],[22,13,22,17],[22,18,22,20],[23,30,23,32],[23,33,23,35],[20,24,21,26],[20,27,21,29],[20,30,21,32],[20,33,21,35],[20,36,21,38],[20,39,21,41],[20,0,21,3],[20,4,21,5],[20,6,20,12],[20,13,21,17],[20,18,21,20],[20,21,21,23],[21,6,21,8],[21,10,21,12],[12,0,12,41],[8,26,8,29],[8,30,8,31],[8,32,8,35],[8,36,8,37],[8,38,8,41],[9,0,9,41],[16,0,17,3],[16,4,17,17],[16,18,19,41],[18,0,19,3],[18,4,19,10],[18,11,19,12],[18,13,19,13],[13,5,13,28],[14,0,14,3],[14,4,14,18],[14,19,14,25],[14,26,14,41],[15,0,15,41],[7,20,7,23],[7,24,7,25],[7,26,7,29],[7,30,7,31],[10,4,10,41],[11,0,11,3],[11,4,11,18],[11,19,11,25],[11,26,11,41],[5,0,5,4],[5,5,5,12],[7,0,8,5],[7,6,7,7],[7,8,7,11],[7,12,7,13],[0,0,0,2],[0,3,0,41],[1,0,1,41],[2,0,2,41],[3,0,3,41],[4,0,4,41],[7,32,7,35],[7,36,7,37],[7,38,7,41],[8,6,8,7],[8,8,8,11],[8,12,8,13],[8,14,8,17],[8,18,8,19],[8,20,8,23],[8,24,8,25],[7,14,7,17],[7,18,7,19]]}
["様式７"]
["令和５年度文化芸術による子供育成推進事業"]
[{"$f":"IF('申【様式１】（共通）'!E14=\"\",\"\",'申【様式１】（共通）'!E14)","v":""}]
["旅費計算書"]
[]
["都道府県・\n政令指定都市名",null,null,null,null,{"$f":"IF('申【様式１】（共通）'!E4=\"\",\"\",'申【様式１】（共通）'!E4)","v":""}]
[]
["実施日",null,null,null,null,null,"第1回",null,{"$f":"IF($A$3=\"芸術家の派遣事業\",'申【様式３・４】（派遣）'!E21,'申【様式５・６】（コミュ）'!E44)","v":"00:00:00"},null,null,null,"第2回",null,{"$f":"IF($A$3=\"芸術家の派遣事業\",'申【様式３・４】（派遣）'!E39,'申【様式５・６】（コミュ）'!E49)","v":"00:00:00"},null,null,null,"第3回",null,{"$f":"IF($A$3=\"芸術家の派遣事業\",'申【様式３・４】（派遣）'!E57,'申【様式５・６】（コミュ）'!E54)","v":"00:00:00"},null,null,null,{"$f":"IF($A$3=\"コミュニケーション能力向上事業\",\"第4回\",\"\")","v":""},null,{"$f":"IF($A$3=\"芸術家の派遣事業\",\"\",'申【様式５・６】（コミュ）'!E59)","v":"00:00:00"},null,null,null,{"$f":"IF($A$3=\"コミュニケーション能力向上事業\",\"第5回\",\"\")","v":""},null,{"$f":"IF($A$3=\"芸術家の派遣事業\",\"\",'申【様式５・６】（コミュ）'!E64)","v":"00:00:00"},null,null,null,{"$f":"IF($A$3=\"コミュニケーション能力向上事業\",\"第6回\",\"\")","v":""},null,{"$f":"IF($A$3=\"芸術家の派遣事業\",\"\",'申【様式５・６】（コミュ）'!E72)","v":"00:00:00"}]
[null,null,null,null,null,null,{"$f":"IF($A$3=\"コミュニケーション能力向上事業\",\"第7回\",\"\")","v":""},null,{"$f":"IF($A$3=\"芸術家の派遣事業\",\"\",'申【様式５・６】（コミュ）'!$E77)","v":"00:00:00"},null,null,null,{"$f":"IF($A$3=\"コミュニケーション能力向上事業\",\"第8回\",\"\")","v":""},null,{"$f":"IF($A$3=\"芸術家の派遣事業\",\"\",'申【様式５・６】（コミュ）'!$E82)","v":"00:00:00"},null,null,null,{"$f":"IF($A$3=\"コミュニケーション能力向上事業\",\"第9回\",\"\")","v":""},null,{"$f":"IF($A$3=\"芸術家の派遣事業\",\"\",'申【様式５・６】（コミュ）'!$E87)","v":"00:00:00"},null,null,null,{"$f":"IF($A$3=\"コミュニケーション能力向上事業\",\"第10回\",\"\")","v":""},null,{"$f":"IF($A$3=\"芸術家の派遣事業\",\"\",'申【様式５・６】（コミュ）'!$E92)","v":"00:00:00"},null,null,null,{"$f":"IF($A$3=\"コミュニケーション能力向上事業\",\"第11回\",\"\")","v":""},null,{"$f":"IF($A$3=\"芸術家の派遣事業\",\"\",'申【様式５・６】（コミュ）'!$E100)","v":"00:00:00"},null,null,null,{"$f":"IF($A$3=\"コミュニケーション能力向上事業\",\"第12回\",\"\")","v":""},null,{"$f":"IF($A$3=\"芸術家の派遣事業\",\"\",'申【様式５・６】（コミュ）'!$E105)","v":"00:00:00"}]
[]
["①派遣先"]
["学校名",null,null,null,{"$f":"IF('申【様式１】（共通）'!E8=\"\",\"\",'申【様式１】（共通）'!E8)","v":""},null,null,null,null,null,null,null,null,null,null,null,null,null,null,"最寄駅/バス停",null,null,null,null,null,null,{"$f":"IF('申【様式１】（共通）'!M12=\"\",\"\",'申【様式１】（共通）'!M12)","v":""}]
[]
["②被派遣者"]
["氏名",null,null,null,"　",null,null,null,null,null,null,null,null,null,null,null,null,null,null,"最寄駅/バス停"]
[]
["③旅費",null,null,null,{"$f":"\"↓（申請時）様式\"&IF(A3=\"芸術家の派遣事業\",4,6)&\"に転記してください\n　 （報告時）様式\"&IF(A3=\"芸術家の派遣事業\",10,12)&\"に転記してください\"","v":"↓（申請時）様式6に転記してください\n　 （報告時）様式12に転記してください"},null,null,null,null,null,null,null,null,null,null,null,null,null,"※本事業の旅費基準に従って計上してください。\n※乗り換え毎に行を分けて記入してください。\n※交通機関名欄は、プルダウンより選択してください。\n※距離を必ず記入してください。"]
[]
["旅費合計\n（a+b+c+d)",null,null,null,{"$f":"SUM(AB41:AM41)","v":0},null,null,null,null,null,null,"円"]
[]
["日付",null,null,null,"曜日",null,"移動区間",null,null,null,null,null,null,"※交通機関名",null,null,null,null,"※距離\n(㎞)",null,null,"運賃\n乗車券",null,null,"特急\n急行料金",null,null,"交通費\n小計",null,null,"車賃",null,null,"日当",null,null,"宿泊費",null,null,"宿泊地"]
[null,null,null,null,null,null,"発地",null,null,"→","着地"]
[null,null,null,null,{"$f":"IF(A23=\"\",\"\",A23)","v":""},null,null,null,null,"→",null,null,null,null,null,null,null,null,null,null,null,null,null,null,null,null,null,{"$f":"SUM(V23:AA23)","v":0}]
[null,null,null,null,"",null,null,null,null,"→",null,null,null,null,null,null,null,null,null,null,null,null,null,null,null,null,null,0]
[null,null,null,null,"",null,null,null,null,"→",null,null,null,null,null,null,null,null,null,null,null,null,null,null,null,null,null,0]
[null,null,null,null,"",null,null,null,null,"→",null,null,null,null,null,null,null,null,null,null,null,null,null,null,null,null,null,0]
[null,null,null,null,"",null,null,null,null,"→",null,null,null,null,null,null,null,null,null,null,null,null,null,null,null,null,null,0]
[null,null,null,null,"",null,null,null,null,"→",null,null,null,null,null,null,null,null,null,null,null,null,null,null,null,null,null,0]
[null,null,null,null,"",null,null,null,null,"→",null,null,null,null,null,null,null,null,null,null,null,null,null,null,null,null,null,0]
[null,null,null,null,"",null,null,null,null,"→",null,null,null,null,null,null,null,null,null,null,null,null,null,null,null,null,null,0]
[null,null,null,null,"",null,null,null,null,"→",null,null,null,null,null,null,null,null,null,null,null,null,null,null,null,null,null,0]
[null,null,null,null,"",null,null,null,null,"→",null,null,null,null,null,null,null,null,null,null,null,null,null,null,null,null,null,0]
[null,null,null,null,"",null,null,null,null,"→",null,null,null,null,null,null,null,null,null,null,null,null,null,null,null,null,null,0]
[null,null,null,null,{"$f":"IF(A34=\"\",\"\",A34)","v":""},null,null,null,null,"→",null,null,null,null,null,null,null,null,null,null,null,null,null,null,null,null,null,{"$f":"SUM(V34:AA34)","v":0}]
[null,null,null,null,{"$f":"IF(A35=\"\",\"\",A35)","v":""},null,null,null,null,"→",null,null,null,null,null,null,null,null,null,null,null,null,null,null,null,null,null,{"$f":"SUM(V35:AA35)","v":0}]
[null,null,null,null,{"$f":"IF(A36=\"\",\"\",A36)","v":""},null,null,null,null,"→",null,null,null,null,null,null,null,null,null,null,null,null,null,null,null,null,null,{"$f":"SUM(V36:AA36)","v":0}]
[null,null,null,null,{"$f":"IF(A37=\"\",\"\",A37)","v":""},null,null,null,null,"→",null,null,null,null,null,null,null,null,null,null,null,null,null,null,null,null,null,{"$f":"SUM(V37:AA37)","v":0}]
[null,null,null,null,{"$f":"IF(A38=\"\",\"\",A38)","v":""},null,null,null,null,"→",null,null,null,null,null,null,null,null,null,null,null,null,null,null,null,null,null,{"$f":"SUM(V38:AA38)","v":0}]
[null,null,null,null,"",null,null,null,null,"→",null,null,null,null,null,null,null,null,null,null,null,null,null,null,null,null,null,0]
["合　計",null,null,null,null,null,null,null,null,null,null,null,null,null,null,null,null,null,null,null,null,null,null,null,null,null,null,"a",null,null,"b",null,null,"c",null,null,"d"]
[null,null,null,null,null,null,null,null,null,null,null,null,null,null,null,null,null,null,null,null,null,null,null,null,null,null,null,{"$f":"SUM(AB23:AD39)","v":0},null,null,{"$f":"ROUNDDOWN((SUMIFS(S23:U39,N23:P39,\"自家用車\")),0)*37","v":0},null,null,{"$f":"SUM(AH23:AJ39)","v":0},null,null,{"$f":"SUM(AK23:AM39)","v":0}]
[]
["(備　考)",null,null,null,null,"※出発地が現住所と異なる場合は出発地（駅名/バス停名）及びその理由を記入してください"]
[]
[]
["※本事業で得た個人情報は、本事業内のみで使用します。"]
["※本事業の専用ウェブページにあるに同意していただいたものとします。"]

{"sheet":"申報【様式７】⑪（共通）","index":21,"n_rows":47,"n_cols":40,"rows_kept":47,"cut":false,"hidden":true,"merged":[[40,36,40,38],[41,0,41,41],[42,0,42,3],[43,0,44,41],[38,39,38,41],[39,0,40,26],[39,27,39,29],[39,30,39,32],[39,33,39,35],[39,36,39,38],[39,39,40,41],[40,27,40,29],[40,30,40,32],[40,33,40,35],[38,21,38,23],[38,24,38,26],[38,27,38,29],[38,30,38,32],[38,33,38,35],[38,36,38,38],[37,30,37,32],[37,33,37,35],[37,36,37,38],[37,39,37,41],[38,0,38,3],[38,4,38,5],[38,6,38,8],[38,10,38,12],[38,13,38,17],[38,18,38,20],[37,0,37,3],[37,4,37,5],[37,6,37,8],[37,10,37,12],[37,13,37,17],[37,18,37,20],[37,21,37,23],[37,24,37,26],[37,27,37,29],[35,30,35,32],[35,33,35,35],[35,36,35,38],[35,39,35,41],[36,0,36,3],[36,4,36,5],[36,6,36,8],[36,10,36,12],[36,13,36,17],[36,18,36,20],[36,39,36,41],[36,21,36,23],[36,24,36,26],[36,27,36,29],[36,30,36,32],[36,33,36,35],[36,36,36,38],[35,0,35,3],[35,4,35,5],[35,6,35,8],[35,10,35,12],[35,13,35,17],[35,18,35,20],[35,21,35,23],[35,24,35,26],[35,27,35,29],[33,30,33,32],[33,33,33,35],[33,36,33,38],[33,39,33,41],[34,0,34,3],[34,4,34,5],[34,6,34,8],[34,10,34,12],[34,13,34,17],[34,18,34,20],[34,39,34,41],[34,21,34,23],[34,24,34,26],[34,27,34,29],[34,30,34,32],[34,33,34,35],[34,36,34,38],[33,0,33,3],[33,4,33,5],[33,6,33,8],[33,10,33,12],[33,13,33,17],[33,18,33,20],[33,21,33,23],[33,24,33,26],[33,27,33,29],[31,30,31,32],[31,33,31,35],[31,36,31,38],[31,39,31,41],[32,0,32,3],[32,4,32,5],[32,6,32,8],[32,10,32,12],[32,13,32,17],[32,18,32,20],[32,39,32,41],[32,21,32,23],[32,24,32,26],[32,27,32,29],[32,30,32,32],[32,33,32,35],[32,36,32,38],[31,0,31,3],[31,4,31,5],[31,6,31,8],[31,10,31,12],[31,13,31,17],[31,18,31,20],[31,21,31,23],[31,24,31,26],[31,27,31,29],[29,30,29,32],[29,33,29,35],[29,36,29,38],[29,39,29,41],[30,0,30,3],[30,4,30,5],[30,6,30,8],[30,10,30,12],[30,13,30,17],[30,18,30,20],[30,39,30,41],[30,21,30,23],[30,24,30,26],[30,27,30,29],[30,30,30,32],[30,33,30,35],[30,36,30,38],[29,0,29,3],[29,4,29,5],[29,6,29,8],[29,10,29,12],[29,13,29,17],[29,18,29,20],[29,21,29,23],[29,24,29,26],[29,27,29,29],[27,30,27,32],[27,33,27,35],[27,36,27,38],[27,39,27,41],[28,0,28,3],[28,4,28,5],[28,6,28,8],[28,10,28,12],[28,13,28,17],[28,18,28,20],[28,39,28,41],[28,21,28,23],[28,24,28,26],[28,27,28,29],[28,30,28,32],[28,33,28,35],[28,36,28,38],[27,0,27,3],[27,4,27,5],[27,6,27,8],[27,10,27,12],[27,13,27,17],[27,18,27,20],[27,21,27,23],[27,24,27,26],[27,27,27,29],[25,30,25,32],[25,33,25,35],[25,36,25,38],[25,39,25,41],[26,0,26,3],[26,4,26,5],[26,6,26,8],[26,10,26,12],[26,13,26,17],[26,18,26,20],[26,39,26,41],[26,21,26,23],[26,24,26,26],[26,27,26,29],[26,30,26,32],[26,33,26,35],[26,36,26,38],[25,0,25,3],[25,4,25,5],[25,6,25,8],[25,10,25,12],[25,13,25,17],[25,18,25,20],[25,21,25,23],[25,24,25,26],[25,27,25,29],[23,36,23,38],[23,39,23,41],[24,0,24,3],[24,4,24,5],[24,6,24,8],[24,10,24,12],[24,13,24,17],[24,18,24,20],[24,39,24,41],[24,21,24,23],[24,24,24,26],[24,27,24,29],[24,30,24,32],[24,33,24,35],[24,36,24,38],[22,39,22,41],[23,0,23,3],[23,4,23,5],[23,6,23,8],[23,10,23,12],[23,13,23,17],[23,18,23,20],[23,21,23,23],[23,24,23,26],[23,27,23,29],[22,21,22,23],[22,24,22,26],[22,27,22,29],[22,30,22,32],[22,33,22,35],[22,36,22,38],[22,0,22,3],[22,4,22,5],[22,6,22,8],[22,10,22,12],[22,13,22,17],[22,18,22,20],[23,30,23,32],[23,33,23,35],[20,24,21,26],[20,27,21,29],[20,30,21,32],[20,33,21,35],[20,36,21,38],[20,39,21,41],[20,0,21,3],[20,4,21,5],[20,6,20,12],[20,13,21,17],[20,18,21,20],[20,21,21,23],[21,6,21,8],[21,10,21,12],[12,0,12,41],[8,26,8,29],[8,30,8,31],[8,32,8,35],[8,36,8,37],[8,38,8,41],[9,0,9,41],[16,0,17,3],[16,4,17,17],[16,18,19,41],[18,0,19,3],[18,4,19,10],[18,11,19,12],[18,13,19,13],[13,5,13,28],[14,0,14,3],[14,4,14,18],[14,19,14,25],[14,26,14,41],[15,0,15,41],[7,20,7,23],[7,24,7,25],[7,26,7,29],[7,30,7,31],[10,4,10,41],[11,0,11,3],[11,4,11,18],[11,19,11,25],[11,26,11,41],[5,0,5,4],[5,5,5,12],[7,0,8,5],[7,6,7,7],[7,8,7,11],[7,12,7,13],[0,0,0,2],[0,3,0,41],[1,0,1,41],[2,0,2,41],[3,0,3,41],[4,0,4,41],[7,32,7,35],[7,36,7,37],[7,38,7,41],[8,6,8,7],[8,8,8,11],[8,12,8,13],[8,14,8,17],[8,18,8,19],[8,20,8,23],[8,24,8,25],[7,14,7,17],[7,18,7,19]]}
["様式７"]
["令和５年度文化芸術による子供育成推進事業"]
[{"$f":"IF('申【様式１】（共通）'!E14=\"\",\"\",'申【様式１】（共通）'!E14)","v":""}]
["旅費計算書"]
[]
["都道府県・\n政令指定都市名",null,null,null,null,{"$f":"IF('申【様式１】（共通）'!E4=\"\",\"\",'申【様式１】（共通）'!E4)","v":""}]
[]
["実施日",null,null,null,null,null,"第1回",null,{"$f":"IF($A$3=\"芸術家の派遣事業\",'申【様式３・４】（派遣）'!E21,'申【様式５・６】（コミュ）'!E44)","v":"00:00:00"},null,null,null,"第2回",null,{"$f":"IF($A$3=\"芸術家の派遣事業\",'申【様式３・４】（派遣）'!E39,'申【様式５・６】（コミュ）'!E49)","v":"00:00:00"},null,null,null,"第3回",null,{"$f":"IF($A$3=\"芸術家の派遣事業\",'申【様式３・４】（派遣）'!E57,'申【様式５・６】（コミュ）'!E54)","v":"00:00:00"},null,null,null,{"$f":"IF($A$3=\"コミュニケーション能力向上事業\",\"第4回\",\"\")","v":""},null,{"$f":"IF($A$3=\"芸術家の派遣事業\",\"\",'申【様式５・６】（コミュ）'!E59)","v":"00:00:00"},null,null,null,{"$f":"IF($A$3=\"コミュニケーション能力向上事業\",\"第5回\",\"\")","v":""},null,{"$f":"IF($A$3=\"芸術家の派遣事業\",\"\",'申【様式５・６】（コミュ）'!E64)","v":"00:00:00"},null,null,null,{"$f":"IF($A$3=\"コミュニケーション能力向上事業\",\"第6回\",\"\")","v":""},null,{"$f":"IF($A$3=\"芸術家の派遣事業\",\"\",'申【様式５・６】（コミュ）'!E72)","v":"00:00:00"}]
[null,null,null,null,null,null,{"$f":"IF($A$3=\"コミュニケーション能力向上事業\",\"第7回\",\"\")","v":""},null,{"$f":"IF($A$3=\"芸術家の派遣事業\",\"\",'申【様式５・６】（コミュ）'!$E77)","v":"00:00:00"},null,null,null,{"$f":"IF($A$3=\"コミュニケーション能力向上事業\",\"第8回\",\"\")","v":""},null,{"$f":"IF($A$3=\"芸術家の派遣事業\",\"\",'申【様式５・６】（コミュ）'!$E82)","v":"00:00:00"},null,null,null,{"$f":"IF($A$3=\"コミュニケーション能力向上事業\",\"第9回\",\"\")","v":""},null,{"$f":"IF($A$3=\"芸術家の派遣事業\",\"\",'申【様式５・６】（コミュ）'!$E87)","v":"00:00:00"},null,null,null,{"$f":"IF($A$3=\"コミュニケーション能力向上事業\",\"第10回\",\"\")","v":""},null,{"$f":"IF($A$3=\"芸術家の派遣事業\",\"\",'申【様式５・６】（コミュ）'!$E92)","v":"00:00:00"},null,null,null,{"$f":"IF($A$3=\"コミュニケーション能力向上事業\",\"第11回\",\"\")","v":""},null,{"$f":"IF($A$3=\"芸術家の派遣事業\",\"\",'申【様式５・６】（コミュ）'!$E100)","v":"00:00:00"},null,null,null,{"$f":"IF($A$3=\"コミュニケーション能力向上事業\",\"第12回\",\"\")","v":""},null,{"$f":"IF($A$3=\"芸術家の派遣事業\",\"\",'申【様式５・６】（コミュ）'!$E105)","v":"00:00:00"}]
[]
["①派遣先"]
["学校名",null,null,null,{"$f":"IF('申【様式１】（共通）'!E8=\"\",\"\",'申【様式１】（共通）'!E8)","v":""},null,null,null,null,null,null,null,null,null,null,null,null,null,null,"最寄駅/バス停",null,null,null,null,null,null,{"$f":"IF('申【様式１】（共通）'!M12=\"\",\"\",'申【様式１】（共通）'!M12)","v":""}]
[]
["②被派遣者"]
["氏名",null,null,null,"　",null,null,null,null,null,null,null,null,null,null,null,null,null,null,"最寄駅/バス停"]
[]
["③旅費",null,null,null,{"$f":"\"↓（申請時）様式\"&IF(A3=\"芸術家の派遣事業\",4,6)&\"に転記してください\n　 （報告時）様式\"&IF(A3=\"芸術家の派遣事業\",10,12)&\"に転記してください\"","v":"↓（申請時）様式6に転記してください\n　 （報告時）様式12に転記してください"},null,null,null,null,null,null,null,null,null,null,null,null,null,"※本事業の旅費基準に従って計上してください。\n※乗り換え毎に行を分けて記入してください。\n※交通機関名欄は、プルダウンより選択してください。\n※距離を必ず記入してください。"]
[]
["旅費合計\n（a+b+c+d)",null,null,null,{"$f":"SUM(AB41:AM41)","v":0},null,null,null,null,null,null,"円"]
[]
["日付",null,null,null,"曜日",null,"移動区間",null,null,null,null,null,null,"※交通機関名",null,null,null,null,"※距離\n(㎞)",null,null,"運賃\n乗車券",null,null,"特急\n急行料金",null,null,"交通費\n小計",null,null,"車賃",null,null,"日当",null,null,"宿泊費",null,null,"宿泊地"]
[null,null,null,null,null,null,"発地",null,null,"→","着地"]
[null,null,null,null,{"$f":"IF(A23=\"\",\"\",A23)","v":""},null,null,null,null,"→",null,null,null,null,null,null,null,null,null,null,null,null,null,null,null,null,null,{"$f":"SUM(V23:AA23)","v":0}]
[null,null,null,null,"",null,null,null,null,"→",null,null,null,null,null,null,null,null,null,null,null,null,null,null,null,null,null,0]
[null,null,null,null,"",null,null,null,null,"→",null,null,null,null,null,null,null,null,null,null,null,null,null,null,null,null,null,0]
[null,null,null,null,"",null,null,null,null,"→",null,null,null,null,null,null,null,null,null,null,null,null,null,null,null,null,null,0]
[null,null,null,null,"",null,null,null,null,"→",null,null,null,null,null,null,null,null,null,null,null,null,null,null,null,null,null,0]
[null,null,null,null,"",null,null,null,null,"→",null,null,null,null,null,null,null,null,null,null,null,null,null,null,null,null,null,0]
[null,null,null,null,"",null,null,null,null,"→",null,null,null,null,null,null,null,null,null,null,null,null,null,null,null,null,null,0]
[null,null,null,null,"",null,null,null,null,"→",null,null,null,null,null,null,null,null,null,null,null,null,null,null,null,null,null,0]
[null,null,null,null,"",null,null,null,null,"→",null,null,null,null,null,null,null,null,null,null,null,null,null,null,null,null,null,0]
[null,null,null,null,"",null,null,null,null,"→",null,null,null,null,null,null,null,null,null,null,null,null,null,null,null,null,null,0]
[null,null,null,null,"",null,null,null,null,"→",null,null,null,null,null,null,null,null,null,null,null,null,null,null,null,null,null,0]
[null,null,null,null,{"$f":"IF(A34=\"\",\"\",A34)","v":""},null,null,null,null,"→",null,null,null,null,null,null,null,null,null,null,null,null,null,null,null,null,null,{"$f":"SUM(V34:AA34)","v":0}]
[null,null,null,null,{"$f":"IF(A35=\"\",\"\",A35)","v":""},null,null,null,null,"→",null,null,null,null,null,null,null,null,null,null,null,null,null,null,null,null,null,{"$f":"SUM(V35:AA35)","v":0}]
[null,null,null,null,{"$f":"IF(A36=\"\",\"\",A36)","v":""},null,null,null,null,"→",null,null,null,null,null,null,null,null,null,null,null,null,null,null,null,null,null,{"$f":"SUM(V36:AA36)","v":0}]
[null,null,null,null,{"$f":"IF(A37=\"\",\"\",A37)","v":""},null,null,null,null,"→",null,null,null,null,null,null,null,null,null,null,null,null,null,null,null,null,null,{"$f":"SUM(V37:AA37)","v":0}]
[null,null,null,null,{"$f":"IF(A38=\"\",\"\",A38)","v":""},null,null,null,null,"→",null,null,null,null,null,null,null,null,null,null,null,null,null,null,null,null,null,{"$f":"SUM(V38:AA38)","v":0}]
[null,null,null,null,"",null,null,null,null,"→",null,null,null,null,null,null,null,null,null,null,null,null,null,null,null,null,null,0]
["合　計",null,null,null,null,null,null,null,null,null,null,null,null,null,null,null,null,null,null,null,null,null,null,null,null,null,null,"a",null,null,"b",null,null,"c",null,null,"d"]
[null,null,null,null,null,null,null,null,null,null,null,null,null,null,null,null,null,null,null,null,null,null,null,null,null,null,null,{"$f":"SUM(AB23:AD39)","v":0},null,null,{"$f":"ROUNDDOWN((SUMIFS(S23:U39,N23:P39,\"自家用車\")),0)*37","v":0},null,null,{"$f":"SUM(AH23:AJ39)","v":0},null,null,{"$f":"SUM(AK23:AM39)","v":0}]
[]
["(備　考)",null,null,null,null,"※出発地が現住所と異なる場合は出発地（駅名/バス停名）及びその理由を記入してください"]
[]
[]
["※本事業で得た個人情報は、本事業内のみで使用します。"]
["※本事業の専用ウェブページにあるに同意していただいたものとします。"]

{"sheet":"申報【様式７】⑫（共通）","index":22,"n_rows":47,"n_cols":40,"rows_kept":47,"cut":false,"hidden":true,"merged":[[40,36,40,38],[41,0,41,41],[42,0,42,3],[43,0,44,41],[38,39,38,41],[39,0,40,26],[39,27,39,29],[39,30,39,32],[39,33,39,35],[39,36,39,38],[39,39,40,41],[40,27,40,29],[40,30,40,32],[40,33,40,35],[38,21,38,23],[38,24,38,26],[38,27,38,29],[38,30,38,32],[38,33,38,35],[38,36,38,38],[37,30,37,32],[37,33,37,35],[37,36,37,38],[37,39,37,41],[38,0,38,3],[38,4,38,5],[38,6,38,8],[38,10,38,12],[38,13,38,17],[38,18,38,20],[37,0,37,3],[37,4,37,5],[37,6,37,8],[37,10,37,12],[37,13,37,17],[37,18,37,20],[37,21,37,23],[37,24,37,26],[37,27,37,29],[35,30,35,32],[35,33,35,35],[35,36,35,38],[35,39,35,41],[36,0,36,3],[36,4,36,5],[36,6,36,8],[36,10,36,12],[36,13,36,17],[36,18,36,20],[36,39,36,41],[36,21,36,23],[36,24,36,26],[36,27,36,29],[36,30,36,32],[36,33,36,35],[36,36,36,38],[35,0,35,3],[35,4,35,5],[35,6,35,8],[35,10,35,12],[35,13,35,17],[35,18,35,20],[35,21,35,23],[35,24,35,26],[35,27,35,29],[33,30,33,32],[33,33,33,35],[33,36,33,38],[33,39,33,41],[34,0,34,3],[34,4,34,5],[34,6,34,8],[34,10,34,12],[34,13,34,17],[34,18,34,20],[34,39,34,41],[34,21,34,23],[34,24,34,26],[34,27,34,29],[34,30,34,32],[34,33,34,35],[34,36,34,38],[33,0,33,3],[33,4,33,5],[33,6,33,8],[33,10,33,12],[33,13,33,17],[33,18,33,20],[33,21,33,23],[33,24,33,26],[33,27,33,29],[31,30,31,32],[31,33,31,35],[31,36,31,38],[31,39,31,41],[32,0,32,3],[32,4,32,5],[32,6,32,8],[32,10,32,12],[32,13,32,17],[32,18,32,20],[32,39,32,41],[32,21,32,23],[32,24,32,26],[32,27,32,29],[32,30,32,32],[32,33,32,35],[32,36,32,38],[31,0,31,3],[31,4,31,5],[31,6,31,8],[31,10,31,12],[31,13,31,17],[31,18,31,20],[31,21,31,23],[31,24,31,26],[31,27,31,29],[29,30,29,32],[29,33,29,35],[29,36,29,38],[29,39,29,41],[30,0,30,3],[30,4,30,5],[30,6,30,8],[30,10,30,12],[30,13,30,17],[30,18,30,20],[30,39,30,41],[30,21,30,23],[30,24,30,26],[30,27,30,29],[30,30,30,32],[30,33,30,35],[30,36,30,38],[29,0,29,3],[29,4,29,5],[29,6,29,8],[29,10,29,12],[29,13,29,17],[29,18,29,20],[29,21,29,23],[29,24,29,26],[29,27,29,29],[27,30,27,32],[27,33,27,35],[27,36,27,38],[27,39,27,41],[28,0,28,3],[28,4,28,5],[28,6,28,8],[28,10,28,12],[28,13,28,17],[28,18,28,20],[28,39,28,41],[28,21,28,23],[28,24,28,26],[28,27,28,29],[28,30,28,32],[28,33,28,35],[28,36,28,38],[27,0,27,3],[27,4,27,5],[27,6,27,8],[27,10,27,12],[27,13,27,17],[27,18,27,20],[27,21,27,23],[27,24,27,26],[27,27,27,29],[25,30,25,32],[25,33,25,35],[25,36,25,38],[25,39,25,41],[26,0,26,3],[26,4,26,5],[26,6,26,8],[26,10,26,12],[26,13,26,17],[26,18,26,20],[26,39,26,41],[26,21,26,23],[26,24,26,26],[26,27,26,29],[26,30,26,32],[26,33,26,35],[26,36,26,38],[25,0,25,3],[25,4,25,5],[25,6,25,8],[25,10,25,12],[25,13,25,17],[25,18,25,20],[25,21,25,23],[25,24,25,26],[25,27,25,29],[23,36,23,38],[23,39,23,41],[24,0,24,3],[24,4,24,5],[24,6,24,8],[24,10,24,12],[24,13,24,17],[24,18,24,20],[24,39,24,41],[24,21,24,23],[24,24,24,26],[24,27,24,29],[24,30,24,32],[24,33,24,35],[24,36,24,38],[22,39,22,41],[23,0,23,3],[23,4,23,5],[23,6,23,8],[23,10,23,12],[23,13,23,17],[23,18,23,20],[23,21,23,23],[23,24,23,26],[23,27,23,29],[22,21,22,23],[22,24,22,26],[22,27,22,29],[22,30,22,32],[22,33,22,35],[22,36,22,38],[22,0,22,3],[22,4,22,5],[22,6,22,8],[22,10,22,12],[22,13,22,17],[22,18,22,20],[23,30,23,32],[23,33,23,35],[20,24,21,26],[20,27,21,29],[20,30,21,32],[20,33,21,35],[20,36,21,38],[20,39,21,41],[20,0,21,3],[20,4,21,5],[20,6,20,12],[20,13,21,17],[20,18,21,20],[20,21,21,23],[21,6,21,8],[21,10,21,12],[12,0,12,41],[8,26,8,29],[8,30,8,31],[8,32,8,35],[8,36,8,37],[8,38,8,41],[9,0,9,41],[16,0,17,3],[16,4,17,17],[16,18,19,41],[18,0,19,3],[18,4,19,10],[18,11,19,12],[18,13,19,13],[13,5,13,28],[14,0,14,3],[14,4,14,18],[14,19,14,25],[14,26,14,41],[15,0,15,41],[7,20,7,23],[7,24,7,25],[7,26,7,29],[7,30,7,31],[10,4,10,41],[11,0,11,3],[11,4,11,18],[11,19,11,25],[11,26,11,41],[5,0,5,4],[5,5,5,12],[7,0,8,5],[7,6,7,7],[7,8,7,11],[7,12,7,13],[0,0,0,2],[0,3,0,41],[1,0,1,41],[2,0,2,41],[3,0,3,41],[4,0,4,41],[7,32,7,35],[7,36,7,37],[7,38,7,41],[8,6,8,7],[8,8,8,11],[8,12,8,13],[8,14,8,17],[8,18,8,19],[8,20,8,23],[8,24,8,25],[7,14,7,17],[7,18,7,19]]}
["様式７"]
["令和５年度文化芸術による子供育成推進事業"]
[{"$f":"IF('申【様式１】（共通）'!E14=\"\",\"\",'申【様式１】（共通）'!E14)","v":""}]
["旅費計算書"]
[]
["都道府県・\n政令指定都市名",null,null,null,null,{"$f":"IF('申【様式１】（共通）'!E4=\"\",\"\",'申【様式１】（共通）'!E4)","v":""}]
[]
["実施日",null,null,null,null,null,"第1回",null,{"$f":"IF($A$3=\"芸術家の派遣事業\",'申【様式３・４】（派遣）'!E21,'申【様式５・６】（コミュ）'!E44)","v":"00:00:00"},null,null,null,"第2回",null,{"$f":"IF($A$3=\"芸術家の派遣事業\",'申【様式３・４】（派遣）'!E39,'申【様式５・６】（コミュ）'!E49)","v":"00:00:00"},null,null,null,"第3回",null,{"$f":"IF($A$3=\"芸術家の派遣事業\",'申【様式３・４】（派遣）'!E57,'申【様式５・６】（コミュ）'!E54)","v":"00:00:00"},null,null,null,{"$f":"IF($A$3=\"コミュニケーション能力向上事業\",\"第4回\",\"\")","v":""},null,{"$f":"IF($A$3=\"芸術家の派遣事業\",\"\",'申【様式５・６】（コミュ）'!E59)","v":"00:00:00"},null,null,null,{"$f":"IF($A$3=\"コミュニケーション能力向上事業\",\"第5回\",\"\")","v":""},null,{"$f":"IF($A$3=\"芸術家の派遣事業\",\"\",'申【様式５・６】（コミュ）'!E64)","v":"00:00:00"},null,null,null,{"$f":"IF($A$3=\"コミュニケーション能力向上事業\",\"第6回\",\"\")","v":""},null,{"$f":"IF($A$3=\"芸術家の派遣事業\",\"\",'申【様式５・６】（コミュ）'!E72)","v":"00:00:00"}]
[null,null,null,null,null,null,{"$f":"IF($A$3=\"コミュニケーション能力向上事業\",\"第7回\",\"\")","v":""},null,{"$f":"IF($A$3=\"芸術家の派遣事業\",\"\",'申【様式５・６】（コミュ）'!$E77)","v":"00:00:00"},null,null,null,{"$f":"IF($A$3=\"コミュニケーション能力向上事業\",\"第8回\",\"\")","v":""},null,{"$f":"IF($A$3=\"芸術家の派遣事業\",\"\",'申【様式５・６】（コミュ）'!$E82)","v":"00:00:00"},null,null,null,{"$f":"IF($A$3=\"コミュニケーション能力向上事業\",\"第9回\",\"\")","v":""},null,{"$f":"IF($A$3=\"芸術家の派遣事業\",\"\",'申【様式５・６】（コミュ）'!$E87)","v":"00:00:00"},null,null,null,{"$f":"IF($A$3=\"コミュニケーション能力向上事業\",\"第10回\",\"\")","v":""},null,{"$f":"IF($A$3=\"芸術家の派遣事業\",\"\",'申【様式５・６】（コミュ）'!$E92)","v":"00:00:00"},null,null,null,{"$f":"IF($A$3=\"コミュニケーション能力向上事業\",\"第11回\",\"\")","v":""},null,{"$f":"IF($A$3=\"芸術家の派遣事業\",\"\",'申【様式５・６】（コミュ）'!$E100)","v":"00:00:00"},null,null,null,{"$f":"IF($A$3=\"コミュニケーション能力向上事業\",\"第12回\",\"\")","v":""},null,{"$f":"IF($A$3=\"芸術家の派遣事業\",\"\",'申【様式５・６】（コミュ）'!$E105)","v":"00:00:00"}]
[]
["①派遣先"]
["学校名",null,null,null,{"$f":"IF('申【様式１】（共通）'!E8=\"\",\"\",'申【様式１】（共通）'!E8)","v":""},null,null,null,null,null,null,null,null,null,null,null,null,null,null,"最寄駅/バス停",null,null,null,null,null,null,{"$f":"IF('申【様式１】（共通）'!M12=\"\",\"\",'申【様式１】（共通）'!M12)","v":""}]
[]
["②被派遣者"]
["氏名",null,null,null,"　",null,null,null,null,null,null,null,null,null,null,null,null,null,null,"最寄駅/バス停"]
[]
["③旅費",null,null,null,{"$f":"\"↓（申請時）様式\"&IF(A3=\"芸術家の派遣事業\",4,6)&\"に転記してください\n　 （報告時）様式\"&IF(A3=\"芸術家の派遣事業\",10,12)&\"に転記してください\"","v":"↓（申請時）様式6に転記してください\n　 （報告時）様式12に転記してください"},null,null,null,null,null,null,null,null,null,null,null,null,null,"※本事業の旅費基準に従って計上してください。\n※乗り換え毎に行を分けて記入してください。\n※交通機関名欄は、プルダウンより選択してください。\n※距離を必ず記入してください。"]
[]
["旅費合計\n（a+b+c+d)",null,null,null,{"$f":"SUM(AB41:AM41)","v":0},null,null,null,null,null,null,"円"]
[]
["日付",null,null,null,"曜日",null,"移動区間",null,null,null,null,null,null,"※交通機関名",null,null,null,null,"※距離\n(㎞)",null,null,"運賃\n乗車券",null,null,"特急\n急行料金",null,null,"交通費\n小計",null,null,"車賃",null,null,"日当",null,null,"宿泊費",null,null,"宿泊地"]
[null,null,null,null,null,null,"発地",null,null,"→","着地"]
[null,null,null,null,{"$f":"IF(A23=\"\",\"\",A23)","v":""},null,null,null,null,"→",null,null,null,null,null,null,null,null,null,null,null,null,null,null,null,null,null,{"$f":"SUM(V23:AA23)","v":0}]
[null,null,null,null,"",null,null,null,null,"→",null,null,null,null,null,null,null,null,null,null,null,null,null,null,null,null,null,0]
[null,null,null,null,"",null,null,null,null,"→",null,null,null,null,null,null,null,null,null,null,null,null,null,null,null,null,null,0]
[null,null,null,null,"",null,null,null,null,"→",null,null,null,null,null,null,null,null,null,null,null,null,null,null,null,null,null,0]
[null,null,null,null,"",null,null,null,null,"→",null,null,null,null,null,null,null,null,null,null,null,null,null,null,null,null,null,0]
[null,null,null,null,"",null,null,null,null,"→",null,null,null,null,null,null,null,null,null,null,null,null,null,null,null,null,null,0]
[null,null,null,null,"",null,null,null,null,"→",null,null,null,null,null,null,null,null,null,null,null,null,null,null,null,null,null,0]
[null,null,null,null,"",null,null,null,null,"→",null,null,null,null,null,null,null,null,null,null,null,null,null,null,null,null,null,0]
[null,null,null,null,"",null,null,null,null,"→",null,null,null,null,null,null,null,null,null,null,null,null,null,null,null,null,null,0]
[null,null,null,null,"",null,null,null,null,"→",null,null,null,null,null,null,null,null,null,null,null,null,null,null,null,null,null,0]
[null,null,null,null,"",null,null,null,null,"→",null,null,null,null,null,null,null,null,null,null,null,null,null,null,null,null,null,0]
[null,null,null,null,{"$f":"IF(A34=\"\",\"\",A34)","v":""},null,null,null,null,"→",null,null,null,null,null,null,null,null,null,null,null,null,null,null,null,null,null,{"$f":"SUM(V34:AA34)","v":0}]
[null,null,null,null,{"$f":"IF(A35=\"\",\"\",A35)","v":""},null,null,null,null,"→",null,null,null,null,null,null,null,null,null,null,null,null,null,null,null,null,null,{"$f":"SUM(V35:AA35)","v":0}]
[null,null,null,null,{"$f":"IF(A36=\"\",\"\",A36)","v":""},null,null,null,null,"→",null,null,null,null,null,null,null,null,null,null,null,null,null,null,null,null,null,{"$f":"SUM(V36:AA36)","v":0}]
[null,null,null,null,{"$f":"IF(A37=\"\",\"\",A37)","v":""},null,null,null,null,"→",null,null,null,null,null,null,null,null,null,null,null,null,null,null,null,null,null,{"$f":"SUM(V37:AA37)","v":0}]
[null,null,null,null,{"$f":"IF(A38=\"\",\"\",A38)","v":""},null,null,null,null,"→",null,null,null,null,null,null,null,null,null,null,null,null,null,null,null,null,null,{"$f":"SUM(V38:AA38)","v":0}]
[null,null,null,null,"",null,null,null,null,"→",null,null,null,null,null,null,null,null,null,null,null,null,null,null,null,null,null,0]
["合　計",null,null,null,null,null,null,null,null,null,null,null,null,null,null,null,null,null,null,null,null,null,null,null,null,null,null,"a",null,null,"b",null,null,"c",null,null,"d"]
[null,null,null,null,null,null,null,null,null,null,null,null,null,null,null,null,null,null,null,null,null,null,null,null,null,null,null,{"$f":"SUM(AB23:AD39)","v":0},null,null,{"$f":"ROUNDDOWN((SUMIFS(S23:U39,N23:P39,\"自家用車\")),0)*37","v":0},null,null,{"$f":"SUM(AH23:AJ39)","v":0},null,null,{"$f":"SUM(AK23:AM39)","v":0}]
[]
["(備　考)",null,null,null,null,"※出発地が現住所と異なる場合は出発地（駅名/バス停名）及びその理由を記入してください"]
[]
[]
["※本事業で得た個人情報は、本事業内のみで使用します。"]
["※本事業の専用ウェブページにあるに同意していただいたものとします。"]

{"sheet":"申報【様式７】⑬（共通）","index":23,"n_rows":47,"n_cols":40,"rows_kept":47,"cut":false,"hidden":true,"merged":[[40,36,40,38],[41,0,41,41],[42,0,42,3],[43,0,44,41],[38,39,38,41],[39,0,40,26],[39,27,39,29],[39,30,39,32],[39,33,39,35],[39,36,39,38],[39,39,40,41],[40,27,40,29],[40,30,40,32],[40,33,40,35],[38,21,38,23],[38,24,38,26],[38,27,38,29],[38,30,38,32],[38,33,38,35],[38,36,38,38],[37,30,37,32],[37,33,37,35],[37,36,37,38],[37,39,37,41],[38,0,38,3],[38,4,38,5],[38,6,38,8],[38,10,38,12],[38,13,38,17],[38,18,38,20],[37,0,37,3],[37,4,37,5],[37,6,37,8],[37,10,37,12],[37,13,37,17],[37,18,37,20],[37,21,37,23],[37,24,37,26],[37,27,37,29],[35,30,35,32],[35,33,35,35],[35,36,35,38],[35,39,35,41],[36,0,36,3],[36,4,36,5],[36,6,36,8],[36,10,36,12],[36,13,36,17],[36,18,36,20],[36,39,36,41],[36,21,36,23],[36,24,36,26],[36,27,36,29],[36,30,36,32],[36,33,36,35],[36,36,36,38],[35,0,35,3],[35,4,35,5],[35,6,35,8],[35,10,35,12],[35,13,35,17],[35,18,35,20],[35,21,35,23],[35,24,35,26],[35,27,35,29],[33,30,33,32],[33,33,33,35],[33,36,33,38],[33,39,33,41],[34,0,34,3],[34,4,34,5],[34,6,34,8],[34,10,34,12],[34,13,34,17],[34,18,34,20],[34,39,34,41],[34,21,34,23],[34,24,34,26],[34,27,34,29],[34,30,34,32],[34,33,34,35],[34,36,34,38],[33,0,33,3],[33,4,33,5],[33,6,33,8],[33,10,33,12],[33,13,33,17],[33,18,33,20],[33,21,33,23],[33,24,33,26],[33,27,33,29],[31,30,31,32],[31,33,31,35],[31,36,31,38],[31,39,31,41],[32,0,32,3],[32,4,32,5],[32,6,32,8],[32,10,32,12],[32,13,32,17],[32,18,32,20],[32,39,32,41],[32,21,32,23],[32,24,32,26],[32,27,32,29],[32,30,32,32],[32,33,32,35],[32,36,32,38],[31,0,31,3],[31,4,31,5],[31,6,31,8],[31,10,31,12],[31,13,31,17],[31,18,31,20],[31,21,31,23],[31,24,31,26],[31,27,31,29],[29,30,29,32],[29,33,29,35],[29,36,29,38],[29,39,29,41],[30,0,30,3],[30,4,30,5],[30,6,30,8],[30,10,30,12],[30,13,30,17],[30,18,30,20],[30,39,30,41],[30,21,30,23],[30,24,30,26],[30,27,30,29],[30,30,30,32],[30,33,30,35],[30,36,30,38],[29,0,29,3],[29,4,29,5],[29,6,29,8],[29,10,29,12],[29,13,29,17],[29,18,29,20],[29,21,29,23],[29,24,29,26],[29,27,29,29],[27,30,27,32],[27,33,27,35],[27,36,27,38],[27,39,27,41],[28,0,28,3],[28,4,28,5],[28,6,28,8],[28,10,28,12],[28,13,28,17],[28,18,28,20],[28,39,28,41],[28,21,28,23],[28,24,28,26],[28,27,28,29],[28,30,28,32],[28,33,28,35],[28,36,28,38],[27,0,27,3],[27,4,27,5],[27,6,27,8],[27,10,27,12],[27,13,27,17],[27,18,27,20],[27,21,27,23],[27,24,27,26],[27,27,27,29],[25,30,25,32],[25,33,25,35],[25,36,25,38],[25,39,25,41],[26,0,26,3],[26,4,26,5],[26,6,26,8],[26,10,26,12],[26,13,26,17],[26,18,26,20],[26,39,26,41],[26,21,26,23],[26,24,26,26],[26,27,26,29],[26,30,26,32],[26,33,26,35],[26,36,26,38],[25,0,25,3],[25,4,25,5],[25,6,25,8],[25,10,25,12],[25,13,25,17],[25,18,25,20],[25,21,25,23],[25,24,25,26],[25,27,25,29],[23,36,23,38],[23,39,23,41],[24,0,24,3],[24,4,24,5],[24,6,24,8],[24,10,24,12],[24,13,24,17],[24,18,24,20],[24,39,24,41],[24,21,24,23],[24,24,24,26],[24,27,24,29],[24,30,24,32],[24,33,24,35],[24,36,24,38],[22,39,22,41],[23,0,23,3],[23,4,23,5],[23,6,23,8],[23,10,23,12],[23,13,23,17],[23,18,23,20],[23,21,23,23],[23,24,23,26],[23,27,23,29],[22,21,22,23],[22,24,22,26],[22,27,22,29],[22,30,22,32],[22,33,22,35],[22,36,22,38],[22,0,22,3],[22,4,22,5],[22,6,22,8],[22,10,22,12],[22,13,22,17],[22,18,22,20],[23,30,23,32],[23,33,23,35],[20,24,21,26],[20,27,21,29],[20,30,21,32],[20,33,21,35],[20,36,21,38],[20,39,21,41],[20,0,21,3],[20,4,21,5],[20,6,20,12],[20,13,21,17],[20,18,21,20],[20,21,21,23],[21,6,21,8],[21,10,21,12],[12,0,12,41],[8,26,8,29],[8,30,8,31],[8,32,8,35],[8,36,8,37],[8,38,8,41],[9,0,9,41],[16,0,17,3],[16,4,17,17],[16,18,19,41],[18,0,19,3],[18,4,19,10],[18,11,19,12],[18,13,19,13],[13,5,13,28],[14,0,14,3],[14,4,14,18],[14,19,14,25],[14,26,14,41],[15,0,15,41],[7,20,7,23],[7,24,7,25],[7,26,7,29],[7,30,7,31],[10,4,10,41],[11,0,11,3],[11,4,11,18],[11,19,11,25],[11,26,11,41],[5,0,5,4],[5,5,5,12],[7,0,8,5],[7,6,7,7],[7,8,7,11],[7,12,7,13],[0,0,0,2],[0,3,0,41],[1,0,1,41],[2,0,2,41],[3,0,3,41],[4,0,4,41],[7,32,7,35],[7,36,7,37],[7,38,7,41],[8,6,8,7],[8,8,8,11],[8,12,8,13],[8,14,8,17],[8,18,8,19],[8,20,8,23],[8,24,8,25],[7,14,7,17],[7,18,7,19]]}
["様式７"]
["令和５年度文化芸術による子供育成推進事業"]
[{"$f":"IF('申【様式１】（共通）'!E14=\"\",\"\",'申【様式１】（共通）'!E14)","v":""}]
["旅費計算書"]
[]
["都道府県・\n政令指定都市名",null,null,null,null,{"$f":"IF('申【様式１】（共通）'!E4=\"\",\"\",'申【様式１】（共通）'!E4)","v":""}]
[]
["実施日",null,null,null,null,null,"第1回",null,{"$f":"IF($A$3=\"芸術家の派遣事業\",'申【様式３・４】（派遣）'!E21,'申【様式５・６】（コミュ）'!E44)","v":"00:00:00"},null,null,null,"第2回",null,{"$f":"IF($A$3=\"芸術家の派遣事業\",'申【様式３・４】（派遣）'!E39,'申【様式５・６】（コミュ）'!E49)","v":"00:00:00"},null,null,null,"第3回",null,{"$f":"IF($A$3=\"芸術家の派遣事業\",'申【様式３・４】（派遣）'!E57,'申【様式５・６】（コミュ）'!E54)","v":"00:00:00"},null,null,null,{"$f":"IF($A$3=\"コミュニケーション能力向上事業\",\"第4回\",\"\")","v":""},null,{"$f":"IF($A$3=\"芸術家の派遣事業\",\"\",'申【様式５・６】（コミュ）'!E59)","v":"00:00:00"},null,null,null,{"$f":"IF($A$3=\"コミュニケーション能力向上事業\",\"第5回\",\"\")","v":""},null,{"$f":"IF($A$3=\"芸術家の派遣事業\",\"\",'申【様式５・６】（コミュ）'!E64)","v":"00:00:00"},null,null,null,{"$f":"IF($A$3=\"コミュニケーション能力向上事業\",\"第6回\",\"\")","v":""},null,{"$f":"IF($A$3=\"芸術家の派遣事業\",\"\",'申【様式５・６】（コミュ）'!E72)","v":"00:00:00"}]
[null,null,null,null,null,null,{"$f":"IF($A$3=\"コミュニケーション能力向上事業\",\"第7回\",\"\")","v":""},null,{"$f":"IF($A$3=\"芸術家の派遣事業\",\"\",'申【様式５・６】（コミュ）'!$E77)","v":"00:00:00"},null,null,null,{"$f":"IF($A$3=\"コミュニケーション能力向上事業\",\"第8回\",\"\")","v":""},null,{"$f":"IF($A$3=\"芸術家の派遣事業\",\"\",'申【様式５・６】（コミュ）'!$E82)","v":"00:00:00"},null,null,null,{"$f":"IF($A$3=\"コミュニケーション能力向上事業\",\"第9回\",\"\")","v":""},null,{"$f":"IF($A$3=\"芸術家の派遣事業\",\"\",'申【様式５・６】（コミュ）'!$E87)","v":"00:00:00"},null,null,null,{"$f":"IF($A$3=\"コミュニケーション能力向上事業\",\"第10回\",\"\")","v":""},null,{"$f":"IF($A$3=\"芸術家の派遣事業\",\"\",'申【様式５・６】（コミュ）'!$E92)","v":"00:00:00"},null,null,null,{"$f":"IF($A$3=\"コミュニケーション能力向上事業\",\"第11回\",\"\")","v":""},null,{"$f":"IF($A$3=\"芸術家の派遣事業\",\"\",'申【様式５・６】（コミュ）'!$E100)","v":"00:00:00"},null,null,null,{"$f":"IF($A$3=\"コミュニケーション能力向上事業\",\"第12回\",\"\")","v":""},null,{"$f":"IF($A$3=\"芸術家の派遣事業\",\"\",'申【様式５・６】（コミュ）'!$E105)","v":"00:00:00"}]
[]
["①派遣先"]
["学校名",null,null,null,{"$f":"IF('申【様式１】（共通）'!E8=\"\",\"\",'申【様式１】（共通）'!E8)","v":""},null,null,null,null,null,null,null,null,null,null,null,null,null,null,"最寄駅/バス停",null,null,null,null,null,null,{"$f":"IF('申【様式１】（共通）'!M12=\"\",\"\",'申【様式１】（共通）'!M12)","v":""}]
[]
["②被派遣者"]
["氏名",null,null,null,"　",null,null,null,null,null,null,null,null,null,null,null,null,null,null,"最寄駅/バス停"]
[]
["③旅費",null,null,null,{"$f":"\"↓（申請時）様式\"&IF(A3=\"芸術家の派遣事業\",4,6)&\"に転記してください\n　 （報告時）様式\"&IF(A3=\"芸術家の派遣事業\",10,12)&\"に転記してください\"","v":"↓（申請時）様式6に転記してください\n　 （報告時）様式12に転記してください"},null,null,null,null,null,null,null,null,null,null,null,null,null,"※本事業の旅費基準に従って計上してください。\n※乗り換え毎に行を分けて記入してください。\n※交通機関名欄は、プルダウンより選択してください。\n※距離を必ず記入してください。"]
[]
["旅費合計\n（a+b+c+d)",null,null,null,{"$f":"SUM(AB41:AM41)","v":0},null,null,null,null,null,null,"円"]
[]
["日付",null,null,null,"曜日",null,"移動区間",null,null,null,null,null,null,"※交通機関名",null,null,null,null,"※距離\n(㎞)",null,null,"運賃\n乗車券",null,null,"特急\n急行料金",null,null,"交通費\n小計",null,null,"車賃",null,null,"日当",null,null,"宿泊費",null,null,"宿泊地"]
[null,null,null,null,null,null,"発地",null,null,"→","着地"]
[null,null,null,null,{"$f":"IF(A23=\"\",\"\",A23)","v":""},null,null,null,null,"→",null,null,null,null,null,null,null,null,null,null,null,null,null,null,null,null,null,{"$f":"SUM(V23:AA23)","v":0}]
[null,null,null,null,"",null,null,null,null,"→",null,null,null,null,null,null,null,null,null,null,null,null,null,null,null,null,null,0]
[null,null,null,null,"",null,null,null,null,"→",null,null,null,null,null,null,null,null,null,null,null,null,null,null,null,null,null,0]
[null,null,null,null,"",null,null,null,null,"→",null,null,null,null,null,null,null,null,null,null,null,null,null,null,null,null,null,0]
[null,null,null,null,"",null,null,null,null,"→",null,null,null,null,null,null,null,null,null,null,null,null,null,null,null,null,null,0]
[null,null,null,null,"",null,null,null,null,"→",null,null,null,null,null,null,null,null,null,null,null,null,null,null,null,null,null,0]
[null,null,null,null,"",null,null,null,null,"→",null,null,null,null,null,null,null,null,null,null,null,null,null,null,null,null,null,0]
[null,null,null,null,"",null,null,null,null,"→",null,null,null,null,null,null,null,null,null,null,null,null,null,null,null,null,null,0]
[null,null,null,null,"",null,null,null,null,"→",null,null,null,null,null,null,null,null,null,null,null,null,null,null,null,null,null,0]
[null,null,null,null,"",null,null,null,null,"→",null,null,null,null,null,null,null,null,null,null,null,null,null,null,null,null,null,0]
[null,null,null,null,"",null,null,null,null,"→",null,null,null,null,null,null,null,null,null,null,null,null,null,null,null,null,null,0]
[null,null,null,null,{"$f":"IF(A34=\"\",\"\",A34)","v":""},null,null,null,null,"→",null,null,null,null,null,null,null,null,null,null,null,null,null,null,null,null,null,{"$f":"SUM(V34:AA34)","v":0}]
[null,null,null,null,{"$f":"IF(A35=\"\",\"\",A35)","v":""},null,null,null,null,"→",null,null,null,null,null,null,null,null,null,null,null,null,null,null,null,null,null,{"$f":"SUM(V35:AA35)","v":0}]
[null,null,null,null,{"$f":"IF(A36=\"\",\"\",A36)","v":""},null,null,null,null,"→",null,null,null,null,null,null,null,null,null,null,null,null,null,null,null,null,null,{"$f":"SUM(V36:AA36)","v":0}]
[null,null,null,null,{"$f":"IF(A37=\"\",\"\",A37)","v":""},null,null,null,null,"→",null,null,null,null,null,null,null,null,null,null,null,null,null,null,null,null,null,{"$f":"SUM(V37:AA37)","v":0}]
[null,null,null,null,{"$f":"IF(A38=\"\",\"\",A38)","v":""},null,null,null,null,"→",null,null,null,null,null,null,null,null,null,null,null,null,null,null,null,null,null,{"$f":"SUM(V38:AA38)","v":0}]
[null,null,null,null,"",null,null,null,null,"→",null,null,null,null,null,null,null,null,null,null,null,null,null,null,null,null,null,0]
["合　計",null,null,null,null,null,null,null,null,null,null,null,null,null,null,null,null,null,null,null,null,null,null,null,null,null,null,"a",null,null,"b",null,null,"c",null,null,"d"]
[null,null,null,null,null,null,null,null,null,null,null,null,null,null,null,null,null,null,null,null,null,null,null,null,null,null,null,{"$f":"SUM(AB23:AD39)","v":0},null,null,{"$f":"ROUNDDOWN((SUMIFS(S23:U39,N23:P39,\"自家用車\")),0)*37","v":0},null,null,{"$f":"SUM(AH23:AJ39)","v":0},null,null,{"$f":"SUM(AK23:AM39)","v":0}]
[]
["(備　考)",null,null,null,null,"※出発地が現住所と異なる場合は出発地（駅名/バス停名）及びその理由を記入してください"]
[]
[]
["※本事業で得た個人情報は、本事業内のみで使用します。"]
["※本事業の専用ウェブページにあるに同意していただいたものとします。"]

{"sheet":"申報【様式７】⑭（共通）","index":24,"n_rows":47,"n_cols":40,"rows_kept":47,"cut":false,"hidden":true,"merged":[[40,36,40,38],[41,0,41,41],[42,0,42,3],[43,0,44,41],[38,39,38,41],[39,0,40,26],[39,27,39,29],[39,30,39,32],[39,33,39,35],[39,36,39,38],[39,39,40,41],[40,27,40,29],[40,30,40,32],[40,33,40,35],[38,21,38,23],[38,24,38,26],[38,27,38,29],[38,30,38,32],[38,33,38,35],[38,36,38,38],[37,30,37,32],[37,33,37,35],[37,36,37,38],[37,39,37,41],[38,0,38,3],[38,4,38,5],[38,6,38,8],[38,10,38,12],[38,13,38,17],[38,18,38,20],[37,0,37,3],[37,4,37,5],[37,6,37,8],[37,10,37,12],[37,13,37,17],[37,18,37,20],[37,21,37,23],[37,24,37,26],[37,27,37,29],[35,30,35,32],[35,33,35,35],[35,36,35,38],[35,39,35,41],[36,0,36,3],[36,4,36,5],[36,6,36,8],[36,10,36,12],[36,13,36,17],[36,18,36,20],[36,39,36,41],[36,21,36,23],[36,24,36,26],[36,27,36,29],[36,30,36,32],[36,33,36,35],[36,36,36,38],[35,0,35,3],[35,4,35,5],[35,6,35,8],[35,10,35,12],[35,13,35,17],[35,18,35,20],[35,21,35,23],[35,24,35,26],[35,27,35,29],[33,30,33,32],[33,33,33,35],[33,36,33,38],[33,39,33,41],[34,0,34,3],[34,4,34,5],[34,6,34,8],[34,10,34,12],[34,13,34,17],[34,18,34,20],[34,39,34,41],[34,21,34,23],[34,24,34,26],[34,27,34,29],[34,30,34,32],[34,33,34,35],[34,36,34,38],[33,0,33,3],[33,4,33,5],[33,6,33,8],[33,10,33,12],[33,13,33,17],[33,18,33,20],[33,21,33,23],[33,24,33,26],[33,27,33,29],[31,30,31,32],[31,33,31,35],[31,36,31,38],[31,39,31,41],[32,0,32,3],[32,4,32,5],[32,6,32,8],[32,10,32,12],[32,13,32,17],[32,18,32,20],[32,39,32,41],[32,21,32,23],[32,24,32,26],[32,27,32,29],[32,30,32,32],[32,33,32,35],[32,36,32,38],[31,0,31,3],[31,4,31,5],[31,6,31,8],[31,10,31,12],[31,13,31,17],[31,18,31,20],[31,21,31,23],[31,24,31,26],[31,27,31,29],[29,30,29,32],[29,33,29,35],[29,36,29,38],[29,39,29,41],[30,0,30,3],[30,4,30,5],[30,6,30,8],[30,10,30,12],[30,13,30,17],[30,18,30,20],[30,39,30,41],[30,21,30,23],[30,24,30,26],[30,27,30,29],[30,30,30,32],[30,33,30,35],[30,36,30,38],[29,0,29,3],[29,4,29,5],[29,6,29,8],[29,10,29,12],[29,13,29,17],[29,18,29,20],[29,21,29,23],[29,24,29,26],[29,27,29,29],[27,30,27,32],[27,33,27,35],[27,36,27,38],[27,39,27,41],[28,0,28,3],[28,4,28,5],[28,6,28,8],[28,10,28,12],[28,13,28,17],[28,18,28,20],[28,39,28,41],[28,21,28,23],[28,24,28,26],[28,27,28,29],[28,30,28,32],[28,33,28,35],[28,36,28,38],[27,0,27,3],[27,4,27,5],[27,6,27,8],[27,10,27,12],[27,13,27,17],[27,18,27,20],[27,21,27,23],[27,24,27,26],[27,27,27,29],[25,30,25,32],[25,33,25,35],[25,36,25,38],[25,39,25,41],[26,0,26,3],[26,4,26,5],[26,6,26,8],[26,10,26,12],[26,13,26,17],[26,18,26,20],[26,39,26,41],[26,21,26,23],[26,24,26,26],[26,27,26,29],[26,30,26,32],[26,33,26,35],[26,36,26,38],[25,0,25,3],[25,4,25,5],[25,6,25,8],[25,10,25,12],[25,13,25,17],[25,18,25,20],[25,21,25,23],[25,24,25,26],[25,27,25,29],[23,36,23,38],[23,39,23,41],[24,0,24,3],[24,4,24,5],[24,6,24,8],[24,10,24,12],[24,13,24,17],[24,18,24,20],[24,39,24,41],[24,21,24,23],[24,24,24,26],[24,27,24,29],[24,30,24,32],[24,33,24,35],[24,36,24,38],[22,39,22,41],[23,0,23,3],[23,4,23,5],[23,6,23,8],[23,10,23,12],[23,13,23,17],[23,18,23,20],[23,21,23,23],[23,24,23,26],[23,27,23,29],[22,21,22,23],[22,24,22,26],[22,27,22,29],[22,30,22,32],[22,33,22,35],[22,36,22,38],[22,0,22,3],[22,4,22,5],[22,6,22,8],[22,10,22,12],[22,13,22,17],[22,18,22,20],[23,30,23,32],[23,33,23,35],[20,24,21,26],[20,27,21,29],[20,30,21,32],[20,33,21,35],[20,36,21,38],[20,39,21,41],[20,0,21,3],[20,4,21,5],[20,6,20,12],[20,13,21,17],[20,18,21,20],[20,21,21,23],[21,6,21,8],[21,10,21,12],[12,0,12,41],[8,26,8,29],[8,30,8,31],[8,32,8,35],[8,36,8,37],[8,38,8,41],[9,0,9,41],[16,0,17,3],[16,4,17,17],[16,18,19,41],[18,0,19,3],[18,4,19,10],[18,11,19,12],[18,13,19,13],[13,5,13,28],[14,0,14,3],[14,4,14,18],[14,19,14,25],[14,26,14,41],[15,0,15,41],[7,20,7,23],[7,24,7,25],[7,26,7,29],[7,30,7,31],[10,4,10,41],[11,0,11,3],[11,4,11,18],[11,19,11,25],[11,26,11,41],[5,0,5,4],[5,5,5,12],[7,0,8,5],[7,6,7,7],[7,8,7,11],[7,12,7,13],[0,0,0,2],[0,3,0,41],[1,0,1,41],[2,0,2,41],[3,0,3,41],[4,0,4,41],[7,32,7,35],[7,36,7,37],[7,38,7,41],[8,6,8,7],[8,8,8,11],[8,12,8,13],[8,14,8,17],[8,18,8,19],[8,20,8,23],[8,24,8,25],[7,14,7,17],[7,18,7,19]]}
["様式７"]
["令和５年度文化芸術による子供育成推進事業"]
[{"$f":"IF('申【様式１】（共通）'!E14=\"\",\"\",'申【様式１】（共通）'!E14)","v":""}]
["旅費計算書"]
[]
["都道府県・\n政令指定都市名",null,null,null,null,{"$f":"IF('申【様式１】（共通）'!E4=\"\",\"\",'申【様式１】（共通）'!E4)","v":""}]
[]
["実施日",null,null,null,null,null,"第1回",null,{"$f":"IF($A$3=\"芸術家の派遣事業\",'申【様式３・４】（派遣）'!E21,'申【様式５・６】（コミュ）'!E44)","v":"00:00:00"},null,null,null,"第2回",null,{"$f":"IF($A$3=\"芸術家の派遣事業\",'申【様式３・４】（派遣）'!E39,'申【様式５・６】（コミュ）'!E49)","v":"00:00:00"},null,null,null,"第3回",null,{"$f":"IF($A$3=\"芸術家の派遣事業\",'申【様式３・４】（派遣）'!E57,'申【様式５・６】（コミュ）'!E54)","v":"00:00:00"},null,null,null,{"$f":"IF($A$3=\"コミュニケーション能力向上事業\",\"第4回\",\"\")","v":""},null,{"$f":"IF($A$3=\"芸術家の派遣事業\",\"\",'申【様式５・６】（コミュ）'!E59)","v":"00:00:00"},null,null,null,{"$f":"IF($A$3=\"コミュニケーション能力向上事業\",\"第5回\",\"\")","v":""},null,{"$f":"IF($A$3=\"芸術家の派遣事業\",\"\",'申【様式５・６】（コミュ）'!E64)","v":"00:00:00"},null,null,null,{"$f":"IF($A$3=\"コミュニケーション能力向上事業\",\"第6回\",\"\")","v":""},null,{"$f":"IF($A$3=\"芸術家の派遣事業\",\"\",'申【様式５・６】（コミュ）'!E72)","v":"00:00:00"}]
[null,null,null,null,null,null,{"$f":"IF($A$3=\"コミュニケーション能力向上事業\",\"第7回\",\"\")","v":""},null,{"$f":"IF($A$3=\"芸術家の派遣事業\",\"\",'申【様式５・６】（コミュ）'!$E77)","v":"00:00:00"},null,null,null,{"$f":"IF($A$3=\"コミュニケーション能力向上事業\",\"第8回\",\"\")","v":""},null,{"$f":"IF($A$3=\"芸術家の派遣事業\",\"\",'申【様式５・６】（コミュ）'!$E82)","v":"00:00:00"},null,null,null,{"$f":"IF($A$3=\"コミュニケーション能力向上事業\",\"第9回\",\"\")","v":""},null,{"$f":"IF($A$3=\"芸術家の派遣事業\",\"\",'申【様式５・６】（コミュ）'!$E87)","v":"00:00:00"},null,null,null,{"$f":"IF($A$3=\"コミュニケーション能力向上事業\",\"第10回\",\"\")","v":""},null,{"$f":"IF($A$3=\"芸術家の派遣事業\",\"\",'申【様式５・６】（コミュ）'!$E92)","v":"00:00:00"},null,null,null,{"$f":"IF($A$3=\"コミュニケーション能力向上事業\",\"第11回\",\"\")","v":""},null,{"$f":"IF($A$3=\"芸術家の派遣事業\",\"\",'申【様式５・６】（コミュ）'!$E100)","v":"00:00:00"},null,null,null,{"$f":"IF($A$3=\"コミュニケーション能力向上事業\",\"第12回\",\"\")","v":""},null,{"$f":"IF($A$3=\"芸術家の派遣事業\",\"\",'申【様式５・６】（コミュ）'!$E105)","v":"00:00:00"}]
[]
["①派遣先"]
["学校名",null,null,null,{"$f":"IF('申【様式１】（共通）'!E8=\"\",\"\",'申【様式１】（共通）'!E8)","v":""},null,null,null,null,null,null,null,null,null,null,null,null,null,null,"最寄駅/バス停",null,null,null,null,null,null,{"$f":"IF('申【様式１】（共通）'!M12=\"\",\"\",'申【様式１】（共通）'!M12)","v":""}]
[]
["②被派遣者"]
["氏名",null,null,null,"　",null,null,null,null,null,null,null,null,null,null,null,null,null,null,"最寄駅/バス停"]
[]
["③旅費",null,null,null,{"$f":"\"↓（申請時）様式\"&IF(A3=\"芸術家の派遣事業\",4,6)&\"に転記してください\n　 （報告時）様式\"&IF(A3=\"芸術家の派遣事業\",10,12)&\"に転記してください\"","v":"↓（申請時）様式6に転記してください\n　 （報告時）様式12に転記してください"},null,null,null,null,null,null,null,null,null,null,null,null,null,"※本事業の旅費基準に従って計上してください。\n※乗り換え毎に行を分けて記入してください。\n※交通機関名欄は、プルダウンより選択してください。\n※距離を必ず記入してください。"]
[]
["旅費合計\n（a+b+c+d)",null,null,null,{"$f":"SUM(AB41:AM41)","v":0},null,null,null,null,null,null,"円"]
[]
["日付",null,null,null,"曜日",null,"移動区間",null,null,null,null,null,null,"※交通機関名",null,null,null,null,"※距離\n(㎞)",null,null,"運賃\n乗車券",null,null,"特急\n急行料金",null,null,"交通費\n小計",null,null,"車賃",null,null,"日当",null,null,"宿泊費",null,null,"宿泊地"]
[null,null,null,null,null,null,"発地",null,null,"→","着地"]
[null,null,null,null,{"$f":"IF(A23=\"\",\"\",A23)","v":""},null,null,null,null,"→",null,null,null,null,null,null,null,null,null,null,null,null,null,null,null,null,null,{"$f":"SUM(V23:AA23)","v":0}]
[null,null,null,null,"",null,null,null,null,"→",null,null,null,null,null,null,null,null,null,null,null,null,null,null,null,null,null,0]
[null,null,null,null,"",null,null,null,null,"→",null,null,null,null,null,null,null,null,null,null,null,null,null,null,null,null,null,0]
[null,null,null,null,"",null,null,null,null,"→",null,null,null,null,null,null,null,null,null,null,null,null,null,null,null,null,null,0]
[null,null,null,null,"",null,null,null,null,"→",null,null,null,null,null,null,null,null,null,null,null,null,null,null,null,null,null,0]
[null,null,null,null,"",null,null,null,null,"→",null,null,null,null,null,null,null,null,null,null,null,null,null,null,null,null,null,0]
[null,null,null,null,"",null,null,null,null,"→",null,null,null,null,null,null,null,null,null,null,null,null,null,null,null,null,null,0]
[null,null,null,null,"",null,null,null,null,"→",null,null,null,null,null,null,null,null,null,null,null,null,null,null,null,null,null,0]
[null,null,null,null,"",null,null,null,null,"→",null,null,null,null,null,null,null,null,null,null,null,null,null,null,null,null,null,0]
[null,null,null,null,"",null,null,null,null,"→",null,null,null,null,null,null,null,null,null,null,null,null,null,null,null,null,null,0]
[null,null,null,null,"",null,null,null,null,"→",null,null,null,null,null,null,null,null,null,null,null,null,null,null,null,null,null,0]
[null,null,null,null,{"$f":"IF(A34=\"\",\"\",A34)","v":""},null,null,null,null,"→",null,null,null,null,null,null,null,null,null,null,null,null,null,null,null,null,null,{"$f":"SUM(V34:AA34)","v":0}]
[null,null,null,null,{"$f":"IF(A35=\"\",\"\",A35)","v":""},null,null,null,null,"→",null,null,null,null,null,null,null,null,null,null,null,null,null,null,null,null,null,{"$f":"SUM(V35:AA35)","v":0}]
[null,null,null,null,{"$f":"IF(A36=\"\",\"\",A36)","v":""},null,null,null,null,"→",null,null,null,null,null,null,null,null,null,null,null,null,null,null,null,null,null,{"$f":"SUM(V36:AA36)","v":0}]
[null,null,null,null,{"$f":"IF(A37=\"\",\"\",A37)","v":""},null,null,null,null,"→",null,null,null,null,null,null,null,null,null,null,null,null,null,null,null,null,null,{"$f":"SUM(V37:AA37)","v":0}]
[null,null,null,null,{"$f":"IF(A38=\"\",\"\",A38)","v":""},null,null,null,null,"→",null,null,null,null,null,null,null,null,null,null,null,null,null,null,null,null,null,{"$f":"SUM(V38:AA38)","v":0}]
[null,null,null,null,"",null,null,null,null,"→",null,null,null,null,null,null,null,null,null,null,null,null,null,null,null,null,null,0]
["合　計",null,null,null,null,null,null,null,null,null,null,null,null,null,null,null,null,null,null,null,null,null,null,null,null,null,null,"a",null,null,"b",null,null,"c",null,null,"d"]
[null,null,null,null,null,null,null,null,null,null,null,null,null,null,null,null,null,null,null,null,null,null,null,null,null,null,null,{"$f":"SUM(AB23:AD39)","v":0},null,null,{"$f":"ROUNDDOWN((SUMIFS(S23:U39,N23:P39,\"自家用車\")),0)*37","v":0},null,null,{"$f":"SUM(AH23:AJ39)","v":0},null,null,{"$f":"SUM(AK23:AM39)","v":0}]
[]
["(備　考)",null,null,null,null,"※出発地が現住所と異なる場合は出発地（駅名/バス停名）及びその理由を記入してください"]
[]
[]
["※本事業で得た個人情報は、本事業内のみで使用します。"]
["※本事業の専用ウェブページにあるに同意していただいたものとします。"]

{"sheet":"申報【様式７】⑮（共通）","index":25,"n_rows":47,"n_cols":40,"rows_kept":47,"cut":false,"hidden":true,"merged":[[40,36,40,38],[41,0,41,41],[42,0,42,3],[43,0,44,41],[38,39,38,41],[39,0,40,26],[39,27,39,29],[39,30,39,32],[39,33,39,35],[39,36,39,38],[39,39,40,41],[40,27,40,29],[40,30,40,32],[40,33,40,35],[38,21,38,23],[38,24,38,26],[38,27,38,29],[38,30,38,32],[38,33,38,35],[38,36,38,38],[37,30,37,32],[37,33,37,35],[37,36,37,38],[37,39,37,41],[38,0,38,3],[38,4,38,5],[38,6,38,8],[38,10,38,12],[38,13,38,17],[38,18,38,20],[37,0,37,3],[37,4,37,5],[37,6,37,8],[37,10,37,12],[37,13,37,17],[37,18,37,20],[37,21,37,23],[37,24,37,26],[37,27,37,29],[35,30,35,32],[35,33,35,35],[35,36,35,38],[35,39,35,41],[36,0,36,3],[36,4,36,5],[36,6,36,8],[36,10,36,12],[36,13,36,17],[36,18,36,20],[36,39,36,41],[36,21,36,23],[36,24,36,26],[36,27,36,29],[36,30,36,32],[36,33,36,35],[36,36,36,38],[35,0,35,3],[35,4,35,5],[35,6,35,8],[35,10,35,12],[35,13,35,17],[35,18,35,20],[35,21,35,23],[35,24,35,26],[35,27,35,29],[33,30,33,32],[33,33,33,35],[33,36,33,38],[33,39,33,41],[34,0,34,3],[34,4,34,5],[34,6,34,8],[34,10,34,12],[34,13,34,17],[34,18,34,20],[34,39,34,41],[34,21,34,23],[34,24,34,26],[34,27,34,29],[34,30,34,32],[34,33,34,35],[34,36,34,38],[33,0,33,3],[33,4,33,5],[33,6,33,8],[33,10,33,12],[33,13,33,17],[33,18,33,20],[33,21,33,23],[33,24,33,26],[33,27,33,29],[31,30,31,32],[31,33,31,35],[31,36,31,38],[31,39,31,41],[32,0,32,3],[32,4,32,5],[32,6,32,8],[32,10,32,12],[32,13,32,17],[32,18,32,20],[32,39,32,41],[32,21,32,23],[32,24,32,26],[32,27,32,29],[32,30,32,32],[32,33,32,35],[32,36,32,38],[31,0,31,3],[31,4,31,5],[31,6,31,8],[31,10,31,12],[31,13,31,17],[31,18,31,20],[31,21,31,23],[31,24,31,26],[31,27,31,29],[29,30,29,32],[29,33,29,35],[29,36,29,38],[29,39,29,41],[30,0,30,3],[30,4,30,5],[30,6,30,8],[30,10,30,12],[30,13,30,17],[30,18,30,20],[30,39,30,41],[30,21,30,23],[30,24,30,26],[30,27,30,29],[30,30,30,32],[30,33,30,35],[30,36,30,38],[29,0,29,3],[29,4,29,5],[29,6,29,8],[29,10,29,12],[29,13,29,17],[29,18,29,20],[29,21,29,23],[29,24,29,26],[29,27,29,29],[27,30,27,32],[27,33,27,35],[27,36,27,38],[27,39,27,41],[28,0,28,3],[28,4,28,5],[28,6,28,8],[28,10,28,12],[28,13,28,17],[28,18,28,20],[28,39,28,41],[28,21,28,23],[28,24,28,26],[28,27,28,29],[28,30,28,32],[28,33,28,35],[28,36,28,38],[27,0,27,3],[27,4,27,5],[27,6,27,8],[27,10,27,12],[27,13,27,17],[27,18,27,20],[27,21,27,23],[27,24,27,26],[27,27,27,29],[25,30,25,32],[25,33,25,35],[25,36,25,38],[25,39,25,41],[26,0,26,3],[26,4,26,5],[26,6,26,8],[26,10,26,12],[26,13,26,17],[26,18,26,20],[26,39,26,41],[26,21,26,23],[26,24,26,26],[26,27,26,29],[26,30,26,32],[26,33,26,35],[26,36,26,38],[25,0,25,3],[25,4,25,5],[25,6,25,8],[25,10,25,12],[25,13,25,17],[25,18,25,20],[25,21,25,23],[25,24,25,26],[25,27,25,29],[23,36,23,38],[23,39,23,41],[24,0,24,3],[24,4,24,5],[24,6,24,8],[24,10,24,12],[24,13,24,17],[24,18,24,20],[24,39,24,41],[24,21,24,23],[24,24,24,26],[24,27,24,29],[24,30,24,32],[24,33,24,35],[24,36,24,38],[22,39,22,41],[23,0,23,3],[23,4,23,5],[23,6,23,8],[23,10,23,12],[23,13,23,17],[23,18,23,20],[23,21,23,23],[23,24,23,26],[23,27,23,29],[22,21,22,23],[22,24,22,26],[22,27,22,29],[22,30,22,32],[22,33,22,35],[22,36,22,38],[22,0,22,3],[22,4,22,5],[22,6,22,8],[22,10,22,12],[22,13,22,17],[22,18,22,20],[23,30,23,32],[23,33,23,35],[20,24,21,26],[20,27,21,29],[20,30,21,32],[20,33,21,35],[20,36,21,38],[20,39,21,41],[20,0,21,3],[20,4,21,5],[20,6,20,12],[20,13,21,17],[20,18,21,20],[20,21,21,23],[21,6,21,8],[21,10,21,12],[12,0,12,41],[8,26,8,29],[8,30,8,31],[8,32,8,35],[8,36,8,37],[8,38,8,41],[9,0,9,41],[16,0,17,3],[16,4,17,17],[16,18,19,41],[18,0,19,3],[18,4,19,10],[18,11,19,12],[18,13,19,13],[13,5,13,28],[14,0,14,3],[14,4,14,18],[14,19,14,25],[14,26,14,41],[15,0,15,41],[7,20,7,23],[7,24,7,25],[7,26,7,29],[7,30,7,31],[10,4,10,41],[11,0,11,3],[11,4,11,18],[11,19,11,25],[11,26,11,41],[5,0,5,4],[5,5,5,12],[7,0,8,5],[7,6,7,7],[7,8,7,11],[7,12,7,13],[0,0,0,2],[0,3,0,41],[1,0,1,41],[2,0,2,41],[3,0,3,41],[4,0,4,41],[7,32,7,35],[7,36,7,37],[7,38,7,41],[8,6,8,7],[8,8,8,11],[8,12,8,13],[8,14,8,17],[8,18,8,19],[8,20,8,23],[8,24,8,25],[7,14,7,17],[7,18,7,19]]}
["様式７"]
["令和５年度文化芸術による子供育成推進事業"]
[{"$f":"IF('申【様式１】（共通）'!E14=\"\",\"\",'申【様式１】（共通）'!E14)","v":""}]
["旅費計算書"]
[]
["都道府県・\n政令指定都市名",null,null,null,null,{"$f":"IF('申【様式１】（共通）'!E4=\"\",\"\",'申【様式１】（共通）'!E4)","v":""}]
[]
["実施日",null,null,null,null,null,"第1回",null,{"$f":"IF($A$3=\"芸術家の派遣事業\",'申【様式３・４】（派遣）'!E21,'申【様式５・６】（コミュ）'!E44)","v":"00:00:00"},null,null,null,"第2回",null,{"$f":"IF($A$3=\"芸術家の派遣事業\",'申【様式３・４】（派遣）'!E39,'申【様式５・６】（コミュ）'!E49)","v":"00:00:00"},null,null,null,"第3回",null,{"$f":"IF($A$3=\"芸術家の派遣事業\",'申【様式３・４】（派遣）'!E57,'申【様式５・６】（コミュ）'!E54)","v":"00:00:00"},null,null,null,{"$f":"IF($A$3=\"コミュニケーション能力向上事業\",\"第4回\",\"\")","v":""},null,{"$f":"IF($A$3=\"芸術家の派遣事業\",\"\",'申【様式５・６】（コミュ）'!E59)","v":"00:00:00"},null,null,null,{"$f":"IF($A$3=\"コミュニケーション能力向上事業\",\"第5回\",\"\")","v":""},null,{"$f":"IF($A$3=\"芸術家の派遣事業\",\"\",'申【様式５・６】（コミュ）'!E64)","v":"00:00:00"},null,null,null,{"$f":"IF($A$3=\"コミュニケーション能力向上事業\",\"第6回\",\"\")","v":""},null,{"$f":"IF($A$3=\"芸術家の派遣事業\",\"\",'申【様式５・６】（コミュ）'!E72)","v":"00:00:00"}]
[null,null,null,null,null,null,{"$f":"IF($A$3=\"コミュニケーション能力向上事業\",\"第7回\",\"\")","v":""},null,{"$f":"IF($A$3=\"芸術家の派遣事業\",\"\",'申【様式５・６】（コミュ）'!$E77)","v":"00:00:00"},null,null,null,{"$f":"IF($A$3=\"コミュニケーション能力向上事業\",\"第8回\",\"\")","v":""},null,{"$f":"IF($A$3=\"芸術家の派遣事業\",\"\",'申【様式５・６】（コミュ）'!$E82)","v":"00:00:00"},null,null,null,{"$f":"IF($A$3=\"コミュニケーション能力向上事業\",\"第9回\",\"\")","v":""},null,{"$f":"IF($A$3=\"芸術家の派遣事業\",\"\",'申【様式５・６】（コミュ）'!$E87)","v":"00:00:00"},null,null,null,{"$f":"IF($A$3=\"コミュニケーション能力向上事業\",\"第10回\",\"\")","v":""},null,{"$f":"IF($A$3=\"芸術家の派遣事業\",\"\",'申【様式５・６】（コミュ）'!$E92)","v":"00:00:00"},null,null,null,{"$f":"IF($A$3=\"コミュニケーション能力向上事業\",\"第11回\",\"\")","v":""},null,{"$f":"IF($A$3=\"芸術家の派遣事業\",\"\",'申【様式５・６】（コミュ）'!$E100)","v":"00:00:00"},null,null,null,{"$f":"IF($A$3=\"コミュニケーション能力向上事業\",\"第12回\",\"\")","v":""},null,{"$f":"IF($A$3=\"芸術家の派遣事業\",\"\",'申【様式５・６】（コミュ）'!$E105)","v":"00:00:00"}]
[]
["①派遣先"]
["学校名",null,null,null,{"$f":"IF('申【様式１】（共通）'!E8=\"\",\"\",'申【様式１】（共通）'!E8)","v":""},null,null,null,null,null,null,null,null,null,null,null,null,null,null,"最寄駅/バス停",null,null,null,null,null,null,{"$f":"IF('申【様式１】（共通）'!M12=\"\",\"\",'申【様式１】（共通）'!M12)","v":""}]
[]
["②被派遣者"]
["氏名",null,null,null,"　",null,null,null,null,null,null,null,null,null,null,null,null,null,null,"最寄駅/バス停"]
[]
["③旅費",null,null,null,{"$f":"\"↓（申請時）様式\"&IF(A3=\"芸術家の派遣事業\",4,6)&\"に転記してください\n　 （報告時）様式\"&IF(A3=\"芸術家の派遣事業\",10,12)&\"に転記してください\"","v":"↓（申請時）様式6に転記してください\n　 （報告時）様式12に転記してください"},null,null,null,null,null,null,null,null,null,null,null,null,null,"※本事業の旅費基準に従って計上してください。\n※乗り換え毎に行を分けて記入してください。\n※交通機関名欄は、プルダウンより選択してください。\n※距離を必ず記入してください。"]
[]
["旅費合計\n（a+b+c+d)",null,null,null,{"$f":"SUM(AB41:AM41)","v":0},null,null,null,null,null,null,"円"]
[]
["日付",null,null,null,"曜日",null,"移動区間",null,null,null,null,null,null,"※交通機関名",null,null,null,null,"※距離\n(㎞)",null,null,"運賃\n乗車券",null,null,"特急\n急行料金",null,null,"交通費\n小計",null,null,"車賃",null,null,"日当",null,null,"宿泊費",null,null,"宿泊地"]
[null,null,null,null,null,null,"発地",null,null,"→","着地"]
[null,null,null,null,{"$f":"IF(A23=\"\",\"\",A23)","v":""},null,null,null,null,"→",null,null,null,null,null,null,null,null,null,null,null,null,null,null,null,null,null,{"$f":"SUM(V23:AA23)","v":0}]
[null,null,null,null,"",null,null,null,null,"→",null,null,null,null,null,null,null,null,null,null,null,null,null,null,null,null,null,0]
[null,null,null,null,"",null,null,null,null,"→",null,null,null,null,null,null,null,null,null,null,null,null,null,null,null,null,null,0]
[null,null,null,null,"",null,null,null,null,"→",null,null,null,null,null,null,null,null,null,null,null,null,null,null,null,null,null,0]
[null,null,null,null,"",null,null,null,null,"→",null,null,null,null,null,null,null,null,null,null,null,null,null,null,null,null,null,0]
[null,null,null,null,"",null,null,null,null,"→",null,null,null,null,null,null,null,null,null,null,null,null,null,null,null,null,null,0]
[null,null,null,null,"",null,null,null,null,"→",null,null,null,null,null,null,null,null,null,null,null,null,null,null,null,null,null,0]
[null,null,null,null,"",null,null,null,null,"→",null,null,null,null,null,null,null,null,null,null,null,null,null,null,null,null,null,0]
[null,null,null,null,"",null,null,null,null,"→",null,null,null,null,null,null,null,null,null,null,null,null,null,null,null,null,null,0]
[null,null,null,null,"",null,null,null,null,"→",null,null,null,null,null,null,null,null,null,null,null,null,null,null,null,null,null,0]
[null,null,null,null,"",null,null,null,null,"→",null,null,null,null,null,null,null,null,null,null,null,null,null,null,null,null,null,0]
[null,null,null,null,{"$f":"IF(A34=\"\",\"\",A34)","v":""},null,null,null,null,"→",null,null,null,null,null,null,null,null,null,null,null,null,null,null,null,null,null,{"$f":"SUM(V34:AA34)","v":0}]
[null,null,null,null,{"$f":"IF(A35=\"\",\"\",A35)","v":""},null,null,null,null,"→",null,null,null,null,null,null,null,null,null,null,null,null,null,null,null,null,null,{"$f":"SUM(V35:AA35)","v":0}]
[null,null,null,null,{"$f":"IF(A36=\"\",\"\",A36)","v":""},null,null,null,null,"→",null,null,null,null,null,null,null,null,null,null,null,null,null,null,null,null,null,{"$f":"SUM(V36:AA36)","v":0}]
[null,null,null,null,{"$f":"IF(A37=\"\",\"\",A37)","v":""},null,null,null,null,"→",null,null,null,null,null,null,null,null,null,null,null,null,null,null,null,null,null,{"$f":"SUM(V37:AA37)","v":0}]
[null,null,null,null,{"$f":"IF(A38=\"\",\"\",A38)","v":""},null,null,null,null,"→",null,null,null,null,null,null,null,null,null,null,null,null,null,null,null,null,null,{"$f":"SUM(V38:AA38)","v":0}]
[null,null,null,null,"",null,null,null,null,"→",null,null,null,null,null,null,null,null,null,null,null,null,null,null,null,null,null,0]
["合　計",null,null,null,null,null,null,null,null,null,null,null,null,null,null,null,null,null,null,null,null,null,null,null,null,null,null,"a",null,null,"b",null,null,"c",null,null,"d"]
[null,null,null,null,null,null,null,null,null,null,null,null,null,null,null,null,null,null,null,null,null,null,null,null,null,null,null,{"$f":"SUM(AB23:AD39)","v":0},null,null,{"$f":"ROUNDDOWN((SUMIFS(S23:U39,N23:P39,\"自家用車\")),0)*37","v":0},null,null,{"$f":"SUM(AH23:AJ39)","v":0},null,null,{"$f":"SUM(AK23:AM39)","v":0}]
[]
["(備　考)",null,null,null,null,"※出発地が現住所と異なる場合は出発地（駅名/バス停名）及びその理由を記入してください"]
[]
[]
["※本事業で得た個人情報は、本事業内のみで使用します。"]
["※本事業の専用ウェブページにあるに同意していただいたものとします。"]

{"sheet":"【様式１１・１２】（コミュ）計算シート","index":26,"n_rows":195,"n_cols":12,"rows_kept":195,"cut":false,"hidden":true,"merged":[]}
["①",{"$f":"'報【様式１１・１２】 （コミュ）'!B37","v":""},{"$f":"(H1*35650)+(J1*5200)+(L1*1070)","v":0},null,null,null,"講師",{"$f":"IF(COUNTIF(D2:D13,\"講師\")>0,COUNTIF(F2:F13,1),\"0\")","v":"0"},"実技",{"$f":"SUM(J2:J13)","v":0},"単労",{"$f":"SUM(L2:L13)","v":0}]
[null,{"$f":"IF('報【様式１１・１２】 （コミュ）'!$G$35=\"\",\"\",'報【様式１１・１２】 （コミュ）'!$G$35)","v":""},{"$f":"'報【様式１１・１２】 （コミュ）'!$G$36","v":""},{"$f":"'報【様式１１・１２】 （コミュ）'!$G$37","v":""},{"$f":"B2&D2","v":""},{"$f":"IF(D2=\"\",\"\",COUNTIF($E$2:E2,E2))","v":""},null,null,null,{"$f":"IF(AND(F2=1,SUMIFS($C$2:$C$13,$E$2:$E$13,B2&$I$1)>3),3,IF(AND(F2=1,SUMIFS($C$2:$C$13,$E$2:$E$13,B2&$I$1)<=3),SUMIFS($C$2:$C$13,$E$2:$E$13,B2&$I$1),\"\"))","v":""}]
[null,{"$f":"IF('報【様式１１・１２】 （コミュ）'!$I$35=\"\",\"\",'報【様式１１・１２】 （コミュ）'!$I$35)","v":""},{"$f":"'報【様式１１・１２】 （コミュ）'!$I$36","v":""},{"$f":"'報【様式１１・１２】 （コミュ）'!$I$37","v":""},{"$f":"B3&D3","v":""},{"$f":"IF(D3=\"\",\"\",COUNTIF($E$2:E3,E3))","v":""},null,null,null,{"$f":"IF(AND(F3=1,SUMIFS($C$2:$C$13,$E$2:$E$13,B3&$I$1)>3),3,IF(AND(F3=1,SUMIFS($C$2:$C$13,$E$2:$E$13,B3&$I$1)<=3),SUMIFS($C$2:$C$13,$E$2:$E$13,B3&$I$1),\"\"))","v":""}]
[null,{"$f":"IF('報【様式１１・１２】 （コミュ）'!$K$35=\"\",\"\",'報【様式１１・１２】 （コミュ）'!$K$35)","v":""},{"$f":"'報【様式１１・１２】 （コミュ）'!$K$36","v":""},{"$f":"'報【様式１１・１２】 （コミュ）'!$K$37","v":""},"",{"$f":"IF(D4=\"\",\"\",COUNTIF($E$2:E4,E4))","v":""},null,null,null,""]
[null,{"$f":"IF('報【様式１１・１２】 （コミュ）'!$M$35=\"\",\"\",'報【様式１１・１２】 （コミュ）'!$M$35)","v":""},{"$f":"'報【様式１１・１２】 （コミュ）'!$M$36","v":""},{"$f":"'報【様式１１・１２】 （コミュ）'!$M$37","v":""},"",{"$f":"IF(D5=\"\",\"\",COUNTIF($E$2:E5,E5))","v":""},null,null,null,""]
[null,{"$f":"IF('報【様式１１・１２】 （コミュ）'!$O$35=\"\",\"\",'報【様式１１・１２】 （コミュ）'!$O$35)","v":""},{"$f":"'報【様式１１・１２】 （コミュ）'!$O$36","v":""},{"$f":"'報【様式１１・１２】 （コミュ）'!$O$37","v":""},"",{"$f":"IF(D6=\"\",\"\",COUNTIF($E$2:E6,E6))","v":""},null,null,null,""]
[null,{"$f":"IF('報【様式１１・１２】 （コミュ）'!$Q$35=\"\",\"\",'報【様式１１・１２】 （コミュ）'!$Q$35)","v":""},{"$f":"'報【様式１１・１２】 （コミュ）'!$Q$36","v":""},{"$f":"'報【様式１１・１２】 （コミュ）'!$Q$37","v":""},"",{"$f":"IF(D7=\"\",\"\",COUNTIF($E$2:E7,E7))","v":""},null,null,null,""]
[null,{"$f":"IF('報【様式１１・１２】 （コミュ）'!$S$35=\"\",\"\",'報【様式１１・１２】 （コミュ）'!$S$35)","v":""},{"$f":"'報【様式１１・１２】 （コミュ）'!$S$36","v":""},{"$f":"'報【様式１１・１２】 （コミュ）'!$S$37","v":""},"",{"$f":"IF(D8=\"\",\"\",COUNTIF($E$2:E8,E8))","v":""},null,null,null,""]
[null,{"$f":"IF('報【様式１１・１２】 （コミュ）'!$U$35=\"\",\"\",'報【様式１１・１２】 （コミュ）'!$U$35)","v":""},{"$f":"'報【様式１１・１２】 （コミュ）'!$U$36","v":""},{"$f":"'報【様式１１・１２】 （コミュ）'!$U$37","v":""},"",{"$f":"IF(D9=\"\",\"\",COUNTIF($E$2:E9,E9))","v":""},null,null,null,""]
[null,{"$f":"IF('報【様式１１・１２】 （コミュ）'!$W$35=\"\",\"\",'報【様式１１・１２】 （コミュ）'!$W$35)","v":""},{"$f":"'報【様式１１・１２】 （コミュ）'!$W$36","v":""},{"$f":"'報【様式１１・１２】 （コミュ）'!$W$37","v":""},"",{"$f":"IF(D10=\"\",\"\",COUNTIF($E$2:E10,E10))","v":""},null,null,null,""]
[null,{"$f":"IF('報【様式１１・１２】 （コミュ）'!$Y$35=\"\",\"\",'報【様式１１・１２】 （コミュ）'!$Y$35)","v":""},{"$f":"'報【様式１１・１２】 （コミュ）'!$Y$36","v":""},{"$f":"'報【様式１１・１２】 （コミュ）'!$Y$37","v":""},"",{"$f":"IF(D11=\"\",\"\",COUNTIF($E$2:E11,E11))","v":""},null,null,null,""]
[null,{"$f":"IF('報【様式１１・１２】 （コミュ）'!$AA$35=\"\",\"\",'報【様式１１・１２】 （コミュ）'!$AA$35)","v":""},{"$f":"'報【様式１１・１２】 （コミュ）'!$AA$36","v":""},{"$f":"'報【様式１１・１２】 （コミュ）'!$AA$37","v":""},"",{"$f":"IF(D12=\"\",\"\",COUNTIF($E$2:E12,E12))","v":""},null,null,null,""]
[null,{"$f":"IF('報【様式１１・１２】 （コミュ）'!$AC$35=\"\",\"\",'報【様式１１・１２】 （コミュ）'!$AC$35)","v":""},{"$f":"'報【様式１１・１２】 （コミュ）'!$AC$36","v":""},{"$f":"'報【様式１１・１２】 （コミュ）'!$AC$37","v":""},"",{"$f":"IF(D13=\"\",\"\",COUNTIF($E$2:E13,E13))","v":""},null,null,null,{"$f":"IF(AND(F13=1,SUMIFS($C$2:$C$13,$E$2:$E$13,B13&$I$1)>3),3,IF(AND(F13=1,SUMIFS($C$2:$C$13,$E$2:$E$13,B13&$I$1)<=3),SUMIFS($C$2:$C$13,$E$2:$E$13,B13&$I$1),\"\"))","v":""}]
["②",{"$f":"'報【様式１１・１２】 （コミュ）'!B38","v":""},{"$f":"(H14*35650)+(J14*5200)+(L14*1070)","v":0},null,null,null,"講師",{"$f":"IF(COUNTIF(D15:D26,\"講師\")>0,COUNTIF(F15:F26,1),\"0\")","v":"0"},"実技",{"$f":"SUM(J15:J26)","v":0},"単労",{"$f":"SUM(L15:L26)","v":0}]
[null,{"$f":"IF('報【様式１１・１２】 （コミュ）'!$G$35=\"\",\"\",'報【様式１１・１２】 （コミュ）'!$G$35)","v":""},{"$f":"'報【様式１１・１２】 （コミュ）'!$G$36","v":""},{"$f":"'報【様式１１・１２】 （コミュ）'!$G$38","v":""},{"$f":"B15&D15","v":""},{"$f":"IF(D15=\"\",\"\",COUNTIF($E$15:E15,E15))","v":""},null,null,null,{"$f":"IF(AND(F15=1,SUMIFS($C$15:$C$26,$E$15:$E$26,B15&$I$14)>3),3,IF(AND(F15=1,SUMIFS($C$15:$C$26,$E$15:$E$26,B15&$I$14)<=3),SUMIFS($C$15:$C$26,$E$15:$E$26,B15&$I$14),\"\"))","v":""},null,{"$f":"IF(D15=\"単労\",C15,\"\")","v":""}]
[null,{"$f":"IF('報【様式１１・１２】 （コミュ）'!$I$35=\"\",\"\",'報【様式１１・１２】 （コミュ）'!$I$35)","v":""},{"$f":"'報【様式１１・１２】 （コミュ）'!$I$36","v":""},{"$f":"'報【様式１１・１２】 （コミュ）'!$I$38","v":""},{"$f":"B16&D16","v":""},{"$f":"IF(D16=\"\",\"\",COUNTIF($E$15:E16,E16))","v":""},null,null,null,{"$f":"IF(AND(F16=1,SUMIFS($C$15:$C$26,$E$15:$E$26,B16&$I$14)>3),3,IF(AND(F16=1,SUMIFS($C$15:$C$26,$E$15:$E$26,B16&$I$14)<=3),SUMIFS($C$15:$C$26,$E$15:$E$26,B16&$I$14),\"\"))","v":""},null,{"$f":"IF(D16=\"単労\",C16,\"\")","v":""}]
[null,{"$f":"IF('報【様式１１・１２】 （コミュ）'!$K$35=\"\",\"\",'報【様式１１・１２】 （コミュ）'!$K$35)","v":""},{"$f":"'報【様式１１・１２】 （コミュ）'!$K$36","v":""},{"$f":"'報【様式１１・１２】 （コミュ）'!$K$38","v":""},"",{"$f":"IF(D17=\"\",\"\",COUNTIF($E$15:E17,E17))","v":""},null,null,null,"",null,""]
[null,{"$f":"IF('報【様式１１・１２】 （コミュ）'!$M$35=\"\",\"\",'報【様式１１・１２】 （コミュ）'!$M$35)","v":""},{"$f":"'報【様式１１・１２】 （コミュ）'!$M$36","v":""},{"$f":"'報【様式１１・１２】 （コミュ）'!$M$38","v":""},"",{"$f":"IF(D18=\"\",\"\",COUNTIF($E$15:E18,E18))","v":""},null,null,null,"",null,""]
[null,{"$f":"IF('報【様式１１・１２】 （コミュ）'!$O$35=\"\",\"\",'報【様式１１・１２】 （コミュ）'!$O$35)","v":""},{"$f":"'報【様式１１・１２】 （コミュ）'!$O$36","v":""},{"$f":"'報【様式１１・１２】 （コミュ）'!$O$38","v":""},"",{"$f":"IF(D19=\"\",\"\",COUNTIF($E$15:E19,E19))","v":""},null,null,null,"",null,""]
[null,{"$f":"IF('報【様式１１・１２】 （コミュ）'!$Q$35=\"\",\"\",'報【様式１１・１２】 （コミュ）'!$Q$35)","v":""},{"$f":"'報【様式１１・１２】 （コミュ）'!$Q$36","v":""},{"$f":"'報【様式１１・１２】 （コミュ）'!$Q$38","v":""},"",{"$f":"IF(D20=\"\",\"\",COUNTIF($E$15:E20,E20))","v":""},null,null,null,"",null,""]
[null,{"$f":"IF('報【様式１１・１２】 （コミュ）'!$S$35=\"\",\"\",'報【様式１１・１２】 （コミュ）'!$S$35)","v":""},{"$f":"'報【様式１１・１２】 （コミュ）'!$S$36","v":""},{"$f":"'報【様式１１・１２】 （コミュ）'!$S$38","v":""},"",{"$f":"IF(D21=\"\",\"\",COUNTIF($E$15:E21,E21))","v":""},null,null,null,"",null,""]
[null,{"$f":"IF('報【様式１１・１２】 （コミュ）'!$U$35=\"\",\"\",'報【様式１１・１２】 （コミュ）'!$U$35)","v":""},{"$f":"'報【様式１１・１２】 （コミュ）'!$U$36","v":""},{"$f":"'報【様式１１・１２】 （コミュ）'!$U$38","v":""},"",{"$f":"IF(D22=\"\",\"\",COUNTIF($E$15:E22,E22))","v":""},null,null,null,"",null,""]
[null,{"$f":"IF('報【様式１１・１２】 （コミュ）'!$W$35=\"\",\"\",'報【様式１１・１２】 （コミュ）'!$W$35)","v":""},{"$f":"'報【様式１１・１２】 （コミュ）'!$W$36","v":""},{"$f":"'報【様式１１・１２】 （コミュ）'!$W$38","v":""},"",{"$f":"IF(D23=\"\",\"\",COUNTIF($E$15:E23,E23))","v":""},null,null,null,"",null,""]
[null,{"$f":"IF('報【様式１１・１２】 （コミュ）'!$Y$35=\"\",\"\",'報【様式１１・１２】 （コミュ）'!$Y$35)","v":""},{"$f":"'報【様式１１・１２】 （コミュ）'!$Y$36","v":""},{"$f":"'報【様式１１・１２】 （コミュ）'!$Y$38","v":""},"",{"$f":"IF(D24=\"\",\"\",COUNTIF($E$15:E24,E24))","v":""},null,null,null,"",null,""]
[null,{"$f":"IF('報【様式１１・１２】 （コミュ）'!$AA$35=\"\",\"\",'報【様式１１・１２】 （コミュ）'!$AA$35)","v":""},{"$f":"'報【様式１１・１２】 （コミュ）'!$AA$36","v":""},{"$f":"'報【様式１１・１２】 （コミュ）'!$AA$38","v":""},"",{"$f":"IF(D25=\"\",\"\",COUNTIF($E$15:E25,E25))","v":""},null,null,null,"",null,""]
[null,{"$f":"IF('報【様式１１・１２】 （コミュ）'!$AC$35=\"\",\"\",'報【様式１１・１２】 （コミュ）'!$AC$35)","v":""},{"$f":"'報【様式１１・１２】 （コミュ）'!$AC$36","v":""},{"$f":"'報【様式１１・１２】 （コミュ）'!$AC$38","v":""},"",{"$f":"IF(D26=\"\",\"\",COUNTIF($E$15:E26,E26))","v":""},null,null,null,{"$f":"IF(AND(F26=1,SUMIFS($C$15:$C$26,$E$15:$E$26,B26&$I$14)>3),3,IF(AND(F26=1,SUMIFS($C$15:$C$26,$E$15:$E$26,B26&$I$14)<=3),SUMIFS($C$15:$C$26,$E$15:$E$26,B26&$I$14),\"\"))","v":""},null,""]
["③",{"$f":"'報【様式１１・１２】 （コミュ）'!B39","v":""},{"$f":"(H27*35650)+(J27*5200)+(L27*1070)","v":0},null,null,null,"講師",{"$f":"IF(COUNTIF(D28:D39,\"講師\")>0,COUNTIF(F28:F39,1),\"0\")","v":"0"},"実技",{"$f":"SUM(J28:J39)","v":0},"単労",{"$f":"SUM(L28:L39)","v":0}]
[null,{"$f":"IF('報【様式１１・１２】 （コミュ）'!$G$35=\"\",\"\",'報【様式１１・１２】 （コミュ）'!$G$35)","v":""},{"$f":"'報【様式１１・１２】 （コミュ）'!$G$36","v":""},{"$f":"'報【様式１１・１２】 （コミュ）'!$G$39","v":""},{"$f":"B28&D28","v":""},{"$f":"IF(D28=\"\",\"\",COUNTIF($E$28:E28,E28))","v":""},null,null,null,{"$f":"IF(AND(F28=1,SUMIFS($C$28:$C$39,$E$28:$E$39,B28&$I$27)>3),3,IF(AND(F28=1,SUMIFS($C$28:$C$39,$E$28:$E$39,B28&$I$27)<=3),SUMIFS($C$28:$C$39,$E$28:$E$39,B28&$I$27),\"\"))","v":""},null,{"$f":"IF(D28=\"単労\",C28,\"\")","v":""}]
[null,{"$f":"IF('報【様式１１・１２】 （コミュ）'!$I$35=\"\",\"\",'報【様式１１・１２】 （コミュ）'!$I$35)","v":""},{"$f":"'報【様式１１・１２】 （コミュ）'!$I$36","v":""},{"$f":"'報【様式１１・１２】 （コミュ）'!$I$39","v":""},{"$f":"B29&D29","v":""},{"$f":"IF(D29=\"\",\"\",COUNTIF($E$28:E29,E29))","v":""},null,null,null,{"$f":"IF(AND(F29=1,SUMIFS($C$28:$C$39,$E$28:$E$39,B29&$I$27)>3),3,IF(AND(F29=1,SUMIFS($C$28:$C$39,$E$28:$E$39,B29&$I$27)<=3),SUMIFS($C$28:$C$39,$E$28:$E$39,B29&$I$27),\"\"))","v":""},null,{"$f":"IF(D29=\"単労\",C29,\"\")","v":""}]
[null,{"$f":"IF('報【様式１１・１２】 （コミュ）'!$K$35=\"\",\"\",'報【様式１１・１２】 （コミュ）'!$K$35)","v":""},{"$f":"'報【様式１１・１２】 （コミュ）'!$K$36","v":""},{"$f":"'報【様式１１・１２】 （コミュ）'!$K$39","v":""},"",{"$f":"IF(D30=\"\",\"\",COUNTIF($E$28:E30,E30))","v":""},null,null,null,"",null,""]
[null,{"$f":"IF('報【様式１１・１２】 （コミュ）'!$M$35=\"\",\"\",'報【様式１１・１２】 （コミュ）'!$M$35)","v":""},{"$f":"'報【様式１１・１２】 （コミュ）'!$M$36","v":""},{"$f":"'報【様式１１・１２】 （コミュ）'!$M$39","v":""},"",{"$f":"IF(D31=\"\",\"\",COUNTIF($E$28:E31,E31))","v":""},null,null,null,"",null,""]
[null,{"$f":"IF('報【様式１１・１２】 （コミュ）'!$O$35=\"\",\"\",'報【様式１１・１２】 （コミュ）'!$O$35)","v":""},{"$f":"'報【様式１１・１２】 （コミュ）'!$O$36","v":""},{"$f":"'報【様式１１・１２】 （コミュ）'!$O$39","v":""},"",{"$f":"IF(D32=\"\",\"\",COUNTIF($E$28:E32,E32))","v":""},null,null,null,"",null,""]
[null,{"$f":"IF('報【様式１１・１２】 （コミュ）'!$Q$35=\"\",\"\",'報【様式１１・１２】 （コミュ）'!$Q$35)","v":""},{"$f":"'報【様式１１・１２】 （コミュ）'!$Q$36","v":""},{"$f":"'報【様式１１・１２】 （コミュ）'!$Q$39","v":""},"",{"$f":"IF(D33=\"\",\"\",COUNTIF($E$28:E33,E33))","v":""},null,null,null,"",null,""]
[null,{"$f":"IF('報【様式１１・１２】 （コミュ）'!$S$35=\"\",\"\",'報【様式１１・１２】 （コミュ）'!$S$35)","v":""},{"$f":"'報【様式１１・１２】 （コミュ）'!$S$36","v":""},{"$f":"'報【様式１１・１２】 （コミュ）'!$S$39","v":""},"",{"$f":"IF(D34=\"\",\"\",COUNTIF($E$28:E34,E34))","v":""},null,null,null,"",null,""]
[null,{"$f":"IF('報【様式１１・１２】 （コミュ）'!$U$35=\"\",\"\",'報【様式１１・１２】 （コミュ）'!$U$35)","v":""},{"$f":"'報【様式１１・１２】 （コミュ）'!$U$36","v":""},{"$f":"'報【様式１１・１２】 （コミュ）'!$U$39","v":""},"",{"$f":"IF(D35=\"\",\"\",COUNTIF($E$28:E35,E35))","v":""},null,null,null,"",null,""]
[null,{"$f":"IF('報【様式１１・１２】 （コミュ）'!$W$35=\"\",\"\",'報【様式１１・１２】 （コミュ）'!$W$35)","v":""},{"$f":"'報【様式１１・１２】 （コミュ）'!$W$36","v":""},{"$f":"'報【様式１１・１２】 （コミュ）'!$W$39","v":""},"",{"$f":"IF(D36=\"\",\"\",COUNTIF($E$28:E36,E36))","v":""},null,null,null,"",null,""]
[null,{"$f":"IF('報【様式１１・１２】 （コミュ）'!$Y$35=\"\",\"\",'報【様式１１・１２】 （コミュ）'!$Y$35)","v":""},{"$f":"'報【様式１１・１２】 （コミュ）'!$Y$36","v":""},{"$f":"'報【様式１１・１２】 （コミュ）'!$Y$39","v":""},"",{"$f":"IF(D37=\"\",\"\",COUNTIF($E$28:E37,E37))","v":""},null,null,null,"",null,""]
[null,{"$f":"IF('報【様式１１・１２】 （コミュ）'!$AA$35=\"\",\"\",'報【様式１１・１２】 （コミュ）'!$AA$35)","v":""},{"$f":"'報【様式１１・１２】 （コミュ）'!$AA$36","v":""},{"$f":"'報【様式１１・１２】 （コミュ）'!$AA$39","v":""},"",{"$f":"IF(D38=\"\",\"\",COUNTIF($E$28:E38,E38))","v":""},null,null,null,"",null,""]
[null,{"$f":"IF('報【様式１１・１２】 （コミュ）'!$AC$35=\"\",\"\",'報【様式１１・１２】 （コミュ）'!$AC$35)","v":""},{"$f":"'報【様式１１・１２】 （コミュ）'!$AC$36","v":""},{"$f":"'報【様式１１・１２】 （コミュ）'!$AC$39","v":""},"",{"$f":"IF(D39=\"\",\"\",COUNTIF($E$28:E39,E39))","v":""},null,null,null,"",null,""]
["④",{"$f":"'報【様式１１・１２】 （コミュ）'!B40","v":""},{"$f":"(H40*35650)+(J40*5200)+(L40*1070)","v":0},null,null,null,"講師",{"$f":"IF(COUNTIF(D41:D52,\"講師\")>0,COUNTIF(F41:F52,1),\"0\")","v":"0"},"実技",{"$f":"SUM(J41:J52)","v":0},"単労",{"$f":"SUM(L41:L52)","v":0}]
[null,{"$f":"IF('報【様式１１・１２】 （コミュ）'!$G$35=\"\",\"\",'報【様式１１・１２】 （コミュ）'!$G$35)","v":""},{"$f":"'報【様式１１・１２】 （コミュ）'!$G$36","v":""},{"$f":"'報【様式１１・１２】 （コミュ）'!$G$40","v":""},{"$f":"B41&D41","v":""},{"$f":"IF(D41=\"\",\"\",COUNTIF($E$41:E41,E41))","v":""},null,null,null,{"$f":"IF(AND(F41=1,SUMIFS($C$41:$C$52,$E$41:$E$52,B41&$I$40)>3),3,IF(AND(F41=1,SUMIFS($C$41:$C$52,$E$41:$E$52,B41&$I$40)<=3),SUMIFS($C$41:$C$52,$E$41:$E$52,B41&$I$40),\"\"))","v":""},null,{"$f":"IF(D41=\"単労\",C41,\"\")","v":""}]
[null,{"$f":"IF('報【様式１１・１２】 （コミュ）'!$I$35=\"\",\"\",'報【様式１１・１２】 （コミュ）'!$I$35)","v":""},{"$f":"'報【様式１１・１２】 （コミュ）'!$I$36","v":""},{"$f":"'報【様式１１・１２】 （コミュ）'!$I$40","v":""},{"$f":"B42&D42","v":""},{"$f":"IF(D42=\"\",\"\",COUNTIF($E$41:E42,E42))","v":""},null,null,null,{"$f":"IF(AND(F42=1,SUMIFS($C$41:$C$52,$E$41:$E$52,B42&$I$40)>3),3,IF(AND(F42=1,SUMIFS($C$41:$C$52,$E$41:$E$52,B42&$I$40)<=3),SUMIFS($C$41:$C$52,$E$41:$E$52,B42&$I$40),\"\"))","v":""},null,{"$f":"IF(D42=\"単労\",C42,\"\")","v":""}]
[null,{"$f":"IF('報【様式１１・１２】 （コミュ）'!$K$35=\"\",\"\",'報【様式１１・１２】 （コミュ）'!$K$35)","v":""},{"$f":"'報【様式１１・１２】 （コミュ）'!$K$36","v":""},{"$f":"'報【様式１１・１２】 （コミュ）'!$K$40","v":""},"",{"$f":"IF(D43=\"\",\"\",COUNTIF($E$41:E43,E43))","v":""},null,null,null,"",null,""]
[null,{"$f":"IF('報【様式１１・１２】 （コミュ）'!$M$35=\"\",\"\",'報【様式１１・１２】 （コミュ）'!$M$35)","v":""},{"$f":"'報【様式１１・１２】 （コミュ）'!$M$36","v":""},{"$f":"'報【様式１１・１２】 （コミュ）'!$M$40","v":""},"",{"$f":"IF(D44=\"\",\"\",COUNTIF($E$41:E44,E44))","v":""},null,null,null,"",null,""]
[null,{"$f":"IF('報【様式１１・１２】 （コミュ）'!$O$35=\"\",\"\",'報【様式１１・１２】 （コミュ）'!$O$35)","v":""},{"$f":"'報【様式１１・１２】 （コミュ）'!$O$36","v":""},{"$f":"'報【様式１１・１２】 （コミュ）'!$O$40","v":""},"",{"$f":"IF(D45=\"\",\"\",COUNTIF($E$41:E45,E45))","v":""},null,null,null,"",null,""]
[null,{"$f":"IF('報【様式１１・１２】 （コミュ）'!$Q$35=\"\",\"\",'報【様式１１・１２】 （コミュ）'!$Q$35)","v":""},{"$f":"'報【様式１１・１２】 （コミュ）'!$Q$36","v":""},{"$f":"'報【様式１１・１２】 （コミュ）'!$Q$40","v":""},"",{"$f":"IF(D46=\"\",\"\",COUNTIF($E$41:E46,E46))","v":""},null,null,null,"",null,""]
[null,{"$f":"IF('報【様式１１・１２】 （コミュ）'!$S$35=\"\",\"\",'報【様式１１・１２】 （コミュ）'!$S$35)","v":""},{"$f":"'報【様式１１・１２】 （コミュ）'!$S$36","v":""},{"$f":"'報【様式１１・１２】 （コミュ）'!$S$40","v":""},"",{"$f":"IF(D47=\"\",\"\",COUNTIF($E$41:E47,E47))","v":""},null,null,null,"",null,""]
[null,{"$f":"IF('報【様式１１・１２】 （コミュ）'!$U$35=\"\",\"\",'報【様式１１・１２】 （コミュ）'!$U$35)","v":""},{"$f":"'報【様式１１・１２】 （コミュ）'!$U$36","v":""},{"$f":"'報【様式１１・１２】 （コミュ）'!$U$40","v":""},"",{"$f":"IF(D48=\"\",\"\",COUNTIF($E$41:E48,E48))","v":""},null,null,null,"",null,""]
[null,{"$f":"IF('報【様式１１・１２】 （コミュ）'!$W$35=\"\",\"\",'報【様式１１・１２】 （コミュ）'!$W$35)","v":""},{"$f":"'報【様式１１・１２】 （コミュ）'!$W$36","v":""},{"$f":"'報【様式１１・１２】 （コミュ）'!$W$40","v":""},"",{"$f":"IF(D49=\"\",\"\",COUNTIF($E$41:E49,E49))","v":""},null,null,null,"",null,""]
[null,{"$f":"IF('報【様式１１・１２】 （コミュ）'!$Y$35=\"\",\"\",'報【様式１１・１２】 （コミュ）'!$Y$35)","v":""},{"$f":"'報【様式１１・１２】 （コミュ）'!$Y$36","v":""},{"$f":"'報【様式１１・１２】 （コミュ）'!$Y$40","v":""},"",{"$f":"IF(D50=\"\",\"\",COUNTIF($E$41:E50,E50))","v":""},null,null,null,"",null,""]
[null,{"$f":"IF('報【様式１１・１２】 （コミュ）'!$AA$35=\"\",\"\",'報【様式１１・１２】 （コミュ）'!$AA$35)","v":""},{"$f":"'報【様式１１・１２】 （コミュ）'!$AA$36","v":""},{"$f":"'報【様式１１・１２】 （コミュ）'!$AA$40","v":""},"",{"$f":"IF(D51=\"\",\"\",COUNTIF($E$41:E51,E51))","v":""},null,null,null,"",null,""]
[null,{"$f":"IF('報【様式１１・１２】 （コミュ）'!$AC$35=\"\",\"\",'報【様式１１・１２】 （コミュ）'!$AC$35)","v":""},{"$f":"'報【様式１１・１２】 （コミュ）'!$AC$36","v":""},{"$f":"'報【様式１１・１２】 （コミュ）'!$AC$40","v":""},"",{"$f":"IF(D52=\"\",\"\",COUNTIF($E$41:E52,E52))","v":""},null,null,null,"",null,""]
["⑤",{"$f":"'報【様式１１・１２】 （コミュ）'!B41","v":""},{"$f":"(H53*35650)+(J53*5200)+(L53*1070)","v":0},null,null,null,"講師",{"$f":"IF(COUNTIF(D54:D65,\"講師\")>0,COUNTIF(F54:F65,1),\"0\")","v":"0"},"実技",{"$f":"SUM(J54:J65)","v":0},"単労",{"$f":"SUM(L54:L65)","v":0}]
[null,{"$f":"IF('報【様式１１・１２】 （コミュ）'!$G$35=\"\",\"\",'報【様式１１・１２】 （コミュ）'!$G$35)","v":""},{"$f":"'報【様式１１・１２】 （コミュ）'!$G$36","v":""},{"$f":"'報【様式１１・１２】 （コミュ）'!$G$41","v":""},{"$f":"B54&D54","v":""},{"$f":"IF(D54=\"\",\"\",COUNTIF($E$54:E54,E54))","v":""},null,null,null,{"$f":"IF(AND(F54=1,SUMIFS($C$54:$C$65,$E$54:$E$65,B54&$I$53)>3),3,IF(AND(F54=1,SUMIFS($C$54:$C$65,$E$54:$E$65,B54&$I$53)<=3),SUMIFS($C$54:$C$65,$E$54:$E$65,B54&$I$53),\"\"))","v":""},null,{"$f":"IF(D54=\"単労\",C54,\"\")","v":""}]
[null,{"$f":"IF('報【様式１１・１２】 （コミュ）'!$I$35=\"\",\"\",'報【様式１１・１２】 （コミュ）'!$I$35)","v":""},{"$f":"'報【様式１１・１２】 （コミュ）'!$I$36","v":""},{"$f":"'報【様式１１・１２】 （コミュ）'!$I$41","v":""},{"$f":"B55&D55","v":""},{"$f":"IF(D55=\"\",\"\",COUNTIF($E$54:E55,E55))","v":""},null,null,null,{"$f":"IF(AND(F55=1,SUMIFS($C$54:$C$65,$E$54:$E$65,B55&$I$53)>3),3,IF(AND(F55=1,SUMIFS($C$54:$C$65,$E$54:$E$65,B55&$I$53)<=3),SUMIFS($C$54:$C$65,$E$54:$E$65,B55&$I$53),\"\"))","v":""},null,{"$f":"IF(D55=\"単労\",C55,\"\")","v":""}]
[null,{"$f":"IF('報【様式１１・１２】 （コミュ）'!$K$35=\"\",\"\",'報【様式１１・１２】 （コミュ）'!$K$35)","v":""},{"$f":"'報【様式１１・１２】 （コミュ）'!$K$36","v":""},{"$f":"'報【様式１１・１２】 （コミュ）'!$K$41","v":""},"",{"$f":"IF(D56=\"\",\"\",COUNTIF($E$54:E56,E56))","v":""},null,null,null,"",null,""]
[null,{"$f":"IF('報【様式１１・１２】 （コミュ）'!$M$35=\"\",\"\",'報【様式１１・１２】 （コミュ）'!$M$35)","v":""},{"$f":"'報【様式１１・１２】 （コミュ）'!$M$36","v":""},{"$f":"'報【様式１１・１２】 （コミュ）'!$M$41","v":""},"",{"$f":"IF(D57=\"\",\"\",COUNTIF($E$54:E57,E57))","v":""},null,null,null,"",null,""]
[null,{"$f":"IF('報【様式１１・１２】 （コミュ）'!$O$35=\"\",\"\",'報【様式１１・１２】 （コミュ）'!$O$35)","v":""},{"$f":"'報【様式１１・１２】 （コミュ）'!$O$36","v":""},{"$f":"'報【様式１１・１２】 （コミュ）'!$O$41","v":""},"",{"$f":"IF(D58=\"\",\"\",COUNTIF($E$54:E58,E58))","v":""},null,null,null,"",null,""]
[null,{"$f":"IF('報【様式１１・１２】 （コミュ）'!$Q$35=\"\",\"\",'報【様式１１・１２】 （コミュ）'!$Q$35)","v":""},{"$f":"'報【様式１１・１２】 （コミュ）'!$Q$36","v":""},{"$f":"'報【様式１１・１２】 （コミュ）'!$Q$41","v":""},"",{"$f":"IF(D59=\"\",\"\",COUNTIF($E$54:E59,E59))","v":""},null,null,null,"",null,""]
[null,{"$f":"IF('報【様式１１・１２】 （コミュ）'!$S$35=\"\",\"\",'報【様式１１・１２】 （コミュ）'!$S$35)","v":""},{"$f":"'報【様式１１・１２】 （コミュ）'!$S$36","v":""},{"$f":"'報【様式１１・１２】 （コミュ）'!$S$41","v":""},"",{"$f":"IF(D60=\"\",\"\",COUNTIF($E$54:E60,E60))","v":""},null,null,null,"",null,""]
[null,{"$f":"IF('報【様式１１・１２】 （コミュ）'!$U$35=\"\",\"\",'報【様式１１・１２】 （コミュ）'!$U$35)","v":""},{"$f":"'報【様式１１・１２】 （コミュ）'!$U$36","v":""},{"$f":"'報【様式１１・１２】 （コミュ）'!$U$41","v":""},"",{"$f":"IF(D61=\"\",\"\",COUNTIF($E$54:E61,E61))","v":""},null,null,null,"",null,""]
[null,{"$f":"IF('報【様式１１・１２】 （コミュ）'!$W$35=\"\",\"\",'報【様式１１・１２】 （コミュ）'!$W$35)","v":""},{"$f":"'報【様式１１・１２】 （コミュ）'!$W$36","v":""},{"$f":"'報【様式１１・１２】 （コミュ）'!$W$41","v":""},"",{"$f":"IF(D62=\"\",\"\",COUNTIF($E$54:E62,E62))","v":""},null,null,null,"",null,""]
[null,{"$f":"IF('報【様式１１・１２】 （コミュ）'!$Y$35=\"\",\"\",'報【様式１１・１２】 （コミュ）'!$Y$35)","v":""},{"$f":"'報【様式１１・１２】 （コミュ）'!$Y$36","v":""},{"$f":"'報【様式１１・１２】 （コミュ）'!$Y$41","v":""},"",{"$f":"IF(D63=\"\",\"\",COUNTIF($E$54:E63,E63))","v":""},null,null,null,"",null,""]
[null,{"$f":"IF('報【様式１１・１２】 （コミュ）'!$AA$35=\"\",\"\",'報【様式１１・１２】 （コミュ）'!$AA$35)","v":""},{"$f":"'報【様式１１・１２】 （コミュ）'!$AA$36","v":""},{"$f":"'報【様式１１・１２】 （コミュ）'!$AA$41","v":""},"",{"$f":"IF(D64=\"\",\"\",COUNTIF($E$54:E64,E64))","v":""},null,null,null,"",null,""]
[null,{"$f":"IF('報【様式１１・１２】 （コミュ）'!$AC$35=\"\",\"\",'報【様式１１・１２】 （コミュ）'!$AC$35)","v":""},{"$f":"'報【様式１１・１２】 （コミュ）'!$AC$36","v":""},{"$f":"'報【様式１１・１２】 （コミュ）'!$AC$41","v":""},"",{"$f":"IF(D65=\"\",\"\",COUNTIF($E$54:E65,E65))","v":""},null,null,null,"",null,""]
["⑥",{"$f":"'報【様式１１・１２】 （コミュ）'!B42","v":""},{"$f":"(H66*35650)+(J66*5200)+(L66*1070)","v":0},null,null,null,"講師",{"$f":"IF(COUNTIF(D67:D78,\"講師\")>0,COUNTIF(F67:F78,1),\"0\")","v":"0"},"実技",{"$f":"SUM(J67:J78)","v":0},"単労",{"$f":"SUM(L67:L78)","v":0}]
[null,{"$f":"IF('報【様式１１・１２】 （コミュ）'!$G$35=\"\",\"\",'報【様式１１・１２】 （コミュ）'!$G$35)","v":""},{"$f":"'報【様式１１・１２】 （コミュ）'!$G$36","v":""},{"$f":"'報【様式１１・１２】 （コミュ）'!$G$42","v":""},{"$f":"B67&D67","v":""},{"$f":"IF(D67=\"\",\"\",COUNTIF($E$67:E67,E67))","v":""},null,null,null,{"$f":"IF(AND(F67=1,SUMIFS($C$67:$C$78,$E$67:$E$78,B67&$I$66)>3),3,IF(AND(F67=1,SUMIFS($C$67:$C$78,$E$67:$E$78,B67&$I$66)<=3),SUMIFS($C$67:$C$78,$E$67:$E$78,B67&$I$66),\"\"))","v":""},null,{"$f":"IF(D67=\"単労\",C67,\"\")","v":""}]
[null,{"$f":"IF('報【様式１１・１２】 （コミュ）'!$I$35=\"\",\"\",'報【様式１１・１２】 （コミュ）'!$I$35)","v":""},{"$f":"'報【様式１１・１２】 （コミュ）'!$I$36","v":""},{"$f":"'報【様式１１・１２】 （コミュ）'!$I$42","v":""},{"$f":"B68&D68","v":""},{"$f":"IF(D68=\"\",\"\",COUNTIF($E$67:E68,E68))","v":""},null,null,null,{"$f":"IF(AND(F68=1,SUMIFS($C$67:$C$78,$E$67:$E$78,B68&$I$66)>3),3,IF(AND(F68=1,SUMIFS($C$67:$C$78,$E$67:$E$78,B68&$I$66)<=3),SUMIFS($C$67:$C$78,$E$67:$E$78,B68&$I$66),\"\"))","v":""},null,{"$f":"IF(D68=\"単労\",C68,\"\")","v":""}]
[null,{"$f":"IF('報【様式１１・１２】 （コミュ）'!$K$35=\"\",\"\",'報【様式１１・１２】 （コミュ）'!$K$35)","v":""},{"$f":"'報【様式１１・１２】 （コミュ）'!$K$36","v":""},{"$f":"'報【様式１１・１２】 （コミュ）'!$K$42","v":""},"",{"$f":"IF(D69=\"\",\"\",COUNTIF($E$67:E69,E69))","v":""},null,null,null,"",null,""]
[null,{"$f":"IF('報【様式１１・１２】 （コミュ）'!$M$35=\"\",\"\",'報【様式１１・１２】 （コミュ）'!$M$35)","v":""},{"$f":"'報【様式１１・１２】 （コミュ）'!$M$36","v":""},{"$f":"'報【様式１１・１２】 （コミュ）'!$M$42","v":""},"",{"$f":"IF(D70=\"\",\"\",COUNTIF($E$67:E70,E70))","v":""},null,null,null,"",null,""]
[null,{"$f":"IF('報【様式１１・１２】 （コミュ）'!$O$35=\"\",\"\",'報【様式１１・１２】 （コミュ）'!$O$35)","v":""},{"$f":"'報【様式１１・１２】 （コミュ）'!$O$36","v":""},{"$f":"'報【様式１１・１２】 （コミュ）'!$O$42","v":""},"",{"$f":"IF(D71=\"\",\"\",COUNTIF($E$67:E71,E71))","v":""},null,null,null,"",null,""]
[null,{"$f":"IF('報【様式１１・１２】 （コミュ）'!$Q$35=\"\",\"\",'報【様式１１・１２】 （コミュ）'!$Q$35)","v":""},{"$f":"'報【様式１１・１２】 （コミュ）'!$Q$36","v":""},{"$f":"'報【様式１１・１２】 （コミュ）'!$Q$42","v":""},"",{"$f":"IF(D72=\"\",\"\",COUNTIF($E$67:E72,E72))","v":""},null,null,null,"",null,""]
[null,{"$f":"IF('報【様式１１・１２】 （コミュ）'!$S$35=\"\",\"\",'報【様式１１・１２】 （コミュ）'!$S$35)","v":""},{"$f":"'報【様式１１・１２】 （コミュ）'!$S$36","v":""},{"$f":"'報【様式１１・１２】 （コミュ）'!$S$42","v":""},"",{"$f":"IF(D73=\"\",\"\",COUNTIF($E$67:E73,E73))","v":""},null,null,null,"",null,""]
[null,{"$f":"IF('報【様式１１・１２】 （コミュ）'!$U$35=\"\",\"\",'報【様式１１・１２】 （コミュ）'!$U$35)","v":""},{"$f":"'報【様式１１・１２】 （コミュ）'!$U$36","v":""},{"$f":"'報【様式１１・１２】 （コミュ）'!$U$42","v":""},"",{"$f":"IF(D74=\"\",\"\",COUNTIF($E$67:E74,E74))","v":""},null,null,null,"",null,""]
[null,{"$f":"IF('報【様式１１・１２】 （コミュ）'!$W$35=\"\",\"\",'報【様式１１・１２】 （コミュ）'!$W$35)","v":""},{"$f":"'報【様式１１・１２】 （コミュ）'!$W$36","v":""},{"$f":"'報【様式１１・１２】 （コミュ）'!$W$42","v":""},"",{"$f":"IF(D75=\"\",\"\",COUNTIF($E$67:E75,E75))","v":""},null,null,null,"",null,""]
[null,{"$f":"IF('報【様式１１・１２】 （コミュ）'!$Y$35=\"\",\"\",'報【様式１１・１２】 （コミュ）'!$Y$35)","v":""},{"$f":"'報【様式１１・１２】 （コミュ）'!$Y$36","v":""},{"$f":"'報【様式１１・１２】 （コミュ）'!$Y$42","v":""},"",{"$f":"IF(D76=\"\",\"\",COUNTIF($E$67:E76,E76))","v":""},null,null,null,"",null,""]
[null,{"$f":"IF('報【様式１１・１２】 （コミュ）'!$AA$35=\"\",\"\",'報【様式１１・１２】 （コミュ）'!$AA$35)","v":""},{"$f":"'報【様式１１・１２】 （コミュ）'!$AA$36","v":""},{"$f":"'報【様式１１・１２】 （コミュ）'!$AA$42","v":""},"",{"$f":"IF(D77=\"\",\"\",COUNTIF($E$67:E77,E77))","v":""},null,null,null,"",null,""]
[null,{"$f":"IF('報【様式１１・１２】 （コミュ）'!$AC$35=\"\",\"\",'報【様式１１・１２】 （コミュ）'!$AC$35)","v":""},{"$f":"'報【様式１１・１２】 （コミュ）'!$AC$36","v":""},{"$f":"'報【様式１１・１２】 （コミュ）'!$AC$42","v":""},"",{"$f":"IF(D78=\"\",\"\",COUNTIF($E$67:E78,E78))","v":""},null,null,null,"",null,""]
["⑦",{"$f":"'報【様式１１・１２】 （コミュ）'!B43","v":""},{"$f":"(H79*35650)+(J79*5200)+(L79*1070)","v":0},null,null,null,"講師",{"$f":"IF(COUNTIF(D80:D91,\"講師\")>0,COUNTIF(F80:F91,1),\"0\")","v":"0"},"実技",{"$f":"SUM(J80:J91)","v":0},"単労",{"$f":"SUM(L80:L91)","v":0}]
[null,{"$f":"IF('報【様式１１・１２】 （コミュ）'!$G$35=\"\",\"\",'報【様式１１・１２】 （コミュ）'!$G$35)","v":""},{"$f":"'報【様式１１・１２】 （コミュ）'!$G$36","v":""},{"$f":"'報【様式１１・１２】 （コミュ）'!$G$43","v":""},{"$f":"B80&D80","v":""},{"$f":"IF(D80=\"\",\"\",COUNTIF($E$80:E80,E80))","v":""},null,null,null,{"$f":"IF(AND(F80=1,SUMIFS($C$80:$C$91,$E$80:$E$91,B80&$I$79)>3),3,IF(AND(F80=1,SUMIFS($C$80:$C$91,$E$80:$E$91,B80&$I$79)<=3),SUMIFS($C$80:$C$91,$E$80:$E$91,B80&$I$79),\"\"))","v":""},null,{"$f":"IF(D80=\"単労\",C80,\"\")","v":""}]
[null,{"$f":"IF('報【様式１１・１２】 （コミュ）'!$I$35=\"\",\"\",'報【様式１１・１２】 （コミュ）'!$I$35)","v":""},{"$f":"'報【様式１１・１２】 （コミュ）'!$I$36","v":""},{"$f":"'報【様式１１・１２】 （コミュ）'!$I$43","v":""},{"$f":"B81&D81","v":""},{"$f":"IF(D81=\"\",\"\",COUNTIF($E$80:E81,E81))","v":""},null,null,null,{"$f":"IF(AND(F81=1,SUMIFS($C$80:$C$91,$E$80:$E$91,B81&$I$79)>3),3,IF(AND(F81=1,SUMIFS($C$80:$C$91,$E$80:$E$91,B81&$I$79)<=3),SUMIFS($C$80:$C$91,$E$80:$E$91,B81&$I$79),\"\"))","v":""},null,{"$f":"IF(D81=\"単労\",C81,\"\")","v":""}]
[null,{"$f":"IF('報【様式１１・１２】 （コミュ）'!$K$35=\"\",\"\",'報【様式１１・１２】 （コミュ）'!$K$35)","v":""},{"$f":"'報【様式１１・１２】 （コミュ）'!$K$36","v":""},{"$f":"'報【様式１１・１２】 （コミュ）'!$K$43","v":""},"",{"$f":"IF(D82=\"\",\"\",COUNTIF($E$80:E82,E82))","v":""},null,null,null,"",null,""]
[null,{"$f":"IF('報【様式１１・１２】 （コミュ）'!$M$35=\"\",\"\",'報【様式１１・１２】 （コミュ）'!$M$35)","v":""},{"$f":"'報【様式１１・１２】 （コミュ）'!$M$36","v":""},{"$f":"'報【様式１１・１２】 （コミュ）'!$M$43","v":""},"",{"$f":"IF(D83=\"\",\"\",COUNTIF($E$80:E83,E83))","v":""},null,null,null,"",null,""]
[null,{"$f":"IF('報【様式１１・１２】 （コミュ）'!$O$35=\"\",\"\",'報【様式１１・１２】 （コミュ）'!$O$35)","v":""},{"$f":"'報【様式１１・１２】 （コミュ）'!$O$36","v":""},{"$f":"'報【様式１１・１２】 （コミュ）'!$O$43","v":""},"",{"$f":"IF(D84=\"\",\"\",COUNTIF($E$80:E84,E84))","v":""},null,null,null,"",null,""]
[null,{"$f":"IF('報【様式１１・１２】 （コミュ）'!$Q$35=\"\",\"\",'報【様式１１・１２】 （コミュ）'!$Q$35)","v":""},{"$f":"'報【様式１１・１２】 （コミュ）'!$Q$36","v":""},{"$f":"'報【様式１１・１２】 （コミュ）'!$Q$43","v":""},"",{"$f":"IF(D85=\"\",\"\",COUNTIF($E$80:E85,E85))","v":""},null,null,null,"",null,""]
[null,{"$f":"IF('報【様式１１・１２】 （コミュ）'!$S$35=\"\",\"\",'報【様式１１・１２】 （コミュ）'!$S$35)","v":""},{"$f":"'報【様式１１・１２】 （コミュ）'!$S$36","v":""},{"$f":"'報【様式１１・１２】 （コミュ）'!$S$43","v":""},"",{"$f":"IF(D86=\"\",\"\",COUNTIF($E$80:E86,E86))","v":""},null,null,null,"",null,""]
[null,{"$f":"IF('報【様式１１・１２】 （コミュ）'!$U$35=\"\",\"\",'報【様式１１・１２】 （コミュ）'!$U$35)","v":""},{"$f":"'報【様式１１・１２】 （コミュ）'!$U$36","v":""},{"$f":"'報【様式１１・１２】 （コミュ）'!$U$43","v":""},"",{"$f":"IF(D87=\"\",\"\",COUNTIF($E$80:E87,E87))","v":""},null,null,null,"",null,""]
[null,{"$f":"IF('報【様式１１・１２】 （コミュ）'!$W$35=\"\",\"\",'報【様式１１・１２】 （コミュ）'!$W$35)","v":""},{"$f":"'報【様式１１・１２】 （コミュ）'!$W$36","v":""},{"$f":"'報【様式１１・１２】 （コミュ）'!$W$43","v":""},"",{"$f":"IF(D88=\"\",\"\",COUNTIF($E$80:E88,E88))","v":""},null,null,null,"",null,""]
[null,{"$f":"IF('報【様式１１・１２】 （コミュ）'!$Y$35=\"\",\"\",'報【様式１１・１２】 （コミュ）'!$Y$35)","v":""},{"$f":"'報【様式１１・１２】 （コミュ）'!$Y$36","v":""},{"$f":"'報【様式１１・１２】 （コミュ）'!$Y$43","v":""},"",{"$f":"IF(D89=\"\",\"\",COUNTIF($E$80:E89,E89))","v":""},null,null,null,"",null,""]
[null,{"$f":"IF('報【様式１１・１２】 （コミュ）'!$AA$35=\"\",\"\",'報【様式１１・１２】 （コミュ）'!$AA$35)","v":""},{"$f":"'報【様式１１・１２】 （コミュ）'!$AA$36","v":""},{"$f":"'報【様式１１・１２】 （コミュ）'!$AA$43","v":""},"",{"$f":"IF(D90=\"\",\"\",COUNTIF($E$80:E90,E90))","v":""},null,null,null,"",null,""]
[null,{"$f":"IF('報【様式１１・１２】 （コミュ）'!$AC$35=\"\",\"\",'報【様式１１・１２】 （コミュ）'!$AC$35)","v":""},{"$f":"'報【様式１１・１２】 （コミュ）'!$AC$36","v":""},{"$f":"'報【様式１１・１２】 （コミュ）'!$AC$43","v":""},"",{"$f":"IF(D91=\"\",\"\",COUNTIF($E$80:E91,E91))","v":""},null,null,null,"",null,""]
["⑧",{"$f":"'報【様式１１・１２】 （コミュ）'!B44","v":""},{"$f":"(H92*35650)+(J92*5200)+(L92*1070)","v":0},null,null,null,"講師",{"$f":"IF(COUNTIF(D93:D104,\"講師\")>0,COUNTIF(F93:F104,1),\"0\")","v":"0"},"実技",{"$f":"SUM(J93:J104)","v":0},"単労",{"$f":"SUM(L93:L104)","v":0}]
[null,{"$f":"IF('報【様式１１・１２】 （コミュ）'!$G$35=\"\",\"\",'報【様式１１・１２】 （コミュ）'!$G$35)","v":""},{"$f":"'報【様式１１・１２】 （コミュ）'!$G$36","v":""},{"$f":"'報【様式１１・１２】 （コミュ）'!$G$44","v":""},{"$f":"B93&D93","v":""},{"$f":"IF(D93=\"\",\"\",COUNTIF($E$93:E93,E93))","v":""},null,null,null,{"$f":"IF(AND(F93=1,SUMIFS($C$93:$C$104,$E$93:$E$104,B93&$I$92)>3),3,IF(AND(F93=1,SUMIFS($C$93:$C$104,$E$93:$E$104,B93&$I$92)<=3),SUMIFS($C$93:$C$104,$E$93:$E$104,B93&$I$92),\"\"))","v":""},null,{"$f":"IF(D93=\"単労\",C93,\"\")","v":""}]
[null,{"$f":"IF('報【様式１１・１２】 （コミュ）'!$I$35=\"\",\"\",'報【様式１１・１２】 （コミュ）'!$I$35)","v":""},{"$f":"'報【様式１１・１２】 （コミュ）'!$I$36","v":""},{"$f":"'報【様式１１・１２】 （コミュ）'!$I$44","v":""},{"$f":"B94&D94","v":""},{"$f":"IF(D94=\"\",\"\",COUNTIF($E$93:E94,E94))","v":""},null,null,null,{"$f":"IF(AND(F94=1,SUMIFS($C$93:$C$104,$E$93:$E$104,B94&$I$92)>3),3,IF(AND(F94=1,SUMIFS($C$93:$C$104,$E$93:$E$104,B94&$I$92)<=3),SUMIFS($C$93:$C$104,$E$93:$E$104,B94&$I$92),\"\"))","v":""},null,{"$f":"IF(D94=\"単労\",C94,\"\")","v":""}]
[null,{"$f":"IF('報【様式１１・１２】 （コミュ）'!$K$35=\"\",\"\",'報【様式１１・１２】 （コミュ）'!$K$35)","v":""},{"$f":"'報【様式１１・１２】 （コミュ）'!$K$36","v":""},{"$f":"'報【様式１１・１２】 （コミュ）'!$K$44","v":""},"",{"$f":"IF(D95=\"\",\"\",COUNTIF($E$93:E95,E95))","v":""},null,null,null,"",null,""]
[null,{"$f":"IF('報【様式１１・１２】 （コミュ）'!$M$35=\"\",\"\",'報【様式１１・１２】 （コミュ）'!$M$35)","v":""},{"$f":"'報【様式１１・１２】 （コミュ）'!$M$36","v":""},{"$f":"'報【様式１１・１２】 （コミュ）'!$M$44","v":""},"",{"$f":"IF(D96=\"\",\"\",COUNTIF($E$93:E96,E96))","v":""},null,null,null,"",null,""]
[null,{"$f":"IF('報【様式１１・１２】 （コミュ）'!$O$35=\"\",\"\",'報【様式１１・１２】 （コミュ）'!$O$35)","v":""},{"$f":"'報【様式１１・１２】 （コミュ）'!$O$36","v":""},{"$f":"'報【様式１１・１２】 （コミュ）'!$O$44","v":""},"",{"$f":"IF(D97=\"\",\"\",COUNTIF($E$93:E97,E97))","v":""},null,null,null,"",null,""]
[null,{"$f":"IF('報【様式１１・１２】 （コミュ）'!$Q$35=\"\",\"\",'報【様式１１・１２】 （コミュ）'!$Q$35)","v":""},{"$f":"'報【様式１１・１２】 （コミュ）'!$Q$36","v":""},{"$f":"'報【様式１１・１２】 （コミュ）'!$Q$44","v":""},"",{"$f":"IF(D98=\"\",\"\",COUNTIF($E$93:E98,E98))","v":""},null,null,null,"",null,""]
[null,{"$f":"IF('報【様式１１・１２】 （コミュ）'!$S$35=\"\",\"\",'報【様式１１・１２】 （コミュ）'!$S$35)","v":""},{"$f":"'報【様式１１・１２】 （コミュ）'!$S$36","v":""},{"$f":"'報【様式１１・１２】 （コミュ）'!$S$44","v":""},"",{"$f":"IF(D99=\"\",\"\",COUNTIF($E$93:E99,E99))","v":""},null,null,null,"",null,""]
[null,{"$f":"IF('報【様式１１・１２】 （コミュ）'!$U$35=\"\",\"\",'報【様式１１・１２】 （コミュ）'!$U$35)","v":""},{"$f":"'報【様式１１・１２】 （コミュ）'!$U$36","v":""},{"$f":"'報【様式１１・１２】 （コミュ）'!$U$44","v":""},"",{"$f":"IF(D100=\"\",\"\",COUNTIF($E$93:E100,E100))","v":""},null,null,null,"",null,""]
[null,{"$f":"IF('報【様式１１・１２】 （コミュ）'!$W$35=\"\",\"\",'報【様式１１・１２】 （コミュ）'!$W$35)","v":""},{"$f":"'報【様式１１・１２】 （コミュ）'!$W$36","v":""},{"$f":"'報【様式１１・１２】 （コミュ）'!$W$44","v":""},"",{"$f":"IF(D101=\"\",\"\",COUNTIF($E$93:E101,E101))","v":""},null,null,null,"",null,""]
[null,{"$f":"IF('報【様式１１・１２】 （コミュ）'!$Y$35=\"\",\"\",'報【様式１１・１２】 （コミュ）'!$Y$35)","v":""},{"$f":"'報【様式１１・１２】 （コミュ）'!$Y$36","v":""},{"$f":"'報【様式１１・１２】 （コミュ）'!$Y$44","v":""},"",{"$f":"IF(D102=\"\",\"\",COUNTIF($E$93:E102,E102))","v":""},null,null,null,"",null,""]
[null,{"$f":"IF('報【様式１１・１２】 （コミュ）'!$AA$35=\"\",\"\",'報【様式１１・１２】 （コミュ）'!$AA$35)","v":""},{"$f":"'報【様式１１・１２】 （コミュ）'!$AA$36","v":""},{"$f":"'報【様式１１・１２】 （コミュ）'!$AA$44","v":""},"",{"$f":"IF(D103=\"\",\"\",COUNTIF($E$93:E103,E103))","v":""},null,null,null,"",null,""]
[null,{"$f":"IF('報【様式１１・１２】 （コミュ）'!$AC$35=\"\",\"\",'報【様式１１・１２】 （コミュ）'!$AC$35)","v":""},{"$f":"'報【様式１１・１２】 （コミュ）'!$AC$36","v":""},{"$f":"'報【様式１１・１２】 （コミュ）'!$AC$44","v":""},"",{"$f":"IF(D104=\"\",\"\",COUNTIF($E$93:E104,E104))","v":""},null,null,null,"",null,""]
["⑨",{"$f":"'報【様式１１・１２】 （コミュ）'!B45","v":""},{"$f":"(H105*35650)+(J105*5200)+(L105*1070)","v":0},null,null,null,"講師",{"$f":"IF(COUNTIF(D106:D117,\"講師\")>0,COUNTIF(F106:F117,1),\"0\")","v":"0"},"実技",{"$f":"SUM(J106:J117)","v":0},"単労",{"$f":"SUM(L106:L117)","v":0}]
[null,{"$f":"IF('報【様式１１・１２】 （コミュ）'!$G$35=\"\",\"\",'報【様式１１・１２】 （コミュ）'!$G$35)","v":""},{"$f":"'報【様式１１・１２】 （コミュ）'!$G$36","v":""},{"$f":"'報【様式１１・１２】 （コミュ）'!$G$45","v":""},{"$f":"B106&D106","v":""},{"$f":"IF(D106=\"\",\"\",COUNTIF($E$106:E106,E106))","v":""},null,null,null,{"$f":"IF(AND(F106=1,SUMIFS($C$106:$C$117,$E$106:$E$117,B106&$I$105)>3),3,IF(AND(F106=1,SUMIFS($C$106:$C$117,$E$106:$E$117,B106&$I$105)<=3),SUMIFS($C$106:$C$117,$E$106:$E$117,B106&$I$105),\"\"))","v":""},null,{"$f":"IF(D106=\"単労\",C106,\"\")","v":""}]
[null,{"$f":"IF('報【様式１１・１２】 （コミュ）'!$I$35=\"\",\"\",'報【様式１１・１２】 （コミュ）'!$I$35)","v":""},{"$f":"'報【様式１１・１２】 （コミュ）'!$I$36","v":""},{"$f":"'報【様式１１・１２】 （コミュ）'!$I$45","v":""},{"$f":"B107&D107","v":""},{"$f":"IF(D107=\"\",\"\",COUNTIF($E$106:E107,E107))","v":""},null,null,null,{"$f":"IF(AND(F107=1,SUMIFS($C$106:$C$117,$E$106:$E$117,B107&$I$105)>3),3,IF(AND(F107=1,SUMIFS($C$106:$C$117,$E$106:$E$117,B107&$I$105)<=3),SUMIFS($C$106:$C$117,$E$106:$E$117,B107&$I$105),\"\"))","v":""},null,{"$f":"IF(D107=\"単労\",C107,\"\")","v":""}]
[null,{"$f":"IF('報【様式１１・１２】 （コミュ）'!$K$35=\"\",\"\",'報【様式１１・１２】 （コミュ）'!$K$35)","v":""},{"$f":"'報【様式１１・１２】 （コミュ）'!$K$36","v":""},{"$f":"'報【様式１１・１２】 （コミュ）'!$K$45","v":""},"",{"$f":"IF(D108=\"\",\"\",COUNTIF($E$106:E108,E108))","v":""},null,null,null,"",null,""]
[null,{"$f":"IF('報【様式１１・１２】 （コミュ）'!$M$35=\"\",\"\",'報【様式１１・１２】 （コミュ）'!$M$35)","v":""},{"$f":"'報【様式１１・１２】 （コミュ）'!$M$36","v":""},{"$f":"'報【様式１１・１２】 （コミュ）'!$M$45","v":""},"",{"$f":"IF(D109=\"\",\"\",COUNTIF($E$106:E109,E109))","v":""},null,null,null,"",null,""]
[null,{"$f":"IF('報【様式１１・１２】 （コミュ）'!$O$35=\"\",\"\",'報【様式１１・１２】 （コミュ）'!$O$35)","v":""},{"$f":"'報【様式１１・１２】 （コミュ）'!$O$36","v":""},{"$f":"'報【様式１１・１２】 （コミュ）'!$O$45","v":""},"",{"$f":"IF(D110=\"\",\"\",COUNTIF($E$106:E110,E110))","v":""},null,null,null,"",null,""]
[null,{"$f":"IF('報【様式１１・１２】 （コミュ）'!$Q$35=\"\",\"\",'報【様式１１・１２】 （コミュ）'!$Q$35)","v":""},{"$f":"'報【様式１１・１２】 （コミュ）'!$Q$36","v":""},{"$f":"'報【様式１１・１２】 （コミュ）'!$Q$45","v":""},"",{"$f":"IF(D111=\"\",\"\",COUNTIF($E$106:E111,E111))","v":""},null,null,null,"",null,""]
[null,{"$f":"IF('報【様式１１・１２】 （コミュ）'!$S$35=\"\",\"\",'報【様式１１・１２】 （コミュ）'!$S$35)","v":""},{"$f":"'報【様式１１・１２】 （コミュ）'!$S$36","v":""},{"$f":"'報【様式１１・１２】 （コミュ）'!$S$45","v":""},"",{"$f":"IF(D112=\"\",\"\",COUNTIF($E$106:E112,E112))","v":""},null,null,null,"",null,""]
[null,{"$f":"IF('報【様式１１・１２】 （コミュ）'!$U$35=\"\",\"\",'報【様式１１・１２】 （コミュ）'!$U$35)","v":""},{"$f":"'報【様式１１・１２】 （コミュ）'!$U$36","v":""},{"$f":"'報【様式１１・１２】 （コミュ）'!$U$45","v":""},"",{"$f":"IF(D113=\"\",\"\",COUNTIF($E$106:E113,E113))","v":""},null,null,null,"",null,""]
[null,{"$f":"IF('報【様式１１・１２】 （コミュ）'!$W$35=\"\",\"\",'報【様式１１・１２】 （コミュ）'!$W$35)","v":""},{"$f":"'報【様式１１・１２】 （コミュ）'!$W$36","v":""},{"$f":"'報【様式１１・１２】 （コミュ）'!$W$45","v":""},"",{"$f":"IF(D114=\"\",\"\",COUNTIF($E$106:E114,E114))","v":""},null,null,null,"",null,""]
[null,{"$f":"IF('報【様式１１・１２】 （コミュ）'!$Y$35=\"\",\"\",'報【様式１１・１２】 （コミュ）'!$Y$35)","v":""},{"$f":"'報【様式１１・１２】 （コミュ）'!$Y$36","v":""},{"$f":"'報【様式１１・１２】 （コミュ）'!$Y$45","v":""},"",{"$f":"IF(D115=\"\",\"\",COUNTIF($E$106:E115,E115))","v":""},null,null,null,"",null,""]
[null,{"$f":"IF('報【様式１１・１２】 （コミュ）'!$AA$35=\"\",\"\",'報【様式１１・１２】 （コミュ）'!$AA$35)","v":""},{"$f":"'報【様式１１・１２】 （コミュ）'!$AA$36","v":""},{"$f":"'報【様式１１・１２】 （コミュ）'!$AA$45","v":""},"",{"$f":"IF(D116=\"\",\"\",COUNTIF($E$106:E116,E116))","v":""},null,null,null,"",null,""]
[null,{"$f":"IF('報【様式１１・１２】 （コミュ）'!$AC$35=\"\",\"\",'報【様式１１・１２】 （コミュ）'!$AC$35)","v":""},{"$f":"'報【様式１１・１２】 （コミュ）'!$AC$36","v":""},{"$f":"'報【様式１１・１２】 （コミュ）'!$AC$45","v":""},"",{"$f":"IF(D117=\"\",\"\",COUNTIF($E$106:E117,E117))","v":""},null,null,null,{"$f":"IF(AND(F117=1,SUMIFS($C$106:$C$117,$E$106:$E$117,B117&$I$105)>3),3,IF(AND(F117=1,SUMIFS($C$106:$C$117,$E$106:$E$117,B117&$I$105)<=3),SUMIFS($C$106:$C$117,$E$106:$E$117,B117&$I$105),\"\"))","v":""},null,""]
["⑩",{"$f":"'報【様式１１・１２】 （コミュ）'!B46","v":""},{"$f":"(H118*35650)+(J118*5200)+(L118*1070)","v":0},null,null,null,"講師",{"$f":"IF(COUNTIF(D119:D130,\"講師\")>0,COUNTIF(F119:F130,1),\"0\")","v":"0"},"実技",{"$f":"SUM(J119:J130)","v":0},"単労",{"$f":"SUM(L119:L130)","v":0}]
[null,{"$f":"IF('報【様式１１・１２】 （コミュ）'!$G$35=\"\",\"\",'報【様式１１・１２】 （コミュ）'!$G$35)","v":""},{"$f":"'報【様式１１・１２】 （コミュ）'!$G$36","v":""},{"$f":"'報【様式１１・１２】 （コミュ）'!$G$46","v":""},{"$f":"B119&D119","v":""},{"$f":"IF(D119=\"\",\"\",COUNTIF($E$119:E119,E119))","v":""},null,null,null,{"$f":"IF(AND(F119=1,SUMIFS($C$119:$C$130,$E$119:$E$130,B119&$I$118)>3),3,IF(AND(F119=1,SUMIFS($C$119:$C$130,$E$119:$E$130,B119&$I$118)<=3),SUMIFS($C$119:$C$130,$E$119:$E$130,B119&$I$118),\"\"))","v":""},null,{"$f":"IF(D119=\"単労\",C119,\"\")","v":""}]
[null,{"$f":"IF('報【様式１１・１２】 （コミュ）'!$I$35=\"\",\"\",'報【様式１１・１２】 （コミュ）'!$I$35)","v":""},{"$f":"'報【様式１１・１２】 （コミュ）'!$I$36","v":""},{"$f":"'報【様式１１・１２】 （コミュ）'!$I$46","v":""},{"$f":"B120&D120","v":""},{"$f":"IF(D120=\"\",\"\",COUNTIF($E$119:E120,E120))","v":""},null,null,null,{"$f":"IF(AND(F120=1,SUMIFS($C$119:$C$130,$E$119:$E$130,B120&$I$118)>3),3,IF(AND(F120=1,SUMIFS($C$119:$C$130,$E$119:$E$130,B120&$I$118)<=3),SUMIFS($C$119:$C$130,$E$119:$E$130,B120&$I$118),\"\"))","v":""},null,{"$f":"IF(D120=\"単労\",C120,\"\")","v":""}]
[null,{"$f":"IF('報【様式１１・１２】 （コミュ）'!$K$35=\"\",\"\",'報【様式１１・１２】 （コミュ）'!$K$35)","v":""},{"$f":"'報【様式１１・１２】 （コミュ）'!$K$36","v":""},{"$f":"'報【様式１１・１２】 （コミュ）'!$K$46","v":""},"",{"$f":"IF(D121=\"\",\"\",COUNTIF($E$119:E121,E121))","v":""},null,null,null,"",null,""]
[null,{"$f":"IF('報【様式１１・１２】 （コミュ）'!$M$35=\"\",\"\",'報【様式１１・１２】 （コミュ）'!$M$35)","v":""},{"$f":"'報【様式１１・１２】 （コミュ）'!$M$36","v":""},{"$f":"'報【様式１１・１２】 （コミュ）'!$M$46","v":""},"",{"$f":"IF(D122=\"\",\"\",COUNTIF($E$119:E122,E122))","v":""},null,null,null,"",null,""]
[null,{"$f":"IF('報【様式１１・１２】 （コミュ）'!$O$35=\"\",\"\",'報【様式１１・１２】 （コミュ）'!$O$35)","v":""},{"$f":"'報【様式１１・１２】 （コミュ）'!$O$36","v":""},{"$f":"'報【様式１１・１２】 （コミュ）'!$O$46","v":""},"",{"$f":"IF(D123=\"\",\"\",COUNTIF($E$119:E123,E123))","v":""},null,null,null,"",null,""]
[null,{"$f":"IF('報【様式１１・１２】 （コミュ）'!$Q$35=\"\",\"\",'報【様式１１・１２】 （コミュ）'!$Q$35)","v":""},{"$f":"'報【様式１１・１２】 （コミュ）'!$Q$36","v":""},{"$f":"'報【様式１１・１２】 （コミュ）'!$Q$46","v":""},"",{"$f":"IF(D124=\"\",\"\",COUNTIF($E$119:E124,E124))","v":""},null,null,null,"",null,""]
[null,{"$f":"IF('報【様式１１・１２】 （コミュ）'!$S$35=\"\",\"\",'報【様式１１・１２】 （コミュ）'!$S$35)","v":""},{"$f":"'報【様式１１・１２】 （コミュ）'!$S$36","v":""},{"$f":"'報【様式１１・１２】 （コミュ）'!$S$46","v":""},"",{"$f":"IF(D125=\"\",\"\",COUNTIF($E$119:E125,E125))","v":""},null,null,null,"",null,""]
[null,{"$f":"IF('報【様式１１・１２】 （コミュ）'!$U$35=\"\",\"\",'報【様式１１・１２】 （コミュ）'!$U$35)","v":""},{"$f":"'報【様式１１・１２】 （コミュ）'!$U$36","v":""},{"$f":"'報【様式１１・１２】 （コミュ）'!$U$46","v":""},"",{"$f":"IF(D126=\"\",\"\",COUNTIF($E$119:E126,E126))","v":""},null,null,null,"",null,""]
[null,{"$f":"IF('報【様式１１・１２】 （コミュ）'!$W$35=\"\",\"\",'報【様式１１・１２】 （コミュ）'!$W$35)","v":""},{"$f":"'報【様式１１・１２】 （コミュ）'!$W$36","v":""},{"$f":"'報【様式１１・１２】 （コミュ）'!$W$46","v":""},"",{"$f":"IF(D127=\"\",\"\",COUNTIF($E$119:E127,E127))","v":""},null,null,null,"",null,""]
[null,{"$f":"IF('報【様式１１・１２】 （コミュ）'!$Y$35=\"\",\"\",'報【様式１１・１２】 （コミュ）'!$Y$35)","v":""},{"$f":"'報【様式１１・１２】 （コミュ）'!$Y$36","v":""},{"$f":"'報【様式１１・１２】 （コミュ）'!$Y$46","v":""},"",{"$f":"IF(D128=\"\",\"\",COUNTIF($E$119:E128,E128))","v":""},null,null,null,"",null,""]
[null,{"$f":"IF('報【様式１１・１２】 （コミュ）'!$AA$35=\"\",\"\",'報【様式１１・１２】 （コミュ）'!$AA$35)","v":""},{"$f":"'報【様式１１・１２】 （コミュ）'!$AA$36","v":""},{"$f":"'報【様式１１・１２】 （コミュ）'!$AA$46","v":""},"",{"$f":"IF(D129=\"\",\"\",COUNTIF($E$119:E129,E129))","v":""},null,null,null,"",null,""]
[null,{"$f":"IF('報【様式１１・１２】 （コミュ）'!$AC$35=\"\",\"\",'報【様式１１・１２】 （コミュ）'!$AC$35)","v":""},{"$f":"'報【様式１１・１２】 （コミュ）'!$AC$36","v":""},{"$f":"'報【様式１１・１２】 （コミュ）'!$AC$46","v":""},"",{"$f":"IF(D130=\"\",\"\",COUNTIF($E$119:E130,E130))","v":""},null,null,null,"",null,""]
["⑪",{"$f":"'報【様式１１・１２】 （コミュ）'!B47","v":""},{"$f":"(H131*35650)+(J131*5200)+(L131*1070)","v":0},null,null,null,"講師",{"$f":"IF(COUNTIF(D132:D143,\"講師\")>0,COUNTIF(F132:F143,1),\"0\")","v":"0"},"実技",{"$f":"SUM(J132:J143)","v":0},"単労",{"$f":"SUM(L132:L143)","v":0}]
[null,{"$f":"IF('報【様式１１・１２】 （コミュ）'!$G$35=\"\",\"\",'報【様式１１・１２】 （コミュ）'!$G$35)","v":""},{"$f":"'報【様式１１・１２】 （コミュ）'!$G$36","v":""},{"$f":"'報【様式１１・１２】 （コミュ）'!$G$47","v":""},{"$f":"B132&D132","v":""},{"$f":"IF(D132=\"\",\"\",COUNTIF($E$132:E132,E132))","v":""},null,null,null,{"$f":"IF(AND(F132=1,SUMIFS($C$132:$C$143,$E$132:$E$143,B132&$I$131)>3),3,IF(AND(F132=1,SUMIFS($C$132:$C$143,$E$132:$E$143,B132&$I$131)<=3),SUMIFS($C$132:$C$143,$E$132:$E$143,B132&$I$131),\"\"))","v":""},null,{"$f":"IF(D132=\"単労\",C132,\"\")","v":""}]
[null,{"$f":"IF('報【様式１１・１２】 （コミュ）'!$I$35=\"\",\"\",'報【様式１１・１２】 （コミュ）'!$I$35)","v":""},{"$f":"'報【様式１１・１２】 （コミュ）'!$I$36","v":""},{"$f":"'報【様式１１・１２】 （コミュ）'!$I$47","v":""},{"$f":"B133&D133","v":""},{"$f":"IF(D133=\"\",\"\",COUNTIF($E$132:E133,E133))","v":""},null,null,null,{"$f":"IF(AND(F133=1,SUMIFS($C$132:$C$143,$E$132:$E$143,B133&$I$131)>3),3,IF(AND(F133=1,SUMIFS($C$132:$C$143,$E$132:$E$143,B133&$I$131)<=3),SUMIFS($C$132:$C$143,$E$132:$E$143,B133&$I$131),\"\"))","v":""},null,{"$f":"IF(D133=\"単労\",C133,\"\")","v":""}]
[null,{"$f":"IF('報【様式１１・１２】 （コミュ）'!$K$35=\"\",\"\",'報【様式１１・１２】 （コミュ）'!$K$35)","v":""},{"$f":"'報【様式１１・１２】 （コミュ）'!$K$36","v":""},{"$f":"'報【様式１１・１２】 （コミュ）'!$K$47","v":""},"",{"$f":"IF(D134=\"\",\"\",COUNTIF($E$132:E134,E134))","v":""},null,null,null,"",null,""]
[null,{"$f":"IF('報【様式１１・１２】 （コミュ）'!$M$35=\"\",\"\",'報【様式１１・１２】 （コミュ）'!$M$35)","v":""},{"$f":"'報【様式１１・１２】 （コミュ）'!$M$36","v":""},{"$f":"'報【様式１１・１２】 （コミュ）'!$M$47","v":""},"",{"$f":"IF(D135=\"\",\"\",COUNTIF($E$132:E135,E135))","v":""},null,null,null,"",null,""]
[null,{"$f":"IF('報【様式１１・１２】 （コミュ）'!$O$35=\"\",\"\",'報【様式１１・１２】 （コミュ）'!$O$35)","v":""},{"$f":"'報【様式１１・１２】 （コミュ）'!$O$36","v":""},{"$f":"'報【様式１１・１２】 （コミュ）'!$O$47","v":""},"",{"$f":"IF(D136=\"\",\"\",COUNTIF($E$132:E136,E136))","v":""},null,null,null,"",null,""]
[null,{"$f":"IF('報【様式１１・１２】 （コミュ）'!$Q$35=\"\",\"\",'報【様式１１・１２】 （コミュ）'!$Q$35)","v":""},{"$f":"'報【様式１１・１２】 （コミュ）'!$Q$36","v":""},{"$f":"'報【様式１１・１２】 （コミュ）'!$Q$47","v":""},"",{"$f":"IF(D137=\"\",\"\",COUNTIF($E$132:E137,E137))","v":""},null,null,null,"",null,""]
[null,{"$f":"IF('報【様式１１・１２】 （コミュ）'!$S$35=\"\",\"\",'報【様式１１・１２】 （コミュ）'!$S$35)","v":""},{"$f":"'報【様式１１・１２】 （コミュ）'!$S$36","v":""},{"$f":"'報【様式１１・１２】 （コミュ）'!$S$47","v":""},"",{"$f":"IF(D138=\"\",\"\",COUNTIF($E$132:E138,E138))","v":""},null,null,null,"",null,""]
[null,{"$f":"IF('報【様式１１・１２】 （コミュ）'!$U$35=\"\",\"\",'報【様式１１・１２】 （コミュ）'!$U$35)","v":""},{"$f":"'報【様式１１・１２】 （コミュ）'!$U$36","v":""},{"$f":"'報【様式１１・１２】 （コミュ）'!$U$47","v":""},"",{"$f":"IF(D139=\"\",\"\",COUNTIF($E$132:E139,E139))","v":""},null,null,null,"",null,""]
[null,{"$f":"IF('報【様式１１・１２】 （コミュ）'!$W$35=\"\",\"\",'報【様式１１・１２】 （コミュ）'!$W$35)","v":""},{"$f":"'報【様式１１・１２】 （コミュ）'!$W$36","v":""},{"$f":"'報【様式１１・１２】 （コミュ）'!$W$47","v":""},"",{"$f":"IF(D140=\"\",\"\",COUNTIF($E$132:E140,E140))","v":""},null,null,null,"",null,""]
[null,{"$f":"IF('報【様式１１・１２】 （コミュ）'!$Y$35=\"\",\"\",'報【様式１１・１２】 （コミュ）'!$Y$35)","v":""},{"$f":"'報【様式１１・１２】 （コミュ）'!$Y$36","v":""},{"$f":"'報【様式１１・１２】 （コミュ）'!$Y$47","v":""},"",{"$f":"IF(D141=\"\",\"\",COUNTIF($E$132:E141,E141))","v":""},null,null,null,"",null,""]
[null,{"$f":"IF('報【様式１１・１２】 （コミュ）'!$AA$35=\"\",\"\",'報【様式１１・１２】 （コミュ）'!$AA$35)","v":""},{"$f":"'報【様式１１・１２】 （コミュ）'!$AA$36","v":""},{"$f":"'報【様式１１・１２】 （コミュ）'!$AA$47","v":""},"",{"$f":"IF(D142=\"\",\"\",COUNTIF($E$132:E142,E142))","v":""},null,null,null,"",null,""]
[null,{"$f":"IF('報【様式１１・１２】 （コミュ）'!$AC$35=\"\",\"\",'報【様式１１・１２】 （コミュ）'!$AC$35)","v":""},{"$f":"'報【様式１１・１２】 （コミュ）'!$AC$36","v":""},{"$f":"'報【様式１１・１２】 （コミュ）'!$AC$47","v":""},"",{"$f":"IF(D143=\"\",\"\",COUNTIF($E$132:E143,E143))","v":""},null,null,null,"",null,""]
["⑫",{"$f":"'報【様式１１・１２】 （コミュ）'!B48","v":""},{"$f":"(H144*35650)+(J144*5200)+(L144*1070)","v":0},null,null,null,"講師",{"$f":"IF(COUNTIF(D145:D156,\"講師\")>0,COUNTIF(F145:F156,1),\"0\")","v":"0"},"実技",{"$f":"SUM(J145:J156)","v":0},"単労",{"$f":"SUM(L145:L156)","v":0}]
[null,{"$f":"IF('報【様式１１・１２】 （コミュ）'!$G$35=\"\",\"\",'報【様式１１・１２】 （コミュ）'!$G$35)","v":""},{"$f":"'報【様式１１・１２】 （コミュ）'!$G$36","v":""},{"$f":"'報【様式１１・１２】 （コミュ）'!$G$48","v":""},{"$f":"B145&D145","v":""},{"$f":"IF(D145=\"\",\"\",COUNTIF($E$145:E145,E145))","v":""},null,null,null,{"$f":"IF(AND(F145=1,SUMIFS($C$145:$C$156,$E$145:$E$156,B145&$I$144)>3),3,IF(AND(F145=1,SUMIFS($C$145:$C$156,$E$145:$E$156,B145&$I$144)<=3),SUMIFS($C$145:$C$156,$E$145:$E$156,B145&$I$144),\"\"))","v":""},null,{"$f":"IF(D145=\"単労\",C145,\"\")","v":""}]
[null,{"$f":"IF('報【様式１１・１２】 （コミュ）'!$I$35=\"\",\"\",'報【様式１１・１２】 （コミュ）'!$I$35)","v":""},{"$f":"'報【様式１１・１２】 （コミュ）'!$I$36","v":""},{"$f":"'報【様式１１・１２】 （コミュ）'!$I$48","v":""},{"$f":"B146&D146","v":""},{"$f":"IF(D146=\"\",\"\",COUNTIF($E$145:E146,E146))","v":""},null,null,null,{"$f":"IF(AND(F146=1,SUMIFS($C$145:$C$156,$E$145:$E$156,B146&$I$144)>3),3,IF(AND(F146=1,SUMIFS($C$145:$C$156,$E$145:$E$156,B146&$I$144)<=3),SUMIFS($C$145:$C$156,$E$145:$E$156,B146&$I$144),\"\"))","v":""},null,{"$f":"IF(D146=\"単労\",C146,\"\")","v":""}]
[null,{"$f":"IF('報【様式１１・１２】 （コミュ）'!$K$35=\"\",\"\",'報【様式１１・１２】 （コミュ）'!$K$35)","v":""},{"$f":"'報【様式１１・１２】 （コミュ）'!$K$36","v":""},{"$f":"'報【様式１１・１２】 （コミュ）'!$K$48","v":""},"",{"$f":"IF(D147=\"\",\"\",COUNTIF($E$145:E147,E147))","v":""},null,null,null,"",null,""]
[null,{"$f":"IF('報【様式１１・１２】 （コミュ）'!$M$35=\"\",\"\",'報【様式１１・１２】 （コミュ）'!$M$35)","v":""},{"$f":"'報【様式１１・１２】 （コミュ）'!$M$36","v":""},{"$f":"'報【様式１１・１２】 （コミュ）'!$M$48","v":""},"",{"$f":"IF(D148=\"\",\"\",COUNTIF($E$145:E148,E148))","v":""},null,null,null,"",null,""]
[null,{"$f":"IF('報【様式１１・１２】 （コミュ）'!$O$35=\"\",\"\",'報【様式１１・１２】 （コミュ）'!$O$35)","v":""},{"$f":"'報【様式１１・１２】 （コミュ）'!$O$36","v":""},{"$f":"'報【様式１１・１２】 （コミュ）'!$O$48","v":""},"",{"$f":"IF(D149=\"\",\"\",COUNTIF($E$145:E149,E149))","v":""},null,null,null,"",null,""]
[null,{"$f":"IF('報【様式１１・１２】 （コミュ）'!$Q$35=\"\",\"\",'報【様式１１・１２】 （コミュ）'!$Q$35)","v":""},{"$f":"'報【様式１１・１２】 （コミュ）'!$Q$36","v":""},{"$f":"'報【様式１１・１２】 （コミュ）'!$Q$48","v":""},"",{"$f":"IF(D150=\"\",\"\",COUNTIF($E$145:E150,E150))","v":""},null,null,null,"",null,""]
[null,{"$f":"IF('報【様式１１・１２】 （コミュ）'!$S$35=\"\",\"\",'報【様式１１・１２】 （コミュ）'!$S$35)","v":""},{"$f":"'報【様式１１・１２】 （コミュ）'!$S$36","v":""},{"$f":"'報【様式１１・１２】 （コミュ）'!$S$48","v":""},"",{"$f":"IF(D151=\"\",\"\",COUNTIF($E$145:E151,E151))","v":""},null,null,null,"",null,""]
[null,{"$f":"IF('報【様式１１・１２】 （コミュ）'!$U$35=\"\",\"\",'報【様式１１・１２】 （コミュ）'!$U$35)","v":""},{"$f":"'報【様式１１・１２】 （コミュ）'!$U$36","v":""},{"$f":"'報【様式１１・１２】 （コミュ）'!$U$48","v":""},"",{"$f":"IF(D152=\"\",\"\",COUNTIF($E$145:E152,E152))","v":""},null,null,null,"",null,""]
[null,{"$f":"IF('報【様式１１・１２】 （コミュ）'!$W$35=\"\",\"\",'報【様式１１・１２】 （コミュ）'!$W$35)","v":""},{"$f":"'報【様式１１・１２】 （コミュ）'!$W$36","v":""},{"$f":"'報【様式１１・１２】 （コミュ）'!$W$48","v":""},"",{"$f":"IF(D153=\"\",\"\",COUNTIF($E$145:E153,E153))","v":""},null,null,null,"",null,""]
[null,{"$f":"IF('報【様式１１・１２】 （コミュ）'!$Y$35=\"\",\"\",'報【様式１１・１２】 （コミュ）'!$Y$35)","v":""},{"$f":"'報【様式１１・１２】 （コミュ）'!$Y$36","v":""},{"$f":"'報【様式１１・１２】 （コミュ）'!$Y$48","v":""},"",{"$f":"IF(D154=\"\",\"\",COUNTIF($E$145:E154,E154))","v":""},null,null,null,"",null,""]
[null,{"$f":"IF('報【様式１１・１２】 （コミュ）'!$AA$35=\"\",\"\",'報【様式１１・１２】 （コミュ）'!$AA$35)","v":""},{"$f":"'報【様式１１・１２】 （コミュ）'!$AA$36","v":""},{"$f":"'報【様式１１・１２】 （コミュ）'!$AA$48","v":""},"",{"$f":"IF(D155=\"\",\"\",COUNTIF($E$145:E155,E155))","v":""},null,null,null,"",null,""]
[null,{"$f":"IF('報【様式１１・１２】 （コミュ）'!$AC$35=\"\",\"\",'報【様式１１・１２】 （コミュ）'!$AC$35)","v":""},{"$f":"'報【様式１１・１２】 （コミュ）'!$AC$36","v":""},{"$f":"'報【様式１１・１２】 （コミュ）'!$AC$48","v":""},"",{"$f":"IF(D156=\"\",\"\",COUNTIF($E$145:E156,E156))","v":""},null,null,null,"",null,""]
["⑬",{"$f":"'報【様式１１・１２】 （コミュ）'!B49","v":""},{"$f":"(H157*35650)+(J157*5200)+(L157*1070)","v":0},null,null,null,"講師",{"$f":"IF(COUNTIF(D158:D169,\"講師\")>0,COUNTIF(F158:F169,1),\"0\")","v":"0"},"実技",{"$f":"SUM(J158:J169)","v":0},"単労",{"$f":"SUM(L158:L169)","v":0}]
[null,{"$f":"IF('報【様式１１・１２】 （コミュ）'!$G$35=\"\",\"\",'報【様式１１・１２】 （コミュ）'!$G$35)","v":""},{"$f":"'報【様式１１・１２】 （コミュ）'!$G$36","v":""},{"$f":"'報【様式１１・１２】 （コミュ）'!$G$49","v":""},{"$f":"B158&D158","v":""},{"$f":"IF(D158=\"\",\"\",COUNTIF($E$158:E158,E158))","v":""},null,null,null,{"$f":"IF(AND(F158=1,SUMIFS($C$158:$C$169,$E$158:$E$169,B158&$I$157)>3),3,IF(AND(F158=1,SUMIFS($C$158:$C$169,$E$158:$E$169,B158&$I$157)<=3),SUMIFS($C$158:$C$169,$E$158:$E$169,B158&$I$157),\"\"))","v":""},null,{"$f":"IF(D158=\"単労\",C158,\"\")","v":""}]
[null,{"$f":"IF('報【様式１１・１２】 （コミュ）'!$I$35=\"\",\"\",'報【様式１１・１２】 （コミュ）'!$I$35)","v":""},{"$f":"'報【様式１１・１２】 （コミュ）'!$I$36","v":""},{"$f":"'報【様式１１・１２】 （コミュ）'!$I$49","v":""},{"$f":"B159&D159","v":""},{"$f":"IF(D159=\"\",\"\",COUNTIF($E$158:E159,E159))","v":""},null,null,null,{"$f":"IF(AND(F159=1,SUMIFS($C$158:$C$169,$E$158:$E$169,B159&$I$157)>3),3,IF(AND(F159=1,SUMIFS($C$158:$C$169,$E$158:$E$169,B159&$I$157)<=3),SUMIFS($C$158:$C$169,$E$158:$E$169,B159&$I$157),\"\"))","v":""},null,{"$f":"IF(D159=\"単労\",C159,\"\")","v":""}]
[null,{"$f":"IF('報【様式１１・１２】 （コミュ）'!$K$35=\"\",\"\",'報【様式１１・１２】 （コミュ）'!$K$35)","v":""},{"$f":"'報【様式１１・１２】 （コミュ）'!$K$36","v":""},{"$f":"'報【様式１１・１２】 （コミュ）'!$K$49","v":""},"",{"$f":"IF(D160=\"\",\"\",COUNTIF($E$158:E160,E160))","v":""},null,null,null,"",null,""]
[null,{"$f":"IF('報【様式１１・１２】 （コミュ）'!$M$35=\"\",\"\",'報【様式１１・１２】 （コミュ）'!$M$35)","v":""},{"$f":"'報【様式１１・１２】 （コミュ）'!$M$36","v":""},{"$f":"'報【様式１１・１２】 （コミュ）'!$M$49","v":""},"",{"$f":"IF(D161=\"\",\"\",COUNTIF($E$158:E161,E161))","v":""},null,null,null,"",null,""]
[null,{"$f":"IF('報【様式１１・１２】 （コミュ）'!$O$35=\"\",\"\",'報【様式１１・１２】 （コミュ）'!$O$35)","v":""},{"$f":"'報【様式１１・１２】 （コミュ）'!$O$36","v":""},{"$f":"'報【様式１１・１２】 （コミュ）'!$O$49","v":""},"",{"$f":"IF(D162=\"\",\"\",COUNTIF($E$158:E162,E162))","v":""},null,null,null,"",null,""]
[null,{"$f":"IF('報【様式１１・１２】 （コミュ）'!$Q$35=\"\",\"\",'報【様式１１・１２】 （コミュ）'!$Q$35)","v":""},{"$f":"'報【様式１１・１２】 （コミュ）'!$Q$36","v":""},{"$f":"'報【様式１１・１２】 （コミュ）'!$Q$49","v":""},"",{"$f":"IF(D163=\"\",\"\",COUNTIF($E$158:E163,E163))","v":""},null,null,null,"",null,""]
[null,{"$f":"IF('報【様式１１・１２】 （コミュ）'!$S$35=\"\",\"\",'報【様式１１・１２】 （コミュ）'!$S$35)","v":""},{"$f":"'報【様式１１・１２】 （コミュ）'!$S$36","v":""},{"$f":"'報【様式１１・１２】 （コミュ）'!$S$49","v":""},"",{"$f":"IF(D164=\"\",\"\",COUNTIF($E$158:E164,E164))","v":""},null,null,null,"",null,""]
[null,{"$f":"IF('報【様式１１・１２】 （コミュ）'!$U$35=\"\",\"\",'報【様式１１・１２】 （コミュ）'!$U$35)","v":""},{"$f":"'報【様式１１・１２】 （コミュ）'!$U$36","v":""},{"$f":"'報【様式１１・１２】 （コミュ）'!$U$49","v":""},"",{"$f":"IF(D165=\"\",\"\",COUNTIF($E$158:E165,E165))","v":""},null,null,null,"",null,""]
[null,{"$f":"IF('報【様式１１・１２】 （コミュ）'!$W$35=\"\",\"\",'報【様式１１・１２】 （コミュ）'!$W$35)","v":""},{"$f":"'報【様式１１・１２】 （コミュ）'!$W$36","v":""},{"$f":"'報【様式１１・１２】 （コミュ）'!$W$49","v":""},"",{"$f":"IF(D166=\"\",\"\",COUNTIF($E$158:E166,E166))","v":""},null,null,null,"",null,""]
[null,{"$f":"IF('報【様式１１・１２】 （コミュ）'!$Y$35=\"\",\"\",'報【様式１１・１２】 （コミュ）'!$Y$35)","v":""},{"$f":"'報【様式１１・１２】 （コミュ）'!$Y$36","v":""},{"$f":"'報【様式１１・１２】 （コミュ）'!$Y$49","v":""},"",{"$f":"IF(D167=\"\",\"\",COUNTIF($E$158:E167,E167))","v":""},null,null,null,"",null,""]
[null,{"$f":"IF('報【様式１１・１２】 （コミュ）'!$AA$35=\"\",\"\",'報【様式１１・１２】 （コミュ）'!$AA$35)","v":""},{"$f":"'報【様式１１・１２】 （コミュ）'!$AA$36","v":""},{"$f":"'報【様式１１・１２】 （コミュ）'!$AA$49","v":""},"",{"$f":"IF(D168=\"\",\"\",COUNTIF($E$158:E168,E168))","v":""},null,null,null,"",null,""]
[null,{"$f":"IF('報【様式１１・１２】 （コミュ）'!$AC$35=\"\",\"\",'報【様式１１・１２】 （コミュ）'!$AC$35)","v":""},{"$f":"'報【様式１１・１２】 （コミュ）'!$AC$36","v":""},{"$f":"'報【様式１１・１２】 （コミュ）'!$AC$49","v":""},"",{"$f":"IF(D169=\"\",\"\",COUNTIF($E$158:E169,E169))","v":""},null,null,null,"",null,""]
["⑭",{"$f":"'報【様式１１・１２】 （コミュ）'!B50","v":""},{"$f":"(H170*35650)+(J170*5200)+(L170*1070)","v":0},null,null,null,"講師",{"$f":"IF(COUNTIF(D171:D182,\"講師\")>0,COUNTIF(F171:F182,1),\"0\")","v":"0"},"実技",{"$f":"SUM(J171:J182)","v":0},"単労",{"$f":"SUM(L171:L182)","v":0}]
[null,{"$f":"IF('報【様式１１・１２】 （コミュ）'!$G$35=\"\",\"\",'報【様式１１・１２】 （コミュ）'!$G$35)","v":""},{"$f":"'報【様式１１・１２】 （コミュ）'!$G$36","v":""},{"$f":"'報【様式１１・１２】 （コミュ）'!$G$50","v":""},{"$f":"B171&D171","v":""},{"$f":"IF(D171=\"\",\"\",COUNTIF($E$171:E171,E171))","v":""},null,null,null,{"$f":"IF(AND(F171=1,SUMIFS($C$171:$C$182,$E$171:$E$182,B171&$I$170)>3),3,IF(AND(F171=1,SUMIFS($C$171:$C$182,$E$171:$E$182,B171&$I$170)<=3),SUMIFS($C$171:$C$182,$E$171:$E$182,B171&$I$170),\"\"))","v":""},null,{"$f":"IF(D171=\"単労\",C171,\"\")","v":""}]
[null,{"$f":"IF('報【様式１１・１２】 （コミュ）'!$I$35=\"\",\"\",'報【様式１１・１２】 （コミュ）'!$I$35)","v":""},{"$f":"'報【様式１１・１２】 （コミュ）'!$I$36","v":""},{"$f":"'報【様式１１・１２】 （コミュ）'!$I$50","v":""},{"$f":"B172&D172","v":""},{"$f":"IF(D172=\"\",\"\",COUNTIF($E$171:E172,E172))","v":""},null,null,null,{"$f":"IF(AND(F172=1,SUMIFS($C$171:$C$182,$E$171:$E$182,B172&$I$170)>3),3,IF(AND(F172=1,SUMIFS($C$171:$C$182,$E$171:$E$182,B172&$I$170)<=3),SUMIFS($C$171:$C$182,$E$171:$E$182,B172&$I$170),\"\"))","v":""},null,{"$f":"IF(D172=\"単労\",C172,\"\")","v":""}]
[null,{"$f":"IF('報【様式１１・１２】 （コミュ）'!$K$35=\"\",\"\",'報【様式１１・１２】 （コミュ）'!$K$35)","v":""},{"$f":"'報【様式１１・１２】 （コミュ）'!$K$36","v":""},{"$f":"'報【様式１１・１２】 （コミュ）'!$K$50","v":""},"",{"$f":"IF(D173=\"\",\"\",COUNTIF($E$171:E173,E173))","v":""},null,null,null,"",null,""]
[null,{"$f":"IF('報【様式１１・１２】 （コミュ）'!$M$35=\"\",\"\",'報【様式１１・１２】 （コミュ）'!$M$35)","v":""},{"$f":"'報【様式１１・１２】 （コミュ）'!$M$36","v":""},{"$f":"'報【様式１１・１２】 （コミュ）'!$M$50","v":""},"",{"$f":"IF(D174=\"\",\"\",COUNTIF($E$171:E174,E174))","v":""},null,null,null,"",null,""]
[null,{"$f":"IF('報【様式１１・１２】 （コミュ）'!$O$35=\"\",\"\",'報【様式１１・１２】 （コミュ）'!$O$35)","v":""},{"$f":"'報【様式１１・１２】 （コミュ）'!$O$36","v":""},{"$f":"'報【様式１１・１２】 （コミュ）'!$O$50","v":""},"",{"$f":"IF(D175=\"\",\"\",COUNTIF($E$171:E175,E175))","v":""},null,null,null,"",null,""]
[null,{"$f":"IF('報【様式１１・１２】 （コミュ）'!$Q$35=\"\",\"\",'報【様式１１・１２】 （コミュ）'!$Q$35)","v":""},{"$f":"'報【様式１１・１２】 （コミュ）'!$Q$36","v":""},{"$f":"'報【様式１１・１２】 （コミュ）'!$Q$50","v":""},"",{"$f":"IF(D176=\"\",\"\",COUNTIF($E$171:E176,E176))","v":""},null,null,null,"",null,""]
[null,{"$f":"IF('報【様式１１・１２】 （コミュ）'!$S$35=\"\",\"\",'報【様式１１・１２】 （コミュ）'!$S$35)","v":""},{"$f":"'報【様式１１・１２】 （コミュ）'!$S$36","v":""},{"$f":"'報【様式１１・１２】 （コミュ）'!$S$50","v":""},"",{"$f":"IF(D177=\"\",\"\",COUNTIF($E$171:E177,E177))","v":""},null,null,null,"",null,""]
[null,{"$f":"IF('報【様式１１・１２】 （コミュ）'!$U$35=\"\",\"\",'報【様式１１・１２】 （コミュ）'!$U$35)","v":""},{"$f":"'報【様式１１・１２】 （コミュ）'!$U$36","v":""},{"$f":"'報【様式１１・１２】 （コミュ）'!$U$50","v":""},"",{"$f":"IF(D178=\"\",\"\",COUNTIF($E$171:E178,E178))","v":""},null,null,null,"",null,""]
[null,{"$f":"IF('報【様式１１・１２】 （コミュ）'!$W$35=\"\",\"\",'報【様式１１・１２】 （コミュ）'!$W$35)","v":""},{"$f":"'報【様式１１・１２】 （コミュ）'!$W$36","v":""},{"$f":"'報【様式１１・１２】 （コミュ）'!$W$50","v":""},"",{"$f":"IF(D179=\"\",\"\",COUNTIF($E$171:E179,E179))","v":""},null,null,null,"",null,""]
[null,{"$f":"IF('報【様式１１・１２】 （コミュ）'!$Y$35=\"\",\"\",'報【様式１１・１２】 （コミュ）'!$Y$35)","v":""},{"$f":"'報【様式１１・１２】 （コミュ）'!$Y$36","v":""},{"$f":"'報【様式１１・１２】 （コミュ）'!$Y$50","v":""},"",{"$f":"IF(D180=\"\",\"\",COUNTIF($E$171:E180,E180))","v":""},null,null,null,"",null,""]
[null,{"$f":"IF('報【様式１１・１２】 （コミュ）'!$AA$35=\"\",\"\",'報【様式１１・１２】 （コミュ）'!$AA$35)","v":""},{"$f":"'報【様式１１・１２】 （コミュ）'!$AA$36","v":""},{"$f":"'報【様式１１・１２】 （コミュ）'!$AA$50","v":""},"",{"$f":"IF(D181=\"\",\"\",COUNTIF($E$171:E181,E181))","v":""},null,null,null,"",null,""]
[null,{"$f":"IF('報【様式１１・１２】 （コミュ）'!$AC$35=\"\",\"\",'報【様式１１・１２】 （コミュ）'!$AC$35)","v":""},{"$f":"'報【様式１１・１２】 （コミュ）'!$AC$36","v":""},{"$f":"'報【様式１１・１２】 （コミュ）'!$AC$50","v":""},"",{"$f":"IF(D182=\"\",\"\",COUNTIF($E$171:E182,E182))","v":""},null,null,null,"",null,""]
["⑮",{"$f":"'報【様式１１・１２】 （コミュ）'!B51","v":""},{"$f":"(H183*35650)+(J183*5200)+(L183*1070)","v":0},null,null,null,"講師",{"$f":"IF(COUNTIF(D184:D195,\"講師\")>0,COUNTIF(F184:F195,1),\"0\")","v":"0"},"実技",{"$f":"SUM(J184:J195)","v":0},"単労",{"$f":"SUM(L184:L195)","v":0}]
[null,{"$f":"IF('報【様式１１・１２】 （コミュ）'!$G$35=\"\",\"\",'報【様式１１・１２】 （コミュ）'!$G$35)","v":""},{"$f":"'報【様式１１・１２】 （コミュ）'!$G$36","v":""},{"$f":"'報【様式１１・１２】 （コミュ）'!$G$51","v":""},{"$f":"B184&D184","v":""},{"$f":"IF(D184=\"\",\"\",COUNTIF($E$184:E184,E184))","v":""},null,null,null,{"$f":"IF(AND(F184=1,SUMIFS($C$184:$C$195,$E$184:$E$195,B184&$I$183)>3),3,IF(AND(F184=1,SUMIFS($C$184:$C$195,$E$184:$E$195,B184&$I$183)<=3),SUMIFS($C$184:$C$195,$E$184:$E$195,B184&$I$183),\"\"))","v":""},null,{"$f":"IF(D184=\"単労\",C184,\"\")","v":""}]
[null,{"$f":"IF('報【様式１１・１２】 （コミュ）'!$I$35=\"\",\"\",'報【様式１１・１２】 （コミュ）'!$I$35)","v":""},{"$f":"'報【様式１１・１２】 （コミュ）'!$I$36","v":""},{"$f":"'報【様式１１・１２】 （コミュ）'!$I$51","v":""},{"$f":"B185&D185","v":""},{"$f":"IF(D185=\"\",\"\",COUNTIF($E$184:E185,E185))","v":""},null,null,null,{"$f":"IF(AND(F185=1,SUMIFS($C$184:$C$195,$E$184:$E$195,B185&$I$183)>3),3,IF(AND(F185=1,SUMIFS($C$184:$C$195,$E$184:$E$195,B185&$I$183)<=3),SUMIFS($C$184:$C$195,$E$184:$E$195,B185&$I$183),\"\"))","v":""},null,{"$f":"IF(D185=\"単労\",C185,\"\")","v":""}]
[null,{"$f":"IF('報【様式１１・１２】 （コミュ）'!$K$35=\"\",\"\",'報【様式１１・１２】 （コミュ）'!$K$35)","v":""},{"$f":"'報【様式１１・１２】 （コミュ）'!$K$36","v":""},{"$f":"'報【様式１１・１２】 （コミュ）'!$K$51","v":""},"",{"$f":"IF(D186=\"\",\"\",COUNTIF($E$184:E186,E186))","v":""},null,null,null,"",null,""]
[null,{"$f":"IF('報【様式１１・１２】 （コミュ）'!$M$35=\"\",\"\",'報【様式１１・１２】 （コミュ）'!$M$35)","v":""},{"$f":"'報【様式１１・１２】 （コミュ）'!$M$36","v":""},{"$f":"'報【様式１１・１２】 （コミュ）'!$M$51","v":""},"",{"$f":"IF(D187=\"\",\"\",COUNTIF($E$184:E187,E187))","v":""},null,null,null,"",null,""]
[null,{"$f":"IF('報【様式１１・１２】 （コミュ）'!$O$35=\"\",\"\",'報【様式１１・１２】 （コミュ）'!$O$35)","v":""},{"$f":"'報【様式１１・１２】 （コミュ）'!$O$36","v":""},{"$f":"'報【様式１１・１２】 （コミュ）'!$O$51","v":""},"",{"$f":"IF(D188=\"\",\"\",COUNTIF($E$184:E188,E188))","v":""},null,null,null,"",null,""]
[null,{"$f":"IF('報【様式１１・１２】 （コミュ）'!$Q$35=\"\",\"\",'報【様式１１・１２】 （コミュ）'!$Q$35)","v":""},{"$f":"'報【様式１１・１２】 （コミュ）'!$Q$36","v":""},{"$f":"'報【様式１１・１２】 （コミュ）'!$Q$51","v":""},"",{"$f":"IF(D189=\"\",\"\",COUNTIF($E$184:E189,E189))","v":""},null,null,null,"",null,""]
[null,{"$f":"IF('報【様式１１・１２】 （コミュ）'!$S$35=\"\",\"\",'報【様式１１・１２】 （コミュ）'!$S$35)","v":""},{"$f":"'報【様式１１・１２】 （コミュ）'!$S$36","v":""},{"$f":"'報【様式１１・１２】 （コミュ）'!$S$51","v":""},"",{"$f":"IF(D190=\"\",\"\",COUNTIF($E$184:E190,E190))","v":""},null,null,null,"",null,""]
[null,{"$f":"IF('報【様式１１・１２】 （コミュ）'!$U$35=\"\",\"\",'報【様式１１・１２】 （コミュ）'!$U$35)","v":""},{"$f":"'報【様式１１・１２】 （コミュ）'!$U$36","v":""},{"$f":"'報【様式１１・１２】 （コミュ）'!$U$51","v":""},"",{"$f":"IF(D191=\"\",\"\",COUNTIF($E$184:E191,E191))","v":""},null,null,null,"",null,""]
[null,{"$f":"IF('報【様式１１・１２】 （コミュ）'!$W$35=\"\",\"\",'報【様式１１・１２】 （コミュ）'!$W$35)","v":""},{"$f":"'報【様式１１・１２】 （コミュ）'!$W$36","v":""},{"$f":"'報【様式１１・１２】 （コミュ）'!$W$51","v":""},"",{"$f":"IF(D192=\"\",\"\",COUNTIF($E$184:E192,E192))","v":""},null,null,null,"",null,""]
[null,{"$f":"IF('報【様式１１・１２】 （コミュ）'!$Y$35=\"\",\"\",'報【様式１１・１２】 （コミュ）'!$Y$35)","v":""},{"$f":"'報【様式１１・１２】 （コミュ）'!$Y$36","v":""},{"$f":"'報【様式１１・１２】 （コミュ）'!$Y$51","v":""},"",{"$f":"IF(D193=\"\",\"\",COUNTIF($E$184:E193,E193))","v":""},null,null,null,"",null,""]
[null,{"$f":"IF('報【様式１１・１２】 （コミュ）'!$AA$35=\"\",\"\",'報【様式１１・１２】 （コミュ）'!$AA$35)","v":""},{"$f":"'報【様式１１・１２】 （コミュ）'!$AA$36","v":""},{"$f":"'報【様式１１・１２】 （コミュ）'!$AA$51","v":""},"",{"$f":"IF(D194=\"\",\"\",COUNTIF($E$184:E194,E194))","v":""},null,null,null,"",null,""]
[null,{"$f":"IF('報【様式１１・１２】 （コミュ）'!$AC$35=\"\",\"\",'報【様式１１・１２】 （コミュ）'!$AC$35)","v":""},{"$f":"'報【様式１１・１２】 （コミュ）'!$AC$36","v":""},{"$f":"'報【様式１１・１２】 （コミュ）'!$AC$51","v":""},"",{"$f":"IF(D195=\"\",\"\",COUNTIF($E$184:E195,E195))","v":""},null,null,null,"",null,""]

{"sheet":"選択肢","index":27,"n_rows":91,"n_cols":64,"rows_kept":91,"cut":false,"hidden":true,"merged":[[15,35,15,37]]}
[null,"大項目",null,"音楽","演劇","舞踊","大衆芸能","美術","伝統芸能","文学","生活文化","メディア芸術",null,"理由",null,"NO","都道府県",null,"交通機関名",null,"学年単位","その他","学級単位",null,"教科の位置付け",null,"教科名","特別活動名","その他位置付け",null,"参加児童生徒単位",null,null,"会場",null,"1",{"$f":"IF('申報【様式２】（共通）'!D15=\"\",\"\",IF('申報【様式２】（共通）'!B15=\"○\",\"\",'申報【様式２】（共通）'!D15))","v":""},{"$f":"IFERROR(INDEX(AK:AK,SMALL(IF(AK:AK<>\"\",ROW(AK:AK)),ROW(AK1))),\"\")","v":""},null,"北海道","北海道教育庁　生涯学習推進局","社会教育課",{"$f":"AO1&AP1&\"長殿\"","v":"北海道教育庁　生涯学習推進局社会教育課長殿"},null,"北海道",1,"北海道","総務部法人局学事課",{"$f":"AU1&AV1&\"長殿\"","v":"北海道総務部法人局学事課長殿"},null,"c北海道","c栃木県","c東京都","c神奈川県","c岐阜県","c静岡県","c滋賀県","c大阪府","c兵庫県","c岡山県","c香川県","c福岡県","c佐賀県","c沖縄県"]
[1,"音楽",null,"A　ピアノ","A　現代劇","A　バレエ","A　落語","A　洋画","A　歌舞伎","A　俳句","A　囲碁","A　メディアアート",null,"希望する講師が芸術分野以外にも申請校が求める専門スキル（福祉現場での活動経験が豊富等）を所有しており他の講師での実施は困難である。",null,1,"北海道",null,"航空機",null,"1年生","参加単位を記入してください　※25文字以内","学級（1年1組等）を記入してください　※25文字以内",null,"教科","教科名","国語","特別活動名を入力してください","その他位置付けの内容を入力してください　※25文字以内",null,"全校児童/生徒",null,null,"実施校の教室・体育館",null,"2",{"$f":"IF('申報【様式２】（共通）'!D16=\"\",\"\",IF('申報【様式２】（共通）'!B16=\"○\",\"\",'申報【様式２】（共通）'!D16))","v":""},{"$f":"IFERROR(INDEX(AK:AK,SMALL(IF(AK:AK<>\"\",ROW(AK:AK)),ROW(AK2))),\"\")","v":""},null,"青森県","青森県教育庁","学校教育課",{"$f":"AO2&AP2&\"長殿\"","v":"青森県教育庁学校教育課長殿"},null,"北海道",2,"北海道教育庁","生涯学習推進局社会教育課",{"$f":"AU2&AV2&\"長殿\"","v":"北海道教育庁生涯学習推進局社会教育課長殿"},null,"北海道総務部法人局学事課長殿","栃木県教育委員会事務局義務教育課長殿","東京都教育庁指導部指導企画課長殿","神奈川県教育委員会教育局支援部子ども教育支援課長殿","岐阜県環境生活部県民文化局文化伝承課長殿","静岡県教育委員会義務教育課長殿","滋賀県教育委員会事務局幼小中教育課長殿","大阪府教育庁市町村教育室小中学校課長殿","兵庫県教育委員会事務局義務教育課長殿","岡山県教育庁義務教育課長殿","香川県教育委員会事務局義務教育課長殿","福岡県教育庁教育振興部義務教育課長殿","佐賀県学校教育課長殿","沖縄県教育庁義務教育課長殿"]
[2,"演劇",null,"B　声楽","B　ミュージカル","B　現代舞踊","B　講談","B　日本画","B　能楽","B　朗読","B　将棋","B　映画",null,"希望する分野専門の講師が他にいないため。",null,2,"青森県",null,"JR特急あり",null,"2年生",null,null,null,"道徳","　","社会",null,null,null,"学年単位","内訳",null,"合同開催校の教室・体育館",null,"3",{"$f":"IF('申報【様式２】（共通）'!D17=\"\",\"\",IF('申報【様式２】（共通）'!B17=\"○\",\"\",'申報【様式２】（共通）'!D17))","v":""},{"$f":"IFERROR(INDEX(AK:AK,SMALL(IF(AK:AK<>\"\",ROW(AK:AK)),ROW(AK3))),\"\")","v":""},null,"岩手県","岩手県文化スポーツ部","文化振興課","岩手県文化スポーツ部文化振興課長殿",null,"青森県",1,"青森県教育庁","学校教育課","青森県教育庁学校教育課長殿",null,"北海道教育庁生涯学習推進局社会教育課長殿","栃木県教育委員会事務局高校教育課長殿","東京都教育庁生活文化スポーツ局私学部私学行政課長殿","神奈川県福祉子どもみらい局子どもみらい部私学振興課長殿","岐阜県教育委員会学校支援課長殿","静岡県教育委員会高校教育課長殿","滋賀県教育委員会事務局高校教育課長殿","大阪府教育庁私学課長殿","兵庫県企画県民部管理局教育課長殿","岡山県総務部総務学事課長殿","香川県教育委員会事務局高校教育課長殿","福岡県人づくり・県民生活部私学振興・青少年育成局私学振興課長殿","佐賀県法務私学課長殿","沖縄県教育庁県立学校教育課長殿"]
[3,"舞踊",null,"C　弦楽器","C　人形劇","C　身体表現","C　漫才","C　版画","C　人形浄瑠璃","C　その他","C　華道","C　アニメーション",null,"申請校に音楽専科・美術専科の教員がいないため。",null,3,"岩手県",null,"JR特急なし",null,"3年生",null,null,null,"総合的な学習の時間","　","算数／数学",null,null,null,"学級単位","内訳",null,"文化施設等",null,"4",{"$f":"IF('申報【様式２】（共通）'!D18=\"\",\"\",IF('申報【様式２】（共通）'!B18=\"○\",\"\",'申報【様式２】（共通）'!D18))","v":""},{"$f":"IFERROR(INDEX(AK:AK,SMALL(IF(AK:AK<>\"\",ROW(AK:AK)),ROW(AK4))),\"\")","v":""},null,"宮城県","宮城県教育庁","生涯学習課","宮城県教育庁生涯学習課長殿",null,"岩手県",1,"岩手県教育委員会事務局","学校教育室","岩手県教育委員会事務局学校教育室長殿",null,null,"栃木県経営管理部　文書学事課長殿",null,"神奈川県教育委員会教育局特別支援教育課長殿",null,"静岡県教育委員会特別支援教育課長殿",null,"大阪府教育庁教育振興室　支援教育課長殿",null,null,null,"福岡県教育庁教育振興部特別支援教育課長殿"]
[4,"大衆芸能",null,"D　パーカッション","D　児童劇","D　その他","D　浪曲","D　彫刻","D　日本舞踊",null,"D　茶道","D　マンガ",null,"その他",null,4,"宮城県",null,"私鉄特急あり",null,"4年生",null,null,null,"特別活動","特別活動名","理科",null,null,null,"その他","内訳",null,null,null,"5",{"$f":"IF('申報【様式２】（共通）'!D19=\"\",\"\",IF('申報【様式２】（共通）'!B19=\"○\",\"\",'申報【様式２】（共通）'!D19))","v":""},{"$f":"IFERROR(INDEX(AK:AK,SMALL(IF(AK:AK<>\"\",ROW(AK:AK)),ROW(AK5))),\"\")","v":""},null,"秋田県","秋田県教育庁","生涯学習課","秋田県教育庁生涯学習課長殿",null,"宮城県",1,"宮城県教育庁","義務教育課","宮城県教育庁義務教育課長殿",null,null,null,null,"神奈川県教育委員会教育局指導部高校教育課長殿",null,"静岡県　スポーツ・文化観光部  私学振興課長殿",null,null,null,null,null,"福岡県教育庁教育振興部高校教育課長殿"]
[5,"美術",null,"E　管楽器","E　その他",null,"E　その他","E　書","E　和太鼓",null,"E　和装","E　映像",null,null,null,5,"秋田県",null,"私鉄特急なし",null,"5年生",null,null,null,"その他","その他位置付け","生活",null,null,null,null,null,null,null,null,"6",{"$f":"IF('申報【様式２】（共通）'!D20=\"\",\"\",IF('申報【様式２】（共通）'!B20=\"○\",\"\",'申報【様式２】（共通）'!D20))","v":""},{"$f":"IFERROR(INDEX(AK:AK,SMALL(IF(AK:AK<>\"\",ROW(AK:AK)),ROW(AK6))),\"\")","v":""},null,"山形県","山形県教育庁","義務教育課","山形県教育庁義務教育課長殿",null,"秋田県",1,"秋田県教育庁","義務教育課","秋田県教育庁義務教育課長殿"]
[6,"伝統芸能",null,"F　合唱",null,null,null,"F　写真","F　箏",null,"F　食文化","F　その他",null,null,null,6,"山形県",null,"船",null,"6年生",null,null,null,null,null,"音楽",null,null,null,null,null,null,null,null,"7",{"$f":"IF('申報【様式２】（共通）'!D21=\"\",\"\",IF('申報【様式２】（共通）'!B21=\"○\",\"\",'申報【様式２】（共通）'!D21))","v":""},{"$f":"IFERROR(INDEX(AK:AK,SMALL(IF(AK:AK<>\"\",ROW(AK:AK)),ROW(AK7))),\"\")","v":""},null,"福島県","福島県","文化振興課","福島県文化振興課長殿",null,"山形県",1,"山形県教育庁","義務教育課","山形県教育庁義務教育課長殿"]
[7,"文学",null,"G　オーケストラ等",null,null,null,"G　その他","G　三味線",null,"G　その他",null,null,null,null,7,"福島県",null,"路線バス",null,"（　　）年生",null,null,null,null,null,"美術",null,null,null,null,null,null,null,null,"8",{"$f":"IF('申報【様式２】（共通）'!D22=\"\",\"\",IF('申報【様式２】（共通）'!B22=\"○\",\"\",'申報【様式２】（共通）'!D22))","v":""},{"$f":"IFERROR(INDEX(AK:AK,SMALL(IF(AK:AK<>\"\",ROW(AK:AK)),ROW(AK8))),\"\")","v":""},null,"茨城県","茨城県教育庁総務企画部","文化課","茨城県教育庁総務企画部文化課長殿",null,"福島県",1,"福島県教育庁","義務教育課","福島県教育庁義務教育課長殿"]
[8,"生活文化",null,"H　音楽劇（オペラ）",null,null,null,null,"H　邦楽",null,null,null,null,null,null,8,"茨城県",null,"自家用車",null,null,null,null,null,null,null,"図画工作",null,null,null,null,null,null,null,null,"9",{"$f":"IF('申報【様式２】（共通）'!D23=\"\",\"\",IF('申報【様式２】（共通）'!B23=\"○\",\"\",'申報【様式２】（共通）'!D23))","v":""},{"$f":"IFERROR(INDEX(AK:AK,SMALL(IF(AK:AK<>\"\",ROW(AK:AK)),ROW(AK9))),\"\")","v":""},null,"栃木県","栃木県教育委員会事務局","生涯学習課","栃木県教育委員会事務局生涯学習課長殿",null,"茨城県",1,"茨城県教育庁","学校教育部義務教育課","茨城県教育庁学校教育部義務教育課長殿"]
[9,"メディア芸術",null,"I　その他",null,null,null,null,"I　その他",null,null,null,null,null,null,9,"栃木県",null,"高速代",null,null,null,null,null,null,null,"家庭・技術",null,null,null,null,null,null,null,null,"10",{"$f":"IF('申報【様式２】（共通）'!D24=\"\",\"\",IF('申報【様式２】（共通）'!B24=\"○\",\"\",'申報【様式２】（共通）'!D24))","v":""},{"$f":"IFERROR(INDEX(AK:AK,SMALL(IF(AK:AK<>\"\",ROW(AK:AK)),ROW(AK10))),\"\")","v":""},null,"群馬県","群馬県地域創生部","文化振興課","群馬県地域創生部文化振興課長殿",null,"栃木県",1,"栃木県教育委員会事務局","義務教育課","栃木県教育委員会事務局義務教育課長殿"]
[null,null,null,null,null,null,null,null,null,null,null,null,null,null,null,10,"群馬県",null,"自家用車(同乗)",null,null,null,null,null,null,null,"体育／保健体育",null,null,null,null,null,null,null,null,"11",{"$f":"IF('申報【様式２】（共通）'!D25=\"\",\"\",IF('申報【様式２】（共通）'!B25=\"○\",\"\",'申報【様式２】（共通）'!D25))","v":""},{"$f":"IFERROR(INDEX(AK:AK,SMALL(IF(AK:AK<>\"\",ROW(AK:AK)),ROW(AK11))),\"\")","v":""},null,"埼玉県","埼玉県教育局　市町村支援部","文化資源課","埼玉県教育局　市町村支援部文化資源課長殿",null,"栃木県",2,"栃木県教育委員会事務局","高校教育課","栃木県教育委員会事務局高校教育課長殿"]
[null,null,null,null,null,null,null,null,null,null,null,null,null,null,null,11,"埼玉県",null,"運搬車(同乗)",null,null,null,null,null,null,null,"外国語",null,null,null,null,null,null,null,null,"12",{"$f":"IF('申報【様式２】（共通）'!D26=\"\",\"\",IF('申報【様式２】（共通）'!B26=\"○\",\"\",'申報【様式２】（共通）'!D26))","v":""},{"$f":"IFERROR(INDEX(AK:AK,SMALL(IF(AK:AK<>\"\",ROW(AK:AK)),ROW(AK12))),\"\")","v":""},null,"千葉県","千葉県教育庁　教育振興部","学習指導課","千葉県教育庁　教育振興部学習指導課長殿",null,"栃木県",3,"栃木県","経営管理部　文書学事課","栃木県経営管理部　文書学事課長殿"]
[null,null,null,null,null,null,null,null,null,null,null,null,null,null,null,12,"千葉県",null,"徒歩",null,null,null,null,null,null,null,null,null,null,null,null,null,null,null,null,"13",{"$f":"IF('申報【様式２】（共通）'!D27=\"\",\"\",IF('申報【様式２】（共通）'!B27=\"○\",\"\",'申報【様式２】（共通）'!D27))","v":""},{"$f":"IFERROR(INDEX(AK:AK,SMALL(IF(AK:AK<>\"\",ROW(AK:AK)),ROW(AK13))),\"\")","v":""},null,"東京都","東京都生活文化局文化振興部","文化事業課","東京都生活文化局文化振興部文化事業課長殿",null,"群馬県",1,"群馬県地域創生部","文化振興課","群馬県地域創生部文化振興課長殿"]
[null,null,null,null,null,null,null,null,null,null,null,null,null,null,null,13,"東京都",null,"その他",null,null,null,null,null,null,null,null,null,null,null,null,null,null,null,null,"14",{"$f":"IF('申報【様式２】（共通）'!D28=\"\",\"\",IF('申報【様式２】（共通）'!B28=\"○\",\"\",'申報【様式２】（共通）'!D28))","v":""},{"$f":"IFERROR(INDEX(AK:AK,SMALL(IF(AK:AK<>\"\",ROW(AK:AK)),ROW(AK14))),\"\")","v":""},null,"神奈川県","神奈川県教育委員会","生涯学習課","神奈川県教育委員会生涯学習課長殿",null,"埼玉県",1,"埼玉県教育局","市町村支援部義務教育指導課","埼玉県教育局市町村支援部義務教育指導課長殿"]
[null,null,null,null,null,null,null,null,null,null,null,null,null,null,null,14,"神奈川県",null,null,null,null,null,null,null,null,null,null,null,null,null,null,null,null,null,null,"15",{"$f":"IF('申報【様式２】（共通）'!D29=\"\",\"\",IF('申報【様式２】（共通）'!B29=\"○\",\"\",'申報【様式２】（共通）'!D29))","v":""},{"$f":"IFERROR(INDEX(AK:AK,SMALL(IF(AK:AK<>\"\",ROW(AK:AK)),ROW(AK15))),\"\")","v":""},null,"新潟県","新潟県教育庁","義務教育課","新潟県教育庁義務教育課長殿",null,"千葉県",1,"千葉県教育庁","教育振興部学習指導課","千葉県教育庁教育振興部学習指導課長殿"]
[null,null,null,null,null,null,null,null,null,null,null,null,null,null,null,15,"新潟県",null,null,null,null,null,null,null,null,null,null,null,null,null,null,null,null,null,null,"様式2・3（派遣）　補助者リスト",null,null,null,"富山県","富山県教育委員会","生涯学習・文化財室","富山県教育委員会生涯学習・文化財室長殿",null,"東京都",1,"東京都教育庁","指導部指導企画課","東京都教育庁指導部指導企画課長殿"]
[null,null,null,null,null,null,null,null,null,null,null,null,null,null,null,16,"富山県",null,null,null,null,null,null,null,null,null,null,null,null,null,null,null,null,null,null,null,null,null,null,"石川県","石川県県民文化スポーツ部","文化振興課","石川県県民文化スポーツ部文化振興課長殿",null,"東京都",2,"東京都教育庁","生活文化スポーツ局私学部私学行政課","東京都教育庁生活文化スポーツ局私学部私学行政課長殿"]
[null,null,null,null,null,null,null,null,null,null,null,null,null,null,null,17,"石川県",null,null,null,null,null,null,null,null,null,null,null,null,null,null,null,null,null,null,null,null,null,null,"福井県","福井県交流文化部　文化・スポーツ局","文化課","福井県交流文化部　文化・スポーツ局文化課長殿",null,"神奈川県",1,"神奈川県教育委員会","教育局支援部子ども教育支援課","神奈川県教育委員会教育局支援部子ども教育支援課長殿"]
[null,null,null,null,null,null,null,null,null,null,null,null,null,null,null,18,"福井県",null,null,null,null,null,null,null,null,null,null,null,null,null,null,null,null,null,null,null,null,null,null,"山梨県","山梨県教育庁","高校教育課","山梨県教育庁高校教育課長殿",null,"神奈川県",2,"神奈川県","福祉子どもみらい局子どもみらい部私学振興課","神奈川県福祉子どもみらい局子どもみらい部私学振興課長殿"]
[null,null,null,null,null,null,null,null,null,null,null,null,null,null,null,19,"山梨県",null,null,null,null,null,null,null,null,null,null,null,null,null,null,null,null,null,null,null,null,null,null,"長野県","長野県教育委員会事務局","学びの改革支援課","長野県教育委員会事務局学びの改革支援課長殿",null,"神奈川県",3,"神奈川県教育委員会","教育局特別支援教育課","神奈川県教育委員会教育局特別支援教育課長殿"]
[null,null,null,null,null,null,null,null,null,null,null,null,null,null,null,20,"長野県",null,null,null,null,null,null,null,null,null,null,null,null,null,null,null,null,null,null,null,null,null,null,"岐阜県","岐阜県環境生活部県民文化局","文化伝承課","岐阜県環境生活部県民文化局文化伝承課長殿",null,"神奈川県",4,"神奈川県教育委員会","教育局指導部高校教育課","神奈川県教育委員会教育局指導部高校教育課長殿"]
[null,null,null,null,null,null,null,null,null,null,null,null,null,null,null,21,"岐阜県",null,null,null,null,null,null,null,null,null,null,null,null,null,null,null,null,null,null,null,null,null,null,"静岡県","静岡県スポーツ・文化観光部","文化政策課","静岡県スポーツ・文化観光部文化政策課長殿",null,"新潟県",1,"新潟県教育庁","義務教育課","新潟県教育庁義務教育課長殿"]
[null,null,null,null,null,null,null,null,null,null,null,null,null,null,null,22,"静岡県",null,null,null,null,null,null,null,null,null,null,null,null,null,null,null,null,null,null,null,null,null,null,"愛知県","愛知県教育委員会","生涯学習課","愛知県教育委員会生涯学習課長殿",null,"富山県",1,"富山県教育委員会","小中学校課","富山県教育委員会小中学校課長殿"]
[null,null,null,null,null,null,null,null,null,null,null,null,null,null,null,23,"愛知県",null,null,null,null,null,null,null,null,null,null,null,null,null,null,null,null,null,null,null,null,null,null,"三重県","三重県教育委員会事務局","小中学校教育課","三重県教育委員会事務局小中学校教育課長殿",null,"石川県",1,"石川県教育委員会","学校指導課","石川県教育委員会学校指導課長殿"]
[null,null,null,null,null,null,null,null,null,null,null,null,null,null,null,24,"三重県",null,null,null,null,null,null,null,null,null,null,null,null,null,null,null,null,null,null,null,null,null,null,"滋賀県","滋賀県文化スポーツ部","文化芸術振興課","滋賀県文化スポーツ部文化芸術振興課長殿",null,"福井県",1,"福井県","交流文化部文化・スポーツ局文化課","福井県交流文化部文化・スポーツ局文化課長殿"]
[null,null,null,null,null,null,null,null,null,null,null,null,null,null,null,25,"滋賀県",null,null,null,null,null,null,null,null,null,null,null,null,null,null,null,null,null,null,null,null,null,null,"京都府","京都府教育庁指導部","社会教育課","京都府教育庁指導部社会教育課長殿",null,"山梨県",1,"山梨県教育庁","高校教育課","山梨県教育庁高校教育課長殿"]
[null,null,null,null,null,null,null,null,null,null,null,null,null,null,null,26,"京都府",null,null,null,null,null,null,null,null,null,null,null,null,null,null,null,null,null,null,null,null,null,null,"大阪府","大阪府　府民文化部","文化・スポーツ室　文化課","大阪府　府民文化部文化・スポーツ室　文化課長殿",null,"長野県",1,"長野県教育委員会事務局","学びの改革支援課","長野県教育委員会事務局学びの改革支援課長殿"]
[null,null,null,null,null,null,null,null,null,null,null,null,null,null,null,27,"大阪府",null,null,null,null,null,null,null,null,null,null,null,null,null,null,null,null,null,null,null,null,null,null,"兵庫県","兵庫県教育委員会事務局","義務教育課","兵庫県教育委員会事務局義務教育課長殿",null,"岐阜県",1,"岐阜県環境生活部県民文化局","文化伝承課","岐阜県環境生活部県民文化局文化伝承課長殿"]
[null,null,null,null,null,null,null,null,null,null,null,null,null,null,null,28,"兵庫県",null,null,null,null,null,null,null,null,null,null,null,null,null,null,null,null,null,null,null,null,null,null,"奈良県","奈良県教育委員会事務局","学ぶ力はぐくみ課","奈良県教育委員会事務局学ぶ力はぐくみ課長殿",null,"岐阜県",2,"岐阜県教育委員会","学校支援課","岐阜県教育委員会学校支援課長殿"]
[null,null,null,null,null,null,null,null,null,null,null,null,null,null,null,29,"奈良県",null,null,null,null,null,null,null,null,null,null,null,null,null,null,null,null,null,null,null,null,null,null,"和歌山県","和歌山県教育庁","文化遺産課","和歌山県教育庁文化遺産課長殿",null,"静岡県",1,"静岡県教育委員会","義務教育課","静岡県教育委員会義務教育課長殿"]
[null,null,null,null,null,null,null,null,null,null,null,null,null,null,null,30,"和歌山県",null,null,null,null,null,null,null,null,null,null,null,null,null,null,null,null,null,null,null,null,null,null,"鳥取県","鳥取県地域づくり推進部","文化政策課","鳥取県地域づくり推進部文化政策課長殿",null,"静岡県",2,"静岡県教育委員会","高校教育課","静岡県教育委員会高校教育課長殿"]
[null,null,null,null,null,null,null,null,null,null,null,null,null,null,null,31,"鳥取県",null,null,null,null,null,null,null,null,null,null,null,null,null,null,null,null,null,null,null,null,null,null,"島根県","島根県教育庁","教育指導課","島根県教育庁教育指導課長殿",null,"静岡県",3,"静岡県教育委員会","特別支援教育課","静岡県教育委員会特別支援教育課長殿"]
[null,null,null,null,null,null,null,null,null,null,null,null,null,null,null,32,"島根県",null,null,null,null,null,null,null,null,null,null,null,null,null,null,null,null,null,null,null,null,null,null,"岡山県","岡山県教育庁","生涯学習課","岡山県教育庁生涯学習課長殿",null,"静岡県",4,"静岡県　","スポーツ・文化観光部  私学振興課","静岡県　スポーツ・文化観光部  私学振興課長殿"]
[null,null,null,null,null,null,null,null,null,null,null,null,null,null,null,33,"岡山県",null,null,null,null,null,null,null,null,null,null,null,null,null,null,null,null,null,null,null,null,null,null,"広島県","広島県環境県民局","文化芸術課","広島県環境県民局文化芸術課長殿",null,"愛知県",1,"愛知県教育委員会","義務教育課","愛知県教育委員会義務教育課長殿"]
[null,null,null,null,null,null,null,null,null,null,null,null,null,null,null,34,"広島県",null,null,null,null,null,null,null,null,null,null,null,null,null,null,null,null,null,null,null,null,null,null,"山口県","山口県教育庁","義務教育課","山口県教育庁義務教育課長殿",null,"三重県",1,"三重県教育委員会事務局","高校教育課","三重県教育委員会事務局高校教育課長殿"]
[null,null,null,null,null,null,null,null,null,null,null,null,null,null,null,35,"山口県",null,null,null,null,null,null,null,null,null,null,null,null,null,null,null,null,null,null,null,null,null,null,"徳島県","徳島県教育委員会","学校教育課","徳島県教育委員会学校教育課長殿",null,"滋賀県",1,"滋賀県教育委員会事務局","幼小中教育課","滋賀県教育委員会事務局幼小中教育課長殿"]
[null,null,null,null,null,null,null,null,null,null,null,null,null,null,null,36,"徳島県",null,null,null,null,null,null,null,null,null,null,null,null,null,null,null,null,null,null,null,null,null,null,"香川県","香川県政策部文化芸術局","文化振興課","香川県政策部文化芸術局文化振興課長殿",null,"滋賀県",2,"滋賀県教育委員会事務局","高校教育課","滋賀県教育委員会事務局高校教育課長殿"]
[null,null,null,null,null,null,null,null,null,null,null,null,null,null,null,37,"香川県",null,null,null,null,null,null,null,null,null,null,null,null,null,null,null,null,null,null,null,null,null,null,"愛媛県","愛媛県　観光スポーツ文化部文化局","文化振興課","愛媛県　観光スポーツ文化部文化局文化振興課長殿",null,"京都府",1,"京都府教育庁","指導部学校教育課","京都府教育庁指導部学校教育課長殿"]
[null,null,null,null,null,null,null,null,null,null,null,null,null,null,null,38,"愛媛県",null,null,null,null,null,null,null,null,null,null,null,null,null,null,null,null,null,null,null,null,null,null,"高知県","高知県教育委員会事務局","生涯学習課","高知県教育委員会事務局生涯学習課長殿",null,"大阪府",1,"大阪府教育庁","市町村教育室小中学校課","大阪府教育庁市町村教育室小中学校課長殿"]
[null,null,null,null,null,null,null,null,null,null,null,null,null,null,null,39,"高知県",null,null,null,null,null,null,null,null,null,null,null,null,null,null,null,null,null,null,null,null,null,null,"福岡県","福岡県教育庁　教育振興部","社会教育課","福岡県教育庁　教育振興部社会教育課長殿",null,"大阪府",2,"大阪府教育庁","私学課","大阪府教育庁私学課長殿"]
[null,null,null,null,null,null,null,null,null,null,null,null,null,null,null,40,"福岡県",null,null,null,null,null,null,null,null,null,null,null,null,null,null,null,null,null,null,null,null,null,null,"佐賀県","佐賀県教育庁","学校教育課","佐賀県教育庁学校教育課長殿",null,"大阪府",3,"大阪府教育庁","教育振興室　支援教育課","大阪府教育庁教育振興室　支援教育課長殿"]
[null,null,null,null,null,null,null,null,null,null,null,null,null,null,null,41,"佐賀県",null,null,null,null,null,null,null,null,null,null,null,null,null,null,null,null,null,null,null,null,null,null,"長崎県","長崎県教育庁","学芸文化課","長崎県教育庁学芸文化課長殿",null,"兵庫県",1,"兵庫県教育委員会事務局","義務教育課","兵庫県教育委員会事務局義務教育課長殿"]
[null,null,null,null,null,null,null,null,null,null,null,null,null,null,null,42,"長崎県",null,null,null,null,null,null,null,null,null,null,null,null,null,null,null,null,null,null,null,null,null,null,"熊本県","熊本県教育庁　教育総務局","文化課","熊本県教育庁　教育総務局文化課長殿",null,"兵庫県",2,"兵庫県","企画県民部管理局教育課","兵庫県企画県民部管理局教育課長殿"]
[null,null,null,null,null,null,null,null,null,null,null,null,null,null,null,43,"熊本県",null,null,null,null,null,null,null,null,null,null,null,null,null,null,null,null,null,null,null,null,null,null,"大分県","大分県教育庁","文化課","大分県教育庁文化課長殿",null,"奈良県",1,"奈良県教育委員会事務局","学ぶ力はぐくみ課","奈良県教育委員会事務局学ぶ力はぐくみ課長殿"]
[null,null,null,null,null,null,null,null,null,null,null,null,null,null,null,44,"大分県",null,null,null,null,null,null,null,null,null,null,null,null,null,null,null,null,null,null,null,null,null,null,"宮崎県","宮崎県教育庁","義務教育課","宮崎県教育庁義務教育課長殿",null,"和歌山県",1,"和歌山県教育庁","学校教育局　県立学校教育課","和歌山県教育庁学校教育局　県立学校教育課長殿"]
[null,null,null,null,null,null,null,null,null,null,null,null,null,null,null,45,"宮崎県",null,null,null,null,null,null,null,null,null,null,null,null,null,null,null,null,null,null,null,null,null,null,"鹿児島県","鹿児島県教育庁","義務教育課","鹿児島県教育庁義務教育課長殿",null,"鳥取県",1,"鳥取県教育委員会事務局","小中学校課","鳥取県教育委員会事務局小中学校課長殿"]
[null,null,null,null,null,null,null,null,null,null,null,null,null,null,null,46,"鹿児島県",null,null,null,null,null,null,null,null,null,null,null,null,null,null,null,null,null,null,null,null,null,null,"沖縄県","沖縄県教育庁","文化財課","沖縄県教育庁文化財課長殿",null,"島根県",1,"島根県教育庁","教育指導課","島根県教育庁教育指導課長殿"]
[null,null,null,null,null,null,null,null,null,null,null,null,null,null,null,47,"沖縄県",null,null,null,null,null,null,null,null,null,null,null,null,null,null,null,null,null,null,null,null,null,null,"札幌市","札幌市教育委員会","学校教育部教育課程担当課","札幌市教育委員会学校教育部教育課程担当課長殿",null,"岡山県",1,"岡山県教育庁","義務教育課","岡山県教育庁義務教育課長殿"]
[null,null,null,null,null,null,null,null,null,null,null,null,null,null,null,48,"札幌市",null,null,null,null,null,null,null,null,null,null,null,null,null,null,null,null,null,null,null,null,null,null,"仙台市","仙台市教育局学校教育部","教育指導課","仙台市教育局学校教育部教育指導課長殿",null,"岡山県",2,"岡山県","総務部総務学事課","岡山県総務部総務学事課長殿"]
[null,null,null,null,null,null,null,null,null,null,null,null,null,null,null,49,"仙台市",null,null,null,null,null,null,null,null,null,null,null,null,null,null,null,null,null,null,null,null,null,null,"さいたま市","さいたま市教育委員会","学校教育部指導1課","さいたま市教育委員会学校教育部指導1課長殿",null,"広島県",1,"広島県","環境県民局文化芸術課","広島県環境県民局文化芸術課長殿"]
[null,null,null,null,null,null,null,null,null,null,null,null,null,null,null,50,"さいたま市",null,null,null,null,null,null,null,null,null,null,null,null,null,null,null,null,null,null,null,null,null,null,"千葉市","千葉市教育委員会","学校教育部　教育指導課","千葉市教育委員会学校教育部　教育指導課長殿",null,"山口県",1,"山口県教育庁","義務教育課","山口県教育庁義務教育課長殿"]
[null,null,null,null,null,null,null,null,null,null,null,null,null,null,null,51,"千葉市",null,null,null,null,null,null,null,null,null,null,null,null,null,null,null,null,null,null,null,null,null,null,"横浜市","横浜市教育委員会事務局","学校教育企画部　小中学校企画課","横浜市教育委員会事務局学校教育企画部　小中学校企画課長殿",null,"徳島県",1,"徳島県教育員会","学校教育課","徳島県教育員会学校教育課長殿"]
[null,null,null,null,null,null,null,null,null,null,null,null,null,null,null,52,"横浜市",null,null,null,null,null,null,null,null,null,null,null,null,null,null,null,null,null,null,null,null,null,null,"川崎市","川崎市総合教育センター","カリキュラムセンター","川崎市総合教育センターカリキュラムセンター長殿",null,"香川県",1,"香川県教育委員会事務局","義務教育課","香川県教育委員会事務局義務教育課長殿"]
[null,null,null,null,null,null,null,null,null,null,null,null,null,null,null,53,"川崎市",null,null,null,null,null,null,null,null,null,null,null,null,null,null,null,null,null,null,null,null,null,null,"相模原市","相模原市教育委員会","学校教育課","相模原市教育委員会学校教育課長殿",null,"香川県",2,"香川県教育委員会事務局","高校教育課","香川県教育委員会事務局高校教育課長殿"]
[null,null,null,null,null,null,null,null,null,null,null,null,null,null,null,54,"相模原市",null,null,null,null,null,null,null,null,null,null,null,null,null,null,null,null,null,null,null,null,null,null,"新潟市","新潟市教育委員会","学校支援課","新潟市教育委員会学校支援課長殿",null,"愛媛県",1,"愛媛県教育委員会","義務教育課","愛媛県教育委員会義務教育課長殿"]
[null,null,null,null,null,null,null,null,null,null,null,null,null,null,null,55,"新潟市",null,null,null,null,null,null,null,null,null,null,null,null,null,null,null,null,null,null,null,null,null,null,"静岡市","静岡市教育委員会事務局","教育センター（静岡市教育センター）","静岡市教育委員会事務局教育センター（静岡市教育センター）長殿",null,"高知県",1,"高知県教育委員会事務局","小中学校課","高知県教育委員会事務局小中学校課長殿"]
[null,null,null,null,null,null,null,null,null,null,null,null,null,null,null,56,"静岡市",null,null,null,null,null,null,null,null,null,null,null,null,null,null,null,null,null,null,null,null,null,null,"浜松市","浜松市教育委員会","学校教育部　指導課","浜松市教育委員会学校教育部　指導課長殿",null,"福岡県",1,"福岡県教育庁","教育振興部義務教育課","福岡県教育庁教育振興部義務教育課長殿"]
[null,null,null,null,null,null,null,null,null,null,null,null,null,null,null,57,"浜松市",null,null,null,null,null,null,null,null,null,null,null,null,null,null,null,null,null,null,null,null,null,null,"名古屋市","名古屋市教育委員会","指導部","名古屋市教育委員会指導部長殿",null,"福岡県",2,"福岡県","人づくり・県民生活部私学振興・青少年育成局私学振興課","福岡県人づくり・県民生活部私学振興・青少年育成局私学振興課長殿"]
[null,null,null,null,null,null,null,null,null,null,null,null,null,null,null,58,"名古屋市",null,null,null,null,null,null,null,null,null,null,null,null,null,null,null,null,null,null,null,null,null,null,"京都市","京都市教育委員会","指導部　学校指導課　","京都市教育委員会指導部　学校指導課　長殿",null,"福岡県",3,"福岡県教育庁","教育振興部特別支援教育課","福岡県教育庁教育振興部特別支援教育課長殿"]
[null,null,null,null,null,null,null,null,null,null,null,null,null,null,null,59,"京都市",null,null,null,null,null,null,null,null,null,null,null,null,null,null,null,null,null,null,null,null,null,null,"大阪市","大阪市教育委員会事務局","指導部","大阪市教育委員会事務局指導部長殿",null,"福岡県",4,"福岡県教育庁","教育振興部高校教育課","福岡県教育庁教育振興部高校教育課長殿"]
[null,null,null,null,null,null,null,null,null,null,null,null,null,null,null,60,"大阪市",null,null,null,null,null,null,null,null,null,null,null,null,null,null,null,null,null,null,null,null,null,null,"堺市","堺市教育委員会事務局","学校教育部学校指導課","堺市教育委員会事務局学校教育部学校指導課長殿",null,"佐賀県",1,"佐賀県","学校教育課","佐賀県学校教育課長殿"]
[null,null,null,null,null,null,null,null,null,null,null,null,null,null,null,61,"堺市",null,null,null,null,null,null,null,null,null,null,null,null,null,null,null,null,null,null,null,null,null,null,"神戸市","神戸市教育委員会事務局","学校教育部　学校教育課","神戸市教育委員会事務局学校教育部　学校教育課長殿",null,"佐賀県",2,"佐賀県","法務私学課","佐賀県法務私学課長殿"]
[null,null,null,null,null,null,null,null,null,null,null,null,null,null,null,62,"神戸市",null,null,null,null,null,null,null,null,null,null,null,null,null,null,null,null,null,null,null,null,null,null,"岡山市","岡山市教育委員会事務局学校教育部","指導課","岡山市教育委員会事務局学校教育部指導課長殿",null,"長崎県",1,"長崎県教育庁","学芸文化課","長崎県教育庁学芸文化課長殿"]
[null,null,null,null,null,null,null,null,null,null,null,null,null,null,null,63,"岡山市",null,null,null,null,null,null,null,null,null,null,null,null,null,null,null,null,null,null,null,null,null,null,"広島市","広島市教育委員会","学校教育部指導第一課","広島市教育委員会学校教育部指導第一課長殿",null,"熊本県",1,"熊本県教育庁","教育総務局文化課","熊本県教育庁教育総務局文化課長殿"]
[null,null,null,null,null,null,null,null,null,null,null,null,null,null,null,64,"広島市",null,null,null,null,null,null,null,null,null,null,null,null,null,null,null,null,null,null,null,null,null,null,"北九州市","北九州市教育委員会","学校教育部　学校経営・教育指導課","北九州市教育委員会学校教育部　学校経営・教育指導課長殿",null,"大分県",1,"大分県教育庁","義務教育課","大分県教育庁義務教育課長殿"]
[null,null,null,null,null,null,null,null,null,null,null,null,null,null,null,65,"北九州市",null,null,null,null,null,null,null,null,null,null,null,null,null,null,null,null,null,null,null,null,null,null,"福岡市","福岡市教育委員会","指導部小学校教育課",{"$f":"AO66&AP66&\"長殿\"","v":"福岡市教育委員会指導部小学校教育課長殿"},null,"宮崎県",1,"宮崎県教育庁","義務教育課",{"$f":"AU66&AV66&\"長殿\"","v":"宮崎県教育庁義務教育課長殿"}]
[null,null,null,null,null,null,null,null,null,null,null,null,null,null,null,66,"福岡市",null,null,null,null,null,null,null,null,null,null,null,null,null,null,null,null,null,null,null,null,null,null,"熊本市","熊本市教育委員会事務局","学校教育部指導課",{"$f":"AO67&AP67&\"長殿\"","v":"熊本市教育委員会事務局学校教育部指導課長殿"},null,"鹿児島県",1,"鹿児島県教育庁","義務教育課","鹿児島県教育庁義務教育課長殿"]
[null,null,null,null,null,null,null,null,null,null,null,null,null,null,null,67,"熊本市",null,null,null,null,null,null,null,null,null,null,null,null,null,null,null,null,null,null,null,null,null,null,null,null,null,null,null,"沖縄県",1,"沖縄県教育庁","義務教育課","沖縄県教育庁義務教育課長殿"]
[null,null,null,null,null,null,null,null,null,null,null,null,null,null,null,null,null,null,null,null,null,null,null,null,null,null,null,null,null,null,null,null,null,null,null,null,null,null,null,null,null,null,null,null,"沖縄県",2,"沖縄県教育庁","県立学校教育課","沖縄県教育庁県立学校教育課長殿"]
[null,null,null,null,null,null,null,null,null,null,null,null,null,null,null,null,null,null,null,null,null,null,null,null,null,null,null,null,null,null,null,null,null,null,null,null,null,null,null,null,null,null,null,null,"札幌市",1,"札幌市教育委員会","学校教育部教育課程担当課","札幌市教育委員会学校教育部教育課程担当課長殿"]
[null,null,null,null,null,null,null,null,null,null,null,null,null,null,null,null,null,null,null,null,null,null,null,null,null,null,null,null,null,null,null,null,null,null,null,null,null,null,null,null,null,null,null,null,"仙台市",1,"仙台市教育局","学校教育部教育指導課","仙台市教育局学校教育部教育指導課長殿"]
[null,null,null,null,null,null,null,null,null,null,null,null,null,null,null,null,null,null,null,null,null,null,null,null,null,null,null,null,null,null,null,null,null,null,null,null,null,null,null,null,null,null,null,null,"さいたま市",1,"さいたま市教育委員会","学校教育部指導1課","さいたま市教育委員会学校教育部指導1課長殿"]
[null,null,null,null,null,null,null,null,null,null,null,null,null,null,null,null,null,null,null,null,null,null,null,null,null,null,null,null,null,null,null,null,null,null,null,null,null,null,null,null,null,null,null,null,"千葉市",1,"千葉市教育委員会","学校教育部教育指導課","千葉市教育委員会学校教育部教育指導課長殿"]
[null,null,null,null,null,null,null,null,null,null,null,null,null,null,null,null,null,null,null,null,null,null,null,null,null,null,null,null,null,null,null,null,null,null,null,null,null,null,null,null,null,null,null,null,"横浜市",1,"横浜市教育委員会事務局","学校教育企画部小中学校企画課","横浜市教育委員会事務局学校教育企画部小中学校企画課長殿"]
[null,null,null,null,null,null,null,null,null,null,null,null,null,null,null,null,null,null,null,null,null,null,null,null,null,null,null,null,null,null,null,null,null,null,null,null,null,null,null,null,null,null,null,null,"川崎市",1,"川崎市総合教育センター","カリキュラムセンター","川崎市総合教育センターカリキュラムセンター長殿"]
[null,null,null,null,null,null,null,null,null,null,null,null,null,null,null,null,null,null,null,null,null,null,null,null,null,null,null,null,null,null,null,null,null,null,null,null,null,null,null,null,null,null,null,null,"相模原市",1,"相模原市教育委員会","学校教育課","相模原市教育委員会学校教育課長殿"]
[null,null,null,null,null,null,null,null,null,null,null,null,null,null,null,null,null,null,null,null,null,null,null,null,null,null,null,null,null,null,null,null,null,null,null,null,null,null,null,null,null,null,null,null,"新潟市",1,"新潟市教育委員会","学校支援課","新潟市教育委員会学校支援課長殿"]
[null,null,null,null,null,null,null,null,null,null,null,null,null,null,null,null,null,null,null,null,null,null,null,null,null,null,null,null,null,null,null,null,null,null,null,null,null,null,null,null,null,null,null,null,"静岡市",1,"静岡市教育委員会事務局","教育センター(静岡市教育センター)","静岡市教育委員会事務局教育センター(静岡市教育センター)長殿"]
[null,null,null,null,null,null,null,null,null,null,null,null,null,null,null,null,null,null,null,null,null,null,null,null,null,null,null,null,null,null,null,null,null,null,null,null,null,null,null,null,null,null,null,null,"浜松市",1,"浜松市教育委員会","学校教育部指導課","浜松市教育委員会学校教育部指導課長殿"]
[null,null,null,null,null,null,null,null,null,null,null,null,null,null,null,null,null,null,null,null,null,null,null,null,null,null,null,null,null,null,null,null,null,null,null,null,null,null,null,null,null,null,null,null,"名古屋市",1,"名古屋市教育委員会","指導部","名古屋市教育委員会指導部長殿"]
[null,null,null,null,null,null,null,null,null,null,null,null,null,null,null,null,null,null,null,null,null,null,null,null,null,null,null,null,null,null,null,null,null,null,null,null,null,null,null,null,null,null,null,null,"京都市",1,"京都市教育委員会","指導部学校指導課","京都市教育委員会指導部学校指導課長殿"]
[null,null,null,null,null,null,null,null,null,null,null,null,null,null,null,null,null,null,null,null,null,null,null,null,null,null,null,null,null,null,null,null,null,null,null,null,null,null,null,null,null,null,null,null,"大阪市",1,"大阪市教育委員会事務局","指導部","大阪市教育委員会事務局指導部長殿"]
[null,null,null,null,null,null,null,null,null,null,null,null,null,null,null,null,null,null,null,null,null,null,null,null,null,null,null,null,null,null,null,null,null,null,null,null,null,null,null,null,null,null,null,null,"堺市",1,"堺市教育委員会事務局","学校教育部学校指導課","堺市教育委員会事務局学校教育部学校指導課長殿"]
[null,null,null,null,null,null,null,null,null,null,null,null,null,null,null,null,null,null,null,null,null,null,null,null,null,null,null,null,null,null,null,null,null,null,null,null,null,null,null,null,null,null,null,null,"神戸市",1,"神戸市教育委員会","学校教育部学校教育課","神戸市教育委員会学校教育部学校教育課長殿"]
[null,null,null,null,null,null,null,null,null,null,null,null,null,null,null,null,null,null,null,null,null,null,null,null,null,null,null,null,null,null,null,null,null,null,null,null,null,null,null,null,null,null,null,null,"岡山市",1,"岡山市教育委員会事務局","学校教育部指導課","岡山市教育委員会事務局学校教育部指導課長殿"]
[null,null,null,null,null,null,null,null,null,null,null,null,null,null,null,null,null,null,null,null,null,null,null,null,null,null,null,null,null,null,null,null,null,null,null,null,null,null,null,null,null,null,null,null,"広島市",1,"広島市教育委員会","学校教育部指導第一課","広島市教育委員会学校教育部指導第一課長殿"]
[null,null,null,null,null,null,null,null,null,null,null,null,null,null,null,null,null,null,null,null,null,null,null,null,null,null,null,null,null,null,null,null,null,null,null,null,null,null,null,null,null,null,null,null,"北九州市",1,"北九州市教育委員会","学校教育部　学校経営・教育指導課","北九州市教育委員会学校教育部　学校経営・教育指導課長殿"]
[null,null,null,null,null,null,null,null,null,null,null,null,null,null,null,null,null,null,null,null,null,null,null,null,null,null,null,null,null,null,null,null,null,null,null,null,null,null,null,null,null,null,null,null,"福岡市",1,"福岡市教育委員会","指導部小学校教育課","福岡市教育委員会指導部小学校教育課長殿"]
[null,null,null,null,null,null,null,null,null,null,null,null,null,null,null,null,null,null,null,null,null,null,null,null,null,null,null,null,null,null,null,null,null,null,null,null,null,null,null,null,null,null,null,null,"熊本市",1,"熊本市教育委員会事務局","学校教育部指導課","熊本市教育委員会事務局学校教育部指導課長殿"]
[null,null,null,null,null,null,null,null,null,null,null,null,null,null,null,null,null,null,null,null,null,null,null,null,null,null,null,null,null,null,null,null,null,null,null,null,null,null,null,null,null,null,null,null,"学芸大",1,"国立大学法人東京学芸大学","附属学校課","国立大学法人東京学芸大学附属学校課長殿"]
[null,null,null,null,null,null,null,null,null,null,null,null,null,null,null,null,null,null,null,null,null,null,null,null,null,null,null,null,null,null,null,null,null,null,null,null,null,null,null,null,null,null,null,null,"筑波大",1,"国立大学法人筑波大学","東京キャンパス事務部企画推進課","国立大学法人筑波大学東京キャンパス事務部企画推進課長殿"]